BEGIN:VCALENDAR
VERSION:2.0
PRODID:-//Wayne Senior Center - ECPv6.15.20//NONSGML v1.0//EN
CALSCALE:GREGORIAN
METHOD:PUBLISH
X-WR-CALNAME:Wayne Senior Center
X-ORIGINAL-URL:https://wayneseniorcenter.org
X-WR-CALDESC:Events for Wayne Senior Center
REFRESH-INTERVAL;VALUE=DURATION:PT1H
X-Robots-Tag:noindex
X-PUBLISHED-TTL:PT1H
BEGIN:VTIMEZONE
TZID:UTC
BEGIN:STANDARD
TZOFFSETFROM:+0000
TZOFFSETTO:+0000
TZNAME:UTC
DTSTART:20240101T000000
END:STANDARD
END:VTIMEZONE
BEGIN:VEVENT
DTSTART;TZID=UTC:20250107T123000
DTEND;TZID=UTC:20250107T133000
DTSTAMP:20260421T184730
CREATED:20241217T202015Z
LAST-MODIFIED:20241217T202015Z
UID:14587-1736253000-1736256600@wayneseniorcenter.org
SUMMARY:Mindfulness
DESCRIPTION:Practicing mindfulness provides countless benefits to our overall well-being. Join instructor Liz for an hour of virtual mindfulness.
URL:https://wayneseniorcenter.org/event/mindfulness-12/
END:VEVENT
BEGIN:VEVENT
DTSTART;TZID=UTC:20250108T103000
DTEND;TZID=UTC:20250108T120000
DTSTAMP:20260421T184730
CREATED:20241217T202121Z
LAST-MODIFIED:20241218T135713Z
UID:14592-1736332200-1736337600@wayneseniorcenter.org
SUMMARY:iPhone Fundamentals
DESCRIPTION:In this iPhone intro\, we’ll cover the basics of getting around and learn how to customize our phones to suit our needs. Learn more about your Apple Account\, touchscreen ‘gestures’ and the phones various buttons\, using the Control Center\, adjusting common settings like text-size and notifications\, and special built-in features like Find My Phone and Emergency SOS. Bring your iPhone and your AppleID password to follow along.
URL:https://wayneseniorcenter.org/event/iphone-fundamentals/
END:VEVENT
BEGIN:VEVENT
DTSTART;TZID=UTC:20250108T110000
DTEND;TZID=UTC:20250108T120000
DTSTAMP:20260421T184730
CREATED:20241217T202018Z
LAST-MODIFIED:20241217T202018Z
UID:14591-1736334000-1736337600@wayneseniorcenter.org
SUMMARY:Soul Line Dancing
DESCRIPTION:Kenny James will get you moving and grooving in a fun\, easy to learn dance class. No experience necessary – all can join. $3 members / $6 non-members.
URL:https://wayneseniorcenter.org/event/soul-line-dancing/
END:VEVENT
BEGIN:VEVENT
DTSTART;TZID=UTC:20250108T123000
DTEND;TZID=UTC:20250108T133000
DTSTAMP:20260421T184730
CREATED:20241217T202017Z
LAST-MODIFIED:20241217T202017Z
UID:14590-1736339400-1736343000@wayneseniorcenter.org
SUMMARY:Silver Sneakers Classic
DESCRIPTION:Focus on strengthening muscles and increasing range of motion using light weights\, stretch bands\, and exercise balls.
URL:https://wayneseniorcenter.org/event/silver-sneakers-classic-22/
END:VEVENT
BEGIN:VEVENT
DTSTART;TZID=UTC:20250108T123000
DTEND;TZID=UTC:20250108T133000
DTSTAMP:20260421T184730
CREATED:20241217T202121Z
LAST-MODIFIED:20241217T202121Z
UID:14593-1736339400-1736343000@wayneseniorcenter.org
SUMMARY:Fooling with Ukes
DESCRIPTION:Dust off your ukes and join Barbara Van Clief (Barley) for a few practice sessions. Learn to play various popular songs with a group of individuals who share your passion for music!
URL:https://wayneseniorcenter.org/event/fooling-with-ukes-7/
END:VEVENT
BEGIN:VEVENT
DTSTART;TZID=UTC:20250109T090000
DTEND;TZID=UTC:20250109T110000
DTSTAMP:20260421T184730
CREATED:20241217T202122Z
LAST-MODIFIED:20241217T202122Z
UID:14594-1736413200-1736420400@wayneseniorcenter.org
SUMMARY:Blood Pressure Screenings
DESCRIPTION:Are you trying to keep track of your blood pressure readings? Have questions about a medication or just need a listening ear? Stop by and speak 1:1 with a nurse.
URL:https://wayneseniorcenter.org/event/blood-pressure-screenings-7/
END:VEVENT
BEGIN:VEVENT
DTSTART;TZID=UTC:20250109T101500
DTEND;TZID=UTC:20250109T110000
DTSTAMP:20260421T184730
CREATED:20241217T202123Z
LAST-MODIFIED:20241217T202123Z
UID:14596-1736417700-1736420400@wayneseniorcenter.org
SUMMARY:New Year's Jeopardy
DESCRIPTION:Test your knowledge with our fun New Year’s trivia!
URL:https://wayneseniorcenter.org/event/new-years-jeopardy/
END:VEVENT
BEGIN:VEVENT
DTSTART;TZID=UTC:20250109T110000
DTEND;TZID=UTC:20250109T120000
DTSTAMP:20260421T184730
CREATED:20241217T202235Z
LAST-MODIFIED:20241217T202235Z
UID:14597-1736420400-1736424000@wayneseniorcenter.org
SUMMARY:Sit\, Move\, Stretch
DESCRIPTION:This class offers seated or standing: cardio movement\, strengthening\, deep breathing\, and stretching. In-Person fees – free for WSC members\, $3 for non-members.
URL:https://wayneseniorcenter.org/event/sit-move-stretch-24/
END:VEVENT
BEGIN:VEVENT
DTSTART;TZID=UTC:20250109T120000
DTEND;TZID=UTC:20250109T130000
DTSTAMP:20260421T184730
CREATED:20241217T202236Z
LAST-MODIFIED:20241217T202236Z
UID:14598-1736424000-1736427600@wayneseniorcenter.org
SUMMARY:The Men's Group
DESCRIPTION:Catch up with friends over lunch and discuss topics related to men’s lives – hobbies\, family stories\, retirement\, career reflections\, mental & physical health\, or whatever else is on your mind. Call to reserve a Center lunch\, bring your own\, or just stop by to chat.
URL:https://wayneseniorcenter.org/event/the-mens-group-6/
END:VEVENT
BEGIN:VEVENT
DTSTART;TZID=UTC:20250109T130000
DTEND;TZID=UTC:20250109T150000
DTSTAMP:20260421T184730
CREATED:20241217T202123Z
LAST-MODIFIED:20241217T202123Z
UID:14595-1736427600-1736434800@wayneseniorcenter.org
SUMMARY:Cards and Games: Open Play
DESCRIPTION:Join us for an afternoon playing games of your choice- Poker\, gin rummy\, pinochle\, mahjong etc. Meet a new friend and start a game of your own. Mahjong teachers/leaders feel free to bring your game set!
URL:https://wayneseniorcenter.org/event/cards-and-games-open-play-13/
END:VEVENT
BEGIN:VEVENT
DTSTART;TZID=UTC:20250110T093000
DTEND;TZID=UTC:20250110T103000
DTSTAMP:20260421T184730
CREATED:20241217T202237Z
LAST-MODIFIED:20241217T202237Z
UID:14600-1736501400-1736505000@wayneseniorcenter.org
SUMMARY:Senior Circuit
DESCRIPTION:Join us for a dynamic strength-building\, full-body workout utilizing bands\, weights\, and balls as we cycle through various stations.
URL:https://wayneseniorcenter.org/event/senior-circuit-12/
END:VEVENT
BEGIN:VEVENT
DTSTART;TZID=UTC:20250110T103000
DTEND;TZID=UTC:20250110T113000
DTSTAMP:20260421T184730
CREATED:20241217T202236Z
LAST-MODIFIED:20241217T202236Z
UID:14599-1736505000-1736508600@wayneseniorcenter.org
SUMMARY:Chair Yoga
DESCRIPTION:A well-rounded class that will help with balance\, strengthening\, and relaxation. Have a sturdy chair available. All abilities welcome. In-Person fees – $3 for WSC members\, $6 for non-members.
URL:https://wayneseniorcenter.org/event/chair-yoga-13/
END:VEVENT
BEGIN:VEVENT
DTSTART;TZID=UTC:20250113T100000
DTEND;TZID=UTC:20250113T110000
DTSTAMP:20260421T184730
CREATED:20241217T202436Z
LAST-MODIFIED:20241217T202436Z
UID:14603-1736762400-1736766000@wayneseniorcenter.org
SUMMARY:Silver Sneakers Classic
DESCRIPTION:Focus on strengthening muscles and increasing range of motion using light weights\, stretch bands\, and exercise balls.
URL:https://wayneseniorcenter.org/event/silver-sneakers-classic-23/
END:VEVENT
BEGIN:VEVENT
DTSTART;TZID=UTC:20250113T100000
DTEND;TZID=UTC:20250113T120000
DTSTAMP:20260421T184730
CREATED:20241217T202238Z
LAST-MODIFIED:20241217T202238Z
UID:14601-1736762400-1736769600@wayneseniorcenter.org
SUMMARY:Refresher Bridge
DESCRIPTION:Brush up on your bridge skills with Lawrie Stetson and Dave Heron. Must have previous bridge experience.
URL:https://wayneseniorcenter.org/event/refresher-bridge-14/
END:VEVENT
BEGIN:VEVENT
DTSTART;TZID=UTC:20250113T100000
DTEND;TZID=UTC:20250113T120000
DTSTAMP:20260421T184730
CREATED:20241217T202437Z
LAST-MODIFIED:20241217T202437Z
UID:14605-1736762400-1736769600@wayneseniorcenter.org
SUMMARY:WSC Quilters
DESCRIPTION:WSC quiliting club. All skill levels Welcome. Come by or RSVP by calling the center – (610) 688-6246
URL:https://wayneseniorcenter.org/event/wsc-quilters-14/
END:VEVENT
BEGIN:VEVENT
DTSTART;TZID=UTC:20250113T110000
DTEND;TZID=UTC:20250113T120000
DTSTAMP:20260421T184730
CREATED:20241217T204327Z
LAST-MODIFIED:20241217T204327Z
UID:14659-1736766000-1736769600@wayneseniorcenter.org
SUMMARY:Soul Line Dancing
DESCRIPTION:Kenny James will get you moving and grooving in a fun\, easy to learn dance class. No experience necessary – all can join. $3 members / $6 non-members.
URL:https://wayneseniorcenter.org/event/soul-line-dancing-5/
END:VEVENT
BEGIN:VEVENT
DTSTART;TZID=UTC:20250113T123000
DTEND;TZID=UTC:20250113T133000
DTSTAMP:20260421T184730
CREATED:20241217T202436Z
LAST-MODIFIED:20241217T202436Z
UID:14604-1736771400-1736775000@wayneseniorcenter.org
SUMMARY:Tai Chi
DESCRIPTION:Tai Chi is a gentle form of exercise involving a series of graceful movements performed in a slow\, focused manner and accompanied by deep breathing. Excellent for strengthening balance and promoting stress reduction. In-Person fees – $5 for WSC members\, $10 for non-members.
URL:https://wayneseniorcenter.org/event/tai-chi-27/
END:VEVENT
BEGIN:VEVENT
DTSTART;TZID=UTC:20250113T140000
DTEND;TZID=UTC:20250113T150000
DTSTAMP:20260421T184730
CREATED:20241217T202435Z
LAST-MODIFIED:20241217T202435Z
UID:14602-1736776800-1736780400@wayneseniorcenter.org
SUMMARY:Seasons Grief & Loss Group
DESCRIPTION:Join others in a safe space to listen\, share\, and heal in conversation about losses you have experienced. We will learn how grief can affect our everyday life and ways to manage the range of feelings and symptoms. Facilitated by Holisticare Hospice.
URL:https://wayneseniorcenter.org/event/seasons-grief-loss-group-3/
END:VEVENT
BEGIN:VEVENT
DTSTART;TZID=UTC:20250114T090000
DTEND;TZID=UTC:20250114T120000
DTSTAMP:20260421T184730
CREATED:20241217T202507Z
LAST-MODIFIED:20241219T203256Z
UID:14607-1736845200-1736856000@wayneseniorcenter.org
SUMMARY:Community Wellness Fair and Mini Farmer's Market
DESCRIPTION:Join us for a variety of vendor tables\, fitness and wellness demonstrations\, and fresh produce – perfect for jumpstarting your New Year’s resolutions.
URL:https://wayneseniorcenter.org/event/community-wellness-fair-and-mini-farmers-market/
END:VEVENT
BEGIN:VEVENT
DTSTART;TZID=UTC:20250114T123000
DTEND;TZID=UTC:20250114T133000
DTSTAMP:20260421T184730
CREATED:20241217T202438Z
LAST-MODIFIED:20241217T202438Z
UID:14606-1736857800-1736861400@wayneseniorcenter.org
SUMMARY:Mindfulness
DESCRIPTION:Practicing mindfulness provides countless benefits to our overall well-being. Join instructor Liz for an hour of virtual mindfulness.
URL:https://wayneseniorcenter.org/event/mindfulness-13/
END:VEVENT
BEGIN:VEVENT
DTSTART;TZID=UTC:20250115T103000
DTEND;TZID=UTC:20250115T110000
DTSTAMP:20260421T184730
CREATED:20241217T202508Z
LAST-MODIFIED:20241217T202508Z
UID:14608-1736937000-1736938800@wayneseniorcenter.org
SUMMARY:Large Jenga Game
DESCRIPTION:Test your Jenga skills by trying to remove one block at a time without making the tower fall over!
URL:https://wayneseniorcenter.org/event/large-jenga-game-4/
END:VEVENT
BEGIN:VEVENT
DTSTART;TZID=UTC:20250115T110000
DTEND;TZID=UTC:20250115T120000
DTSTAMP:20260421T184730
CREATED:20241217T202508Z
LAST-MODIFIED:20241219T203447Z
UID:14609-1736938800-1736942400@wayneseniorcenter.org
SUMMARY:Pageturner's Bookclub
DESCRIPTION:This month’s selection is Wandering Stars: A Novel by Tommy Orange. Enjoy lively book conversation with a Radnor Memorial Library librarian. All are welcome! Call for more info – 610-688-6246
URL:https://wayneseniorcenter.org/event/pageturners-bookclub-4/
END:VEVENT
BEGIN:VEVENT
DTSTART;TZID=UTC:20250115T110000
DTEND;TZID=UTC:20250115T120000
DTSTAMP:20260421T184730
CREATED:20241217T202510Z
LAST-MODIFIED:20241217T202510Z
UID:14611-1736938800-1736942400@wayneseniorcenter.org
SUMMARY:Soul Line Dancing
DESCRIPTION:Kenny James will get you moving and grooving in a fun\, easy to learn dance class. No experience necessary – all can join. $3 members / $6 non-members.
URL:https://wayneseniorcenter.org/event/soul-line-dancing-2/
END:VEVENT
BEGIN:VEVENT
DTSTART;TZID=UTC:20250115T123000
DTEND;TZID=UTC:20250115T133000
DTSTAMP:20260421T184730
CREATED:20241217T202509Z
LAST-MODIFIED:20241217T202509Z
UID:14610-1736944200-1736947800@wayneseniorcenter.org
SUMMARY:Silver Sneakers Classic
DESCRIPTION:Focus on strengthening muscles and increasing range of motion using light weights\, stretch bands\, and exercise balls.
URL:https://wayneseniorcenter.org/event/silver-sneakers-classic-24/
END:VEVENT
BEGIN:VEVENT
DTSTART;TZID=UTC:20250115T123000
DTEND;TZID=UTC:20250115T133000
DTSTAMP:20260421T184730
CREATED:20241217T202708Z
LAST-MODIFIED:20241217T202708Z
UID:14612-1736944200-1736947800@wayneseniorcenter.org
SUMMARY:Fooling with Ukes
DESCRIPTION:Dust off your ukes and join Barbara Van Clief (Barley) for a few practice sessions. Learn to play various popular songs with a group of individuals who share your passion for music!
URL:https://wayneseniorcenter.org/event/fooling-with-ukes-8/
END:VEVENT
BEGIN:VEVENT
DTSTART;TZID=UTC:20250116T093000
DTEND;TZID=UTC:20250116T100000
DTSTAMP:20260421T184730
CREATED:20241217T202710Z
LAST-MODIFIED:20241219T203913Z
UID:14615-1737019800-1737021600@wayneseniorcenter.org
SUMMARY:Geography Trivia
DESCRIPTION:Put your mind to the test with some fun geography trivia.
URL:https://wayneseniorcenter.org/event/geography-trivia/
END:VEVENT
BEGIN:VEVENT
DTSTART;TZID=UTC:20250116T101500
DTEND;TZID=UTC:20250116T110000
DTSTAMP:20260421T184730
CREATED:20241217T202711Z
LAST-MODIFIED:20241219T203935Z
UID:14616-1737022500-1737025200@wayneseniorcenter.org
SUMMARY:Meet the Widener OTs
DESCRIPTION:Join us as we welcome and get to know our new OT students\, Hannah and Annie. We look forward to having them here with us!
URL:https://wayneseniorcenter.org/event/meet-the-widener-ots/
END:VEVENT
BEGIN:VEVENT
DTSTART;TZID=UTC:20250116T110000
DTEND;TZID=UTC:20250116T120000
DTSTAMP:20260421T184730
CREATED:20241217T202709Z
LAST-MODIFIED:20241217T202709Z
UID:14614-1737025200-1737028800@wayneseniorcenter.org
SUMMARY:Sit\, Move\, Stretch
DESCRIPTION:This class offers seated or standing: cardio movement\, strengthening\, deep breathing\, and stretching. In-Person fees – free for WSC members\, $3 for non-members.
URL:https://wayneseniorcenter.org/event/sit-move-stretch-25/
END:VEVENT
BEGIN:VEVENT
DTSTART;TZID=UTC:20250116T120000
DTEND;TZID=UTC:20250116T130000
DTSTAMP:20260421T184730
CREATED:20250109T135618Z
LAST-MODIFIED:20250109T135618Z
UID:14717-1737028800-1737032400@wayneseniorcenter.org
SUMMARY:Table Magic
DESCRIPTION:Enjoy some lunchtime table magic!
URL:https://wayneseniorcenter.org/event/table-magic/
END:VEVENT
BEGIN:VEVENT
DTSTART;TZID=UTC:20250116T130000
DTEND;TZID=UTC:20250116T150000
DTSTAMP:20260421T184730
CREATED:20241217T202709Z
LAST-MODIFIED:20241217T202709Z
UID:14613-1737032400-1737039600@wayneseniorcenter.org
SUMMARY:Cards and Games: Open Play
DESCRIPTION:Join us for an afternoon playing games of your choice- Poker\, gin rummy\, pinochle\, mahjong etc. Meet a new friend and start a game of your own. Mahjong teachers/leaders feel free to bring your game set!
URL:https://wayneseniorcenter.org/event/cards-and-games-open-play-14/
END:VEVENT
END:VCALENDAR