BEGIN:VCALENDAR
VERSION:2.0
PRODID:-//Wayne Senior Center - ECPv6.15.20//NONSGML v1.0//EN
CALSCALE:GREGORIAN
METHOD:PUBLISH
X-ORIGINAL-URL:https://wayneseniorcenter.org
X-WR-CALDESC:Events for Wayne Senior Center
REFRESH-INTERVAL;VALUE=DURATION:PT1H
X-Robots-Tag:noindex
X-PUBLISHED-TTL:PT1H
BEGIN:VTIMEZONE
TZID:UTC
BEGIN:STANDARD
TZOFFSETFROM:+0000
TZOFFSETTO:+0000
TZNAME:UTC
DTSTART:20240101T000000
END:STANDARD
END:VTIMEZONE
BEGIN:VEVENT
DTSTART;TZID=UTC:20250613T093000
DTEND;TZID=UTC:20250613T103000
DTSTAMP:20260421T220735
CREATED:20250603T193638Z
LAST-MODIFIED:20250603T193638Z
UID:15390-1749807000-1749810600@wayneseniorcenter.org
SUMMARY:Senior Circuit
DESCRIPTION:Join us for a dynamic strength-building\, full-body workout utilizing bands\, weights\, and balls as we cycle through various stations.
URL:https://wayneseniorcenter.org/event/senior-circuit-33/
END:VEVENT
BEGIN:VEVENT
DTSTART;TZID=UTC:20250613T103000
DTEND;TZID=UTC:20250613T113000
DTSTAMP:20260421T220735
CREATED:20250603T193452Z
LAST-MODIFIED:20250603T193452Z
UID:15354-1749810600-1749814200@wayneseniorcenter.org
SUMMARY:Chair Yoga
DESCRIPTION:A well-rounded class that will help with balance\, strengthening\, and relaxation. Have a sturdy chair available. All abilities welcome. In-Person fees – $3 for WSC members\, $6 for non-members.
URL:https://wayneseniorcenter.org/event/chair-yoga-34/
END:VEVENT
BEGIN:VEVENT
DTSTART;TZID=UTC:20250616T100000
DTEND;TZID=UTC:20250616T110000
DTSTAMP:20260421T220735
CREATED:20250603T193709Z
LAST-MODIFIED:20250603T193709Z
UID:15402-1750068000-1750071600@wayneseniorcenter.org
SUMMARY:Silver Sneakers Classic
DESCRIPTION:Focus on strengthening muscles and increasing range of motion using light weights\, stretch bands\, and exercise balls.
URL:https://wayneseniorcenter.org/event/silver-sneakers-classic-64/
END:VEVENT
BEGIN:VEVENT
DTSTART;TZID=UTC:20250616T100000
DTEND;TZID=UTC:20250616T120000
DTSTAMP:20260421T220735
CREATED:20250603T193623Z
LAST-MODIFIED:20250603T193623Z
UID:15386-1750068000-1750075200@wayneseniorcenter.org
SUMMARY:Refresher Bridge
DESCRIPTION:Brush up on your bridge skills with friends. Must have previous bridge experience.
URL:https://wayneseniorcenter.org/event/refresher-bridge-33/
END:VEVENT
BEGIN:VEVENT
DTSTART;TZID=UTC:20250616T100000
DTEND;TZID=UTC:20250616T120000
DTSTAMP:20260421T220735
CREATED:20250603T193908Z
LAST-MODIFIED:20250603T193908Z
UID:15440-1750068000-1750075200@wayneseniorcenter.org
SUMMARY:WSC Quilters
DESCRIPTION:WSC quiliting club. All skill levels Welcome. Come by or RSVP by calling the center – (610) 688-6246
URL:https://wayneseniorcenter.org/event/wsc-quilters-33/
END:VEVENT
BEGIN:VEVENT
DTSTART;TZID=UTC:20250616T110000
DTEND;TZID=UTC:20250616T120000
DTSTAMP:20260421T220735
CREATED:20250603T193807Z
LAST-MODIFIED:20250603T193807Z
UID:15419-1750071600-1750075200@wayneseniorcenter.org
SUMMARY:Soul Line Dancing
DESCRIPTION:Kenny James will get you moving and grooving in a fun\, easy to learn dance class. No experience necessary – all can join. $3 members / $6 non-members.
URL:https://wayneseniorcenter.org/event/soul-line-dancing-42/
END:VEVENT
BEGIN:VEVENT
DTSTART;TZID=UTC:20250617T093000
DTEND;TZID=UTC:20250617T104500
DTSTAMP:20260421T220735
CREATED:20250603T193554Z
LAST-MODIFIED:20250603T193554Z
UID:15378-1750152600-1750157100@wayneseniorcenter.org
SUMMARY:Fresh Start
DESCRIPTION:Join us for Fresh Start—our new\, nutritious and delicious breakfast program! Breakfast will be served every Tuesday and Thursdayfrom 9:30 AM to 10:45 AM. Cost is $3.\nMeals are available on a first-come\, first-served basis\, so be sure to arrive early!\n Please note: the menu is subject to change.
URL:https://wayneseniorcenter.org/event/fresh-start-4/
END:VEVENT
BEGIN:VEVENT
DTSTART;TZID=UTC:20250617T100000
DTEND;TZID=UTC:20250617T110000
DTSTAMP:20260421T220735
CREATED:20250603T193852Z
LAST-MODIFIED:20250603T193852Z
UID:15434-1750154400-1750158000@wayneseniorcenter.org
SUMMARY:Walking Club (Off-Site)
DESCRIPTION:Join WSC friends for a walk on the Radnor trail – weather permitting. Walkers meet at the trail parking lot (520 Conestoga Road). All abilities welcome. Wear comfortable walking shoes.
URL:https://wayneseniorcenter.org/event/walking-club-off-site-30/
END:VEVENT
BEGIN:VEVENT
DTSTART;TZID=UTC:20250617T103000
DTEND;TZID=UTC:20250617T110000
DTSTAMP:20260421T220735
CREATED:20250603T193523Z
LAST-MODIFIED:20250603T193523Z
UID:15366-1750156200-1750158000@wayneseniorcenter.org
SUMMARY:Large Jenga Game
DESCRIPTION:Test your Jenga skills by trying to remove one block at a time without making the tower fall over!
URL:https://wayneseniorcenter.org/event/large-jenga-game-10/
END:VEVENT
BEGIN:VEVENT
DTSTART;TZID=UTC:20250617T110000
DTEND;TZID=UTC:20250617T120000
DTSTAMP:20260421T220735
CREATED:20250603T193738Z
LAST-MODIFIED:20250603T193738Z
UID:15411-1750158000-1750161600@wayneseniorcenter.org
SUMMARY:Sit\, Move\, Stretch
DESCRIPTION:This class offers seated or standing: cardio movement\, strengthening\, deep breathing\, and stretching. In-Person fees – free for WSC members\, $3 for non-members.
URL:https://wayneseniorcenter.org/event/sit-move-stretch-66/
END:VEVENT
BEGIN:VEVENT
DTSTART;TZID=UTC:20250617T123000
DTEND;TZID=UTC:20250617T133000
DTSTAMP:20260421T220735
CREATED:20250603T193539Z
LAST-MODIFIED:20250603T193539Z
UID:15373-1750163400-1750167000@wayneseniorcenter.org
SUMMARY:Mindfulness
DESCRIPTION:Practicing mindfulness provides countless benefits to our overall well-being. Join instructor Liz for an hour of virtual mindfulness.
URL:https://wayneseniorcenter.org/event/mindfulness-34/
END:VEVENT
BEGIN:VEVENT
DTSTART;TZID=UTC:20250617T150000
DTEND;TZID=UTC:20250617T160000
DTSTAMP:20260421T220735
CREATED:20250603T193538Z
LAST-MODIFIED:20250603T193538Z
UID:15370-1750172400-1750176000@wayneseniorcenter.org
SUMMARY:Memoir Writing (Virtual)
DESCRIPTION:Join Sara Wenger\, MFA for a memoir writing workshop. Sara will share memoir excerpts as well as writing exercises to help you write your unique life experiences so they can be passed on to children\, grandchildren\, friends and others. No prior writing experience is necessary! The class is appropriate for both novice and seasoned writers
URL:https://wayneseniorcenter.org/event/memoir-writing-virtual-21/
END:VEVENT
BEGIN:VEVENT
DTSTART;TZID=UTC:20250618T100000
DTEND;TZID=UTC:20250618T110000
DTSTAMP:20260421T220735
CREATED:20250603T193653Z
LAST-MODIFIED:20250603T193653Z
UID:15396-1750240800-1750244400@wayneseniorcenter.org
SUMMARY:Silver Lining Clinics Wellness Series
DESCRIPTION:Join a licensed therapist from Silver Lining Clinics for a 6-week wellness group session designed specifically for older adults looking to boost emotional wellness\, manage life traditions\, and connect with others. Call 610-688-6246 to register!
URL:https://wayneseniorcenter.org/event/silver-lining-clinics-wellness-series-5/
END:VEVENT
BEGIN:VEVENT
DTSTART;TZID=UTC:20250618T110000
DTEND;TZID=UTC:20250618T120000
DTSTAMP:20260421T220735
CREATED:20250603T193609Z
LAST-MODIFIED:20250603T193609Z
UID:15382-1750244400-1750248000@wayneseniorcenter.org
SUMMARY:Pageturner's Bookclub
DESCRIPTION:Enjoy lively book conversation with a Radnor Memorial Library librarian. All are welcome! We will be discussing Beautyland by Marie-Helene Bertino. It’s a novel of startling originality about the fragility and resilience of life on our Earth and in our universe. It is a remarkable evocation of the feeling of being in exile at home\, and it introduces gentle\, unforgettable alien of our times.
URL:https://wayneseniorcenter.org/event/pageturners-bookclub-9/
END:VEVENT
BEGIN:VEVENT
DTSTART;TZID=UTC:20250618T111500
DTEND;TZID=UTC:20250618T120000
DTSTAMP:20260421T220735
CREATED:20250603T193809Z
LAST-MODIFIED:20250603T193809Z
UID:15422-1750245300-1750248000@wayneseniorcenter.org
SUMMARY:Soul Line Dancing
DESCRIPTION:Kenny James will get you moving and grooving in a fun\, easy to learn dance class. No experience necessary – all can join. $3 members / $6 non-members.
URL:https://wayneseniorcenter.org/event/soul-line-dancing-45/
END:VEVENT
BEGIN:VEVENT
DTSTART;TZID=UTC:20250618T123000
DTEND;TZID=UTC:20250618T133000
DTSTAMP:20260421T220735
CREATED:20250603T193509Z
LAST-MODIFIED:20250603T193509Z
UID:15363-1750249800-1750253400@wayneseniorcenter.org
SUMMARY:Fooling with Ukes
DESCRIPTION:Dust off your ukes and join Barbara Van Clief (Barley) for a few practice sessions. Learn to play various popular songs with a group of individuals who share your passion for music!
URL:https://wayneseniorcenter.org/event/fooling-with-ukes-26/
END:VEVENT
BEGIN:VEVENT
DTSTART;TZID=UTC:20250618T123000
DTEND;TZID=UTC:20250618T133000
DTSTAMP:20260421T220735
CREATED:20250603T193723Z
LAST-MODIFIED:20250603T193723Z
UID:15405-1750249800-1750253400@wayneseniorcenter.org
SUMMARY:Silver Sneakers Classic
DESCRIPTION:Focus on strengthening muscles and increasing range of motion using light weights\, stretch bands\, and exercise balls.
URL:https://wayneseniorcenter.org/event/silver-sneakers-classic-67/
END:VEVENT
BEGIN:VEVENT
DTSTART;TZID=UTC:20250618T140000
DTEND;TZID=UTC:20250618T140000
DTSTAMP:20260421T220735
CREATED:20250603T193823Z
LAST-MODIFIED:20250603T193823Z
UID:15426-1750255200-1750255200@wayneseniorcenter.org
SUMMARY:Tai Chi
DESCRIPTION:Tai Chi is a gentle form of exercise involving a series of graceful movements performed in a slow\, focused manner and accompanied by deep breathing. Excellent for strengthening balance and promoting stress reduction. In-Person fees – $5 for WSC members\, $10 for non-members.
URL:https://wayneseniorcenter.org/event/tai-chi-45/
END:VEVENT
BEGIN:VEVENT
DTSTART;TZID=UTC:20250619T093000
DTEND;TZID=UTC:20250619T104500
DTSTAMP:20260421T220735
CREATED:20250603T193608Z
LAST-MODIFIED:20250603T193608Z
UID:15379-1750325400-1750329900@wayneseniorcenter.org
SUMMARY:Fresh Start
DESCRIPTION:Join us for Fresh Start—our new\, nutritious and delicious breakfast program! Breakfast will be served every Tuesday and Thursdayfrom 9:30 AM to 10:45 AM. Cost is $3.\nMeals are available on a first-come\, first-served basis\, so be sure to arrive early!\n Please note: the menu is subject to change.
URL:https://wayneseniorcenter.org/event/fresh-start-5/
END:VEVENT
BEGIN:VEVENT
DTSTART;TZID=UTC:20250619T100000
DTEND;TZID=UTC:20250619T110000
DTSTAMP:20260421T220735
CREATED:20250603T193507Z
LAST-MODIFIED:20250603T193507Z
UID:15359-1750327200-1750330800@wayneseniorcenter.org
SUMMARY:Canvas Painting w/ Andrea
DESCRIPTION:Join Andrea for a step-by-step painting session where you’ll create your own summertime-themed masterpiece! No prior experience is necessary. Cost is $3.00 for both members and non-members.
URL:https://wayneseniorcenter.org/event/canvas-painting-w-andrea/
END:VEVENT
BEGIN:VEVENT
DTSTART;TZID=UTC:20250619T110000
DTEND;TZID=UTC:20250619T120000
DTSTAMP:20260421T220735
CREATED:20250603T193739Z
LAST-MODIFIED:20250603T193739Z
UID:15412-1750330800-1750334400@wayneseniorcenter.org
SUMMARY:Sit\, Move\, Stretch
DESCRIPTION:This class offers seated or standing: cardio movement\, strengthening\, deep breathing\, and stretching. In-Person fees – free for WSC members\, $3 for non-members.
URL:https://wayneseniorcenter.org/event/sit-move-stretch-67/
END:VEVENT
BEGIN:VEVENT
DTSTART;TZID=UTC:20250619T120000
DTEND;TZID=UTC:20250619T130000
DTSTAMP:20260421T220735
CREATED:20250603T193523Z
LAST-MODIFIED:20250603T193523Z
UID:15365-1750334400-1750338000@wayneseniorcenter.org
SUMMARY:Lunch & Learn w/ ClearCaptions
DESCRIPTION:Join us for pizza and to learn more about ClearCaptions—a service that provides telephone captioning to help seniors with hearing loss regain their independence and enjoy more meaningful conversations. You must register at the front desk or call 610-688-6246 to reserve your lunch.
URL:https://wayneseniorcenter.org/event/lunch-learn-w-clearcaptions/
END:VEVENT
BEGIN:VEVENT
DTSTART;TZID=UTC:20250619T120000
DTEND;TZID=UTC:20250619T130000
DTSTAMP:20260421T220735
CREATED:20250603T193837Z
LAST-MODIFIED:20250603T193837Z
UID:15429-1750334400-1750338000@wayneseniorcenter.org
SUMMARY:The Men's Group
DESCRIPTION:Catch up with friends over lunch and discuss topics related to men’s lives – hobbies\, family stories\, retirement\, career reflections\, mental & physical health\, or whatever else is on your mind. Call to reserve a Center lunch\, bring your own\, or just stop by to chat.
URL:https://wayneseniorcenter.org/event/the-mens-group-15/
END:VEVENT
BEGIN:VEVENT
DTSTART;TZID=UTC:20250619T130000
DTEND;TZID=UTC:20250619T150000
DTSTAMP:20260421T220735
CREATED:20250603T193438Z
LAST-MODIFIED:20250603T193438Z
UID:15350-1750338000-1750345200@wayneseniorcenter.org
SUMMARY:Cards and Games: Open Play
DESCRIPTION:Join us for an afternoon playing games of your choice- Poker\, gin rummy\, pinochle\, mahjong etc. Meet a new friend and start a game of your own. Mahjong teachers/leaders feel free to bring your game set!
URL:https://wayneseniorcenter.org/event/cards-and-games-open-play-36/
END:VEVENT
BEGIN:VEVENT
DTSTART;TZID=UTC:20250620T093000
DTEND;TZID=UTC:20250620T103000
DTSTAMP:20260421T220735
CREATED:20250603T193638Z
LAST-MODIFIED:20250603T193638Z
UID:15391-1750411800-1750415400@wayneseniorcenter.org
SUMMARY:Senior Circuit
DESCRIPTION:Join us for a dynamic strength-building\, full-body workout utilizing bands\, weights\, and balls as we cycle through various stations.
URL:https://wayneseniorcenter.org/event/senior-circuit-34/
END:VEVENT
BEGIN:VEVENT
DTSTART;TZID=UTC:20250620T103000
DTEND;TZID=UTC:20250620T113000
DTSTAMP:20260421T220735
CREATED:20250603T193453Z
LAST-MODIFIED:20250603T193453Z
UID:15355-1750415400-1750419000@wayneseniorcenter.org
SUMMARY:Chair Yoga
DESCRIPTION:A well-rounded class that will help with balance\, strengthening\, and relaxation. Have a sturdy chair available. All abilities welcome. In-Person fees – $3 for WSC members\, $6 for non-members.
URL:https://wayneseniorcenter.org/event/chair-yoga-35/
END:VEVENT
BEGIN:VEVENT
DTSTART;TZID=UTC:20250620T110000
DTEND;TZID=UTC:20250620T153000
DTSTAMP:20260421T220735
CREATED:20250603T193524Z
LAST-MODIFIED:20250604T130219Z
UID:15367-1750417200-1750433400@wayneseniorcenter.org
SUMMARY:AARP Smart Driver Refresher Course
DESCRIPTION:Refresh your driving skills and stay safe behind the wheel. Call 610-688-6246 to register.
URL:https://wayneseniorcenter.org/event/aarp-smart-driver-refresher-course/
ATTACH;FMTTYPE=image/png:https://wayneseniorcenter.org/wp-content/uploads/2025/06/Red-Modern-Driving-Course-Flyer-2.png
END:VEVENT
BEGIN:VEVENT
DTSTART;TZID=UTC:20250623T100000
DTEND;TZID=UTC:20250623T110000
DTSTAMP:20260421T220735
CREATED:20250603T193709Z
LAST-MODIFIED:20250603T193709Z
UID:15403-1750672800-1750676400@wayneseniorcenter.org
SUMMARY:Silver Sneakers Classic
DESCRIPTION:Focus on strengthening muscles and increasing range of motion using light weights\, stretch bands\, and exercise balls.
URL:https://wayneseniorcenter.org/event/silver-sneakers-classic-65/
END:VEVENT
BEGIN:VEVENT
DTSTART;TZID=UTC:20250623T100000
DTEND;TZID=UTC:20250623T120000
DTSTAMP:20260421T220735
CREATED:20250603T193624Z
LAST-MODIFIED:20250603T193624Z
UID:15387-1750672800-1750680000@wayneseniorcenter.org
SUMMARY:Refresher Bridge
DESCRIPTION:Brush up on your bridge skills with friends. Must have previous bridge experience.
URL:https://wayneseniorcenter.org/event/refresher-bridge-34/
END:VEVENT
BEGIN:VEVENT
DTSTART;TZID=UTC:20250623T100000
DTEND;TZID=UTC:20250623T120000
DTSTAMP:20260421T220735
CREATED:20250603T193908Z
LAST-MODIFIED:20250603T193908Z
UID:15441-1750672800-1750680000@wayneseniorcenter.org
SUMMARY:WSC Quilters
DESCRIPTION:WSC quiliting club. All skill levels Welcome. Come by or RSVP by calling the center – (610) 688-6246
URL:https://wayneseniorcenter.org/event/wsc-quilters-34/
END:VEVENT
END:VCALENDAR