BEGIN:VCALENDAR
VERSION:2.0
PRODID:-//Wayne Senior Center - ECPv6.15.20//NONSGML v1.0//EN
CALSCALE:GREGORIAN
METHOD:PUBLISH
X-WR-CALNAME:Wayne Senior Center
X-ORIGINAL-URL:https://wayneseniorcenter.org
X-WR-CALDESC:Events for Wayne Senior Center
REFRESH-INTERVAL;VALUE=DURATION:PT1H
X-Robots-Tag:noindex
X-PUBLISHED-TTL:PT1H
BEGIN:VTIMEZONE
TZID:UTC
BEGIN:STANDARD
TZOFFSETFROM:+0000
TZOFFSETTO:+0000
TZNAME:UTC
DTSTART:20240101T000000
END:STANDARD
END:VTIMEZONE
BEGIN:VEVENT
DTSTART;TZID=UTC:20250219T111500
DTEND;TZID=UTC:20250219T120000
DTSTAMP:20260421T220623
CREATED:20250124T154033Z
LAST-MODIFIED:20250124T154033Z
UID:14804-1739963700-1739966400@wayneseniorcenter.org
SUMMARY:Soul Line Dancing
DESCRIPTION:Kenny James will get you moving and grooving in a fun\, easy to learn dance class. No experience necessary – all can join. $3 members / $6 non-members.
URL:https://wayneseniorcenter.org/event/soul-line-dancing-11/
END:VEVENT
BEGIN:VEVENT
DTSTART;TZID=UTC:20250219T110000
DTEND;TZID=UTC:20250219T120000
DTSTAMP:20260421T220623
CREATED:20250124T153901Z
LAST-MODIFIED:20250124T153901Z
UID:14773-1739962800-1739966400@wayneseniorcenter.org
SUMMARY:Pageturner's Bookclub
DESCRIPTION:Enjoy lively book conversation with a Radnor Memorial Library librarian. All are welcome! This month we will be discussing “Sandwich” by Catherine Newman. While on her family’s yearly escape to Cape Cod\, Rocky\, sandwiched between her half-grown kids and fully aging parents\, relives the tenderness and sorrow of a handful of long-ago summers\, coming face-to-face with her family’s history and future and accepting she can no longer hide her secrets from the people she loves. Call for more info – (610)688-6246
URL:https://wayneseniorcenter.org/event/pageturners-bookclub-5/
END:VEVENT
BEGIN:VEVENT
DTSTART;TZID=UTC:20250219T100000
DTEND;TZID=UTC:20250219T110000
DTSTAMP:20260421T220623
CREATED:20250124T153848Z
LAST-MODIFIED:20250124T153848Z
UID:14771-1739959200-1739962800@wayneseniorcenter.org
SUMMARY:Mindfulness Virtual Reality
DESCRIPTION:Join Widener Occupational Therapy student Annie Huynh for a mindfulness program that utilizes virtual reality (VR) headsets. The program will run weekly for 6 weeks starting in February. Participants will be entered in a raffle to win a gift basket.
URL:https://wayneseniorcenter.org/event/mindfulness-virtual-reality-3/
END:VEVENT
BEGIN:VEVENT
DTSTART;TZID=UTC:20250218T123000
DTEND;TZID=UTC:20250218T133000
DTSTAMP:20260421T220623
CREATED:20250124T153834Z
LAST-MODIFIED:20250124T153834Z
UID:14767-1739881800-1739885400@wayneseniorcenter.org
SUMMARY:Mindfulness
DESCRIPTION:Practicing mindfulness provides countless benefits to our overall well-being. Join instructor Liz for an hour of virtual mindfulness.
URL:https://wayneseniorcenter.org/event/mindfulness-18/
END:VEVENT
BEGIN:VEVENT
DTSTART;TZID=UTC:20250218T120000
DTEND;TZID=UTC:20250218T130000
DTSTAMP:20260421T220623
CREATED:20250124T153727Z
LAST-MODIFIED:20250124T153727Z
UID:14741-1739880000-1739883600@wayneseniorcenter.org
SUMMARY:Brunch for Lunch
DESCRIPTION:Let’s do Brunch for Lunch! $5 members / $8 non-members. RSVP required\, in-center dining only.
URL:https://wayneseniorcenter.org/event/brunch-for-lunch/
END:VEVENT
BEGIN:VEVENT
DTSTART;TZID=UTC:20250218T110000
DTEND;TZID=UTC:20250218T120000
DTSTAMP:20260421T220623
CREATED:20250124T154003Z
LAST-MODIFIED:20250124T154003Z
UID:14794-1739876400-1739880000@wayneseniorcenter.org
SUMMARY:Sit\, Move\, Stretch
DESCRIPTION:This class offers seated or standing: cardio movement\, strengthening\, deep breathing\, and stretching. In-Person fees – free for WSC members\, $3 for non-members.
URL:https://wayneseniorcenter.org/event/sit-move-stretch-34/
END:VEVENT
BEGIN:VEVENT
DTSTART;TZID=UTC:20250218T103000
DTEND;TZID=UTC:20250218T110000
DTSTAMP:20260421T220623
CREATED:20250124T153820Z
LAST-MODIFIED:20250124T153820Z
UID:14761-1739874600-1739876400@wayneseniorcenter.org
SUMMARY:Large Jenga Game
DESCRIPTION:Test your Jenga skills by trying to remove one block at a time without making the tower fall over!
URL:https://wayneseniorcenter.org/event/large-jenga-game-5/
END:VEVENT
BEGIN:VEVENT
DTSTART;TZID=UTC:20250218T093000
DTEND;TZID=UTC:20250218T100000
DTSTAMP:20260421T220623
CREATED:20250124T154103Z
LAST-MODIFIED:20250124T154103Z
UID:14815-1739871000-1739872800@wayneseniorcenter.org
SUMMARY:Trivia Tuesday
DESCRIPTION:Join Andrea for a fun and exciting challenge every Tuesday. Show off your smarts across a range of trivia categories and have a blast with friends!
URL:https://wayneseniorcenter.org/event/trivia-tuesday-2/
END:VEVENT
BEGIN:VEVENT
DTSTART;TZID=UTC:20250218T090000
DTEND;TZID=UTC:20250218T110000
DTSTAMP:20260421T220623
CREATED:20250124T154048Z
LAST-MODIFIED:20250124T154048Z
UID:14810-1739869200-1739876400@wayneseniorcenter.org
SUMMARY:Tech Tuesday
DESCRIPTION:Stop by during this time with your tech questions or email Francis at francis@wayneseniorcenter.org to make an appointment. Some Tuesdays will feature a workshop on a certain topic starting at 10am.
URL:https://wayneseniorcenter.org/event/tech-tuesday-16/
END:VEVENT
BEGIN:VEVENT
DTSTART;TZID=UTC:20250214T103000
DTEND;TZID=UTC:20250214T113000
DTSTAMP:20260421T220623
CREATED:20250124T153747Z
LAST-MODIFIED:20250124T153747Z
UID:14749-1739529000-1739532600@wayneseniorcenter.org
SUMMARY:Chair Yoga
DESCRIPTION:A well-rounded class that will help with balance\, strengthening\, and relaxation. Have a sturdy chair available. All abilities welcome. In-Person fees – $3 for WSC members\, $6 for non-members.
URL:https://wayneseniorcenter.org/event/chair-yoga-18/
END:VEVENT
BEGIN:VEVENT
DTSTART;TZID=UTC:20250214T093000
DTEND;TZID=UTC:20250214T103000
DTSTAMP:20260421T220623
CREATED:20250124T153917Z
LAST-MODIFIED:20250124T153917Z
UID:14779-1739525400-1739529000@wayneseniorcenter.org
SUMMARY:Senior Circuit
DESCRIPTION:Join us for a dynamic strength-building\, full-body workout utilizing bands\, weights\, and balls as we cycle through various stations.
URL:https://wayneseniorcenter.org/event/senior-circuit-17/
END:VEVENT
BEGIN:VEVENT
DTSTART;TZID=UTC:20250213T130000
DTEND;TZID=UTC:20250213T150000
DTSTAMP:20260421T220623
CREATED:20250124T153732Z
LAST-MODIFIED:20250124T153732Z
UID:14745-1739451600-1739458800@wayneseniorcenter.org
SUMMARY:Cards and Games: Open Play
DESCRIPTION:Join us for an afternoon playing games of your choice- Poker\, gin rummy\, pinochle\, mahjong etc. Meet a new friend and start a game of your own. Mahjong teachers/leaders feel free to bring your game set!
URL:https://wayneseniorcenter.org/event/cards-and-games-open-play-18/
END:VEVENT
BEGIN:VEVENT
DTSTART;TZID=UTC:20250213T110000
DTEND;TZID=UTC:20250213T120000
DTSTAMP:20260421T220623
CREATED:20250124T154002Z
LAST-MODIFIED:20250124T154002Z
UID:14793-1739444400-1739448000@wayneseniorcenter.org
SUMMARY:Sit\, Move\, Stretch
DESCRIPTION:This class offers seated or standing: cardio movement\, strengthening\, deep breathing\, and stretching. In-Person fees – free for WSC members\, $3 for non-members.
URL:https://wayneseniorcenter.org/event/sit-move-stretch-33/
END:VEVENT
BEGIN:VEVENT
DTSTART;TZID=UTC:20250213T100000
DTEND;TZID=UTC:20250213T110000
DTSTAMP:20260421T220623
CREATED:20250124T153731Z
LAST-MODIFIED:20250124T155246Z
UID:14743-1739440800-1739444400@wayneseniorcenter.org
SUMMARY:Cardio Drumming with Andrea
DESCRIPTION:Join Andrea once a month for a fun\, rhythmic\, seated exercise class that gets you moving and grooving. Each month will have a fun theme! $3 for members\, $6 non-members
URL:https://wayneseniorcenter.org/event/cardio-drumming-with-andrea-4/
END:VEVENT
BEGIN:VEVENT
DTSTART;TZID=UTC:20250213T090000
DTEND;TZID=UTC:20250213T110000
DTSTAMP:20260421T220623
CREATED:20250124T153725Z
LAST-MODIFIED:20250124T153725Z
UID:14739-1739437200-1739444400@wayneseniorcenter.org
SUMMARY:Blood Pressure Screenings
DESCRIPTION:Are you trying to keep track of your blood pressure readings? Have questions about a medication or just need a listening ear? Stop by and speak 1:1 with a nurse.
URL:https://wayneseniorcenter.org/event/blood-pressure-screenings-9/
END:VEVENT
BEGIN:VEVENT
DTSTART;TZID=UTC:20250212T123000
DTEND;TZID=UTC:20250212T133000
DTSTAMP:20260421T220623
CREATED:20250124T153934Z
LAST-MODIFIED:20250124T153934Z
UID:14786-1739363400-1739367000@wayneseniorcenter.org
SUMMARY:Silver Sneakers Classic
DESCRIPTION:Focus on strengthening muscles and increasing range of motion using light weights\, stretch bands\, and exercise balls.
URL:https://wayneseniorcenter.org/event/silver-sneakers-classic-31/
END:VEVENT
BEGIN:VEVENT
DTSTART;TZID=UTC:20250212T111500
DTEND;TZID=UTC:20250212T120000
DTSTAMP:20260421T220623
CREATED:20250124T154032Z
LAST-MODIFIED:20250124T154032Z
UID:14803-1739358900-1739361600@wayneseniorcenter.org
SUMMARY:Soul Line Dancing
DESCRIPTION:Kenny James will get you moving and grooving in a fun\, easy to learn dance class. No experience necessary – all can join. $3 members / $6 non-members.
URL:https://wayneseniorcenter.org/event/soul-line-dancing-10/
END:VEVENT
BEGIN:VEVENT
DTSTART;TZID=UTC:20250212T100000
DTEND;TZID=UTC:20250212T110000
DTSTAMP:20260421T220623
CREATED:20250124T153848Z
LAST-MODIFIED:20250124T153848Z
UID:14770-1739354400-1739358000@wayneseniorcenter.org
SUMMARY:Mindfulness Virtual Reality
DESCRIPTION:Join Widener Occupational Therapy student Annie Huynh for a mindfulness program that utilizes virtual reality (VR) headsets. The program will run weekly for 6 weeks starting in February. Participants will be entered in a raffle to win a gift basket.
URL:https://wayneseniorcenter.org/event/mindfulness-virtual-reality-2/
END:VEVENT
BEGIN:VEVENT
DTSTART;TZID=UTC:20250211T123000
DTEND;TZID=UTC:20250211T133000
DTSTAMP:20260421T220623
CREATED:20250124T153834Z
LAST-MODIFIED:20250124T153834Z
UID:14766-1739277000-1739280600@wayneseniorcenter.org
SUMMARY:Mindfulness
DESCRIPTION:Practicing mindfulness provides countless benefits to our overall well-being. Join instructor Liz for an hour of virtual mindfulness.
URL:https://wayneseniorcenter.org/event/mindfulness-17/
END:VEVENT
BEGIN:VEVENT
DTSTART;TZID=UTC:20250211T120000
DTEND;TZID=UTC:20250211T130000
DTSTAMP:20260421T220623
CREATED:20250124T153831Z
LAST-MODIFIED:20250124T153831Z
UID:14763-1739275200-1739278800@wayneseniorcenter.org
SUMMARY:Let's Do Lunch!
DESCRIPTION:Let’s do lunch together! Please see the menu in the newsletter for details on each meal. $5 members / $8 non-members. RSVP required\, in-center dining only.
URL:https://wayneseniorcenter.org/event/lets-do-lunch-11/
END:VEVENT
BEGIN:VEVENT
DTSTART;TZID=UTC:20250211T110000
DTEND;TZID=UTC:20250211T120000
DTSTAMP:20260421T220623
CREATED:20250124T153949Z
LAST-MODIFIED:20250124T153949Z
UID:14792-1739271600-1739275200@wayneseniorcenter.org
SUMMARY:Sit\, Move\, Stretch
DESCRIPTION:This class offers seated or standing: cardio movement\, strengthening\, deep breathing\, and stretching. In-Person fees – free for WSC members\, $3 for non-members.
URL:https://wayneseniorcenter.org/event/sit-move-stretch-32/
END:VEVENT
BEGIN:VEVENT
DTSTART;TZID=UTC:20250211T100000
DTEND;TZID=UTC:20250211T110000
DTSTAMP:20260421T220623
CREATED:20250124T153728Z
LAST-MODIFIED:20250124T153728Z
UID:14742-1739268000-1739271600@wayneseniorcenter.org
SUMMARY:Canvas Painting
DESCRIPTION:Join Andrea as she guides you step-by-step to create your own masterpiece. We will be painting a beautiful vase of roses in honor of Valentine’s Day. No prior experience necessary. Cost is $3 for members and non-members.
URL:https://wayneseniorcenter.org/event/canvas-painting/
END:VEVENT
BEGIN:VEVENT
DTSTART;TZID=UTC:20250211T093000
DTEND;TZID=UTC:20250211T100000
DTSTAMP:20260421T220623
CREATED:20250124T154102Z
LAST-MODIFIED:20250124T154102Z
UID:14814-1739266200-1739268000@wayneseniorcenter.org
SUMMARY:Trivia Tuesday
DESCRIPTION:Join Andrea for a fun and exciting challenge every Tuesday. Show off your smarts across a range of trivia categories and have a blast with friends!
URL:https://wayneseniorcenter.org/event/trivia-tuesday/
END:VEVENT
BEGIN:VEVENT
DTSTART;TZID=UTC:20250211T090000
DTEND;TZID=UTC:20250211T110000
DTSTAMP:20260421T220623
CREATED:20250124T154047Z
LAST-MODIFIED:20250124T154047Z
UID:14809-1739264400-1739271600@wayneseniorcenter.org
SUMMARY:Tech Tuesday
DESCRIPTION:Stop by during this time with your tech questions or email Francis at francis@wayneseniorcenter.org to make an appointment. Some Tuesdays will feature a workshop on a certain topic starting at 10am.
URL:https://wayneseniorcenter.org/event/tech-tuesday-15/
END:VEVENT
BEGIN:VEVENT
DTSTART;TZID=UTC:20250210T140000
DTEND;TZID=UTC:20250210T150000
DTSTAMP:20260421T220623
CREATED:20250124T153904Z
LAST-MODIFIED:20250124T153904Z
UID:14777-1739196000-1739199600@wayneseniorcenter.org
SUMMARY:Seasons Grief & Loss Group
DESCRIPTION:Join others in a safe space to listen\, share\, and heal in conversation about losses you have experienced. We will learn how grief can affect our everyday life and ways to manage the range of feelings and symptoms. Facilitated by Holisticare Hospice.
URL:https://wayneseniorcenter.org/event/seasons-grief-loss-group-4/
END:VEVENT
BEGIN:VEVENT
DTSTART;TZID=UTC:20250210T123000
DTEND;TZID=UTC:20250210T133000
DTSTAMP:20260421T220623
CREATED:20250124T154035Z
LAST-MODIFIED:20250124T154035Z
UID:14806-1739190600-1739194200@wayneseniorcenter.org
SUMMARY:Tai Chi
DESCRIPTION:Tai Chi is a gentle form of exercise involving a series of graceful movements performed in a slow\, focused manner and accompanied by deep breathing. Excellent for strengthening balance and promoting stress reduction. In-Person fees – $5 for WSC members\, $10 for non-members.
URL:https://wayneseniorcenter.org/event/tai-chi-29/
END:VEVENT
BEGIN:VEVENT
DTSTART;TZID=UTC:20250210T110000
DTEND;TZID=UTC:20250210T120000
DTSTAMP:20260421T220623
CREATED:20250124T154020Z
LAST-MODIFIED:20250124T154020Z
UID:14802-1739185200-1739188800@wayneseniorcenter.org
SUMMARY:Soul Line Dancing
DESCRIPTION:Kenny James will get you moving and grooving in a fun\, easy to learn dance class. No experience necessary – all can join. $3 members / $6 non-members.
URL:https://wayneseniorcenter.org/event/soul-line-dancing-9/
END:VEVENT
BEGIN:VEVENT
DTSTART;TZID=UTC:20250210T100000
DTEND;TZID=UTC:20250210T120000
DTSTAMP:20260421T220623
CREATED:20250124T154117Z
LAST-MODIFIED:20250124T154117Z
UID:14819-1739181600-1739188800@wayneseniorcenter.org
SUMMARY:WSC Quilters
DESCRIPTION:WSC quiliting club. All skill levels Welcome. Come by or RSVP by calling the center – (610) 688-6246
URL:https://wayneseniorcenter.org/event/wsc-quilters-17/
END:VEVENT
BEGIN:VEVENT
DTSTART;TZID=UTC:20250210T100000
DTEND;TZID=UTC:20250210T120000
DTSTAMP:20260421T220623
CREATED:20250124T153902Z
LAST-MODIFIED:20250124T153902Z
UID:14775-1739181600-1739188800@wayneseniorcenter.org
SUMMARY:Refresher Bridge
DESCRIPTION:Brush up on your bridge skills with Lawrie Stetson and Dave Heron. Must have previous bridge experience.
URL:https://wayneseniorcenter.org/event/refresher-bridge-17/
END:VEVENT
BEGIN:VEVENT
DTSTART;TZID=UTC:20250210T100000
DTEND;TZID=UTC:20250210T110000
DTSTAMP:20260421T220623
CREATED:20250124T153933Z
LAST-MODIFIED:20250124T153933Z
UID:14785-1739181600-1739185200@wayneseniorcenter.org
SUMMARY:Silver Sneakers Classic
DESCRIPTION:Focus on strengthening muscles and increasing range of motion using light weights\, stretch bands\, and exercise balls.
URL:https://wayneseniorcenter.org/event/silver-sneakers-classic-30/
END:VEVENT
END:VCALENDAR