BEGIN:VCALENDAR
VERSION:2.0
PRODID:-//Wayne Senior Center - ECPv6.15.20//NONSGML v1.0//EN
CALSCALE:GREGORIAN
METHOD:PUBLISH
X-WR-CALNAME:Wayne Senior Center
X-ORIGINAL-URL:https://wayneseniorcenter.org
X-WR-CALDESC:Events for Wayne Senior Center
REFRESH-INTERVAL;VALUE=DURATION:PT1H
X-Robots-Tag:noindex
X-PUBLISHED-TTL:PT1H
BEGIN:VTIMEZONE
TZID:UTC
BEGIN:STANDARD
TZOFFSETFROM:+0000
TZOFFSETTO:+0000
TZNAME:UTC
DTSTART:20240101T000000
END:STANDARD
END:VTIMEZONE
BEGIN:VEVENT
DTSTART;TZID=UTC:20250609T100000
DTEND;TZID=UTC:20250609T120000
DTSTAMP:20260421T202418
CREATED:20250603T193623Z
LAST-MODIFIED:20250603T193623Z
UID:15385-1749463200-1749470400@wayneseniorcenter.org
SUMMARY:Refresher Bridge
DESCRIPTION:Brush up on your bridge skills with friends. Must have previous bridge experience.
URL:https://wayneseniorcenter.org/event/refresher-bridge-32/
END:VEVENT
BEGIN:VEVENT
DTSTART;TZID=UTC:20250609T100000
DTEND;TZID=UTC:20250609T120000
DTSTAMP:20260421T202418
CREATED:20250603T193908Z
LAST-MODIFIED:20250603T193908Z
UID:15439-1749463200-1749470400@wayneseniorcenter.org
SUMMARY:WSC Quilters
DESCRIPTION:WSC quiliting club. All skill levels Welcome. Come by or RSVP by calling the center – (610) 688-6246
URL:https://wayneseniorcenter.org/event/wsc-quilters-32/
END:VEVENT
BEGIN:VEVENT
DTSTART;TZID=UTC:20250609T110000
DTEND;TZID=UTC:20250609T120000
DTSTAMP:20260421T202418
CREATED:20250603T193754Z
LAST-MODIFIED:20250603T193754Z
UID:15417-1749466800-1749470400@wayneseniorcenter.org
SUMMARY:Soul Line Dancing
DESCRIPTION:Kenny James will get you moving and grooving in a fun\, easy to learn dance class. No experience necessary – all can join. $3 members / $6 non-members.
URL:https://wayneseniorcenter.org/event/soul-line-dancing-40/
END:VEVENT
BEGIN:VEVENT
DTSTART;TZID=UTC:20250609T113000
DTEND;TZID=UTC:20250609T120000
DTSTAMP:20260421T202418
CREATED:20250603T193524Z
LAST-MODIFIED:20250603T193524Z
UID:15368-1749468600-1749470400@wayneseniorcenter.org
SUMMARY:"The Quilters" Documentary
DESCRIPTION:In this award-winning short documentary\, men in a Missouri maximum-security prison design and sew beautiful\, personalized quilts for foster children.
URL:https://wayneseniorcenter.org/event/the-quilters-documentary/
END:VEVENT
BEGIN:VEVENT
DTSTART;TZID=UTC:20250610T093000
DTEND;TZID=UTC:20250610T100000
DTSTAMP:20260421T202418
CREATED:20250603T193839Z
LAST-MODIFIED:20250603T193839Z
UID:15432-1749547800-1749549600@wayneseniorcenter.org
SUMMARY:Walking Club (Off-Site)
DESCRIPTION:Join WSC friends for a walk on the Radnor trail – weather permitting. Walkers meet at the trail parking lot (520 Conestoga Road). All abilities welcome. Wear comfortable walking shoes.
URL:https://wayneseniorcenter.org/event/walking-club-off-site-28/
END:VEVENT
BEGIN:VEVENT
DTSTART;TZID=UTC:20250610T093000
DTEND;TZID=UTC:20250610T104500
DTSTAMP:20260421T202418
CREATED:20250603T193553Z
LAST-MODIFIED:20250603T193553Z
UID:15376-1749547800-1749552300@wayneseniorcenter.org
SUMMARY:Fresh Start
DESCRIPTION:Join us for Fresh Start—our new\, nutritious and delicious breakfast program! Breakfast will be served every Tuesday and Thursdayfrom 9:30 AM to 10:45 AM. Cost is $3.\nMeals are available on a first-come\, first-served basis\, so be sure to arrive early!\n Please note: the menu is subject to change.
URL:https://wayneseniorcenter.org/event/fresh-start-2/
END:VEVENT
BEGIN:VEVENT
DTSTART;TZID=UTC:20250610T101500
DTEND;TZID=UTC:20250610T110000
DTSTAMP:20260421T202418
CREATED:20250603T193454Z
LAST-MODIFIED:20250604T130844Z
UID:15357-1749550500-1749553200@wayneseniorcenter.org
SUMMARY:Nutrition from the Inside Out
DESCRIPTION:Join Holistic Nutrition Consultant Kristin Stitz for an informative discussion on simple strategies to stay strong\, healthy\, and sharp at any aging.
URL:https://wayneseniorcenter.org/event/nutrition-from-the-inside-out/
ATTACH;FMTTYPE=image/png:https://wayneseniorcenter.org/wp-content/uploads/2025/06/healthy-food-Flyer-3.png
END:VEVENT
BEGIN:VEVENT
DTSTART;TZID=UTC:20250610T110000
DTEND;TZID=UTC:20250610T120000
DTSTAMP:20260421T202418
CREATED:20250603T193737Z
LAST-MODIFIED:20250603T193737Z
UID:15409-1749553200-1749556800@wayneseniorcenter.org
SUMMARY:Sit\, Move\, Stretch
DESCRIPTION:This class offers seated or standing: cardio movement\, strengthening\, deep breathing\, and stretching. In-Person fees – free for WSC members\, $3 for non-members.
URL:https://wayneseniorcenter.org/event/sit-move-stretch-64/
END:VEVENT
BEGIN:VEVENT
DTSTART;TZID=UTC:20250610T123000
DTEND;TZID=UTC:20250610T133000
DTSTAMP:20260421T202418
CREATED:20250603T193539Z
LAST-MODIFIED:20250603T193539Z
UID:15372-1749558600-1749562200@wayneseniorcenter.org
SUMMARY:Mindfulness
DESCRIPTION:Practicing mindfulness provides countless benefits to our overall well-being. Join instructor Liz for an hour of virtual mindfulness.
URL:https://wayneseniorcenter.org/event/mindfulness-33/
END:VEVENT
BEGIN:VEVENT
DTSTART;TZID=UTC:20250611T100000
DTEND;TZID=UTC:20250611T110000
DTSTAMP:20260421T202418
CREATED:20250603T193653Z
LAST-MODIFIED:20250603T193653Z
UID:15395-1749636000-1749639600@wayneseniorcenter.org
SUMMARY:Silver Lining Clinics Wellness Series
DESCRIPTION:Join a licensed therapist from Silver Lining Clinics for a 6-week wellness group session designed specifically for older adults looking to boost emotional wellness\, manage life traditions\, and connect with others. Call 610-688-6246 to register!
URL:https://wayneseniorcenter.org/event/silver-lining-clinics-wellness-series-4/
END:VEVENT
BEGIN:VEVENT
DTSTART;TZID=UTC:20250611T111500
DTEND;TZID=UTC:20250611T120000
DTSTAMP:20260421T202418
CREATED:20250603T193754Z
LAST-MODIFIED:20250603T193754Z
UID:15418-1749640500-1749643200@wayneseniorcenter.org
SUMMARY:Soul Line Dancing
DESCRIPTION:Kenny James will get you moving and grooving in a fun\, easy to learn dance class. No experience necessary – all can join. $3 members / $6 non-members.
URL:https://wayneseniorcenter.org/event/soul-line-dancing-41/
END:VEVENT
BEGIN:VEVENT
DTSTART;TZID=UTC:20250611T123000
DTEND;TZID=UTC:20250611T133000
DTSTAMP:20260421T202418
CREATED:20250603T193708Z
LAST-MODIFIED:20250603T193708Z
UID:15401-1749645000-1749648600@wayneseniorcenter.org
SUMMARY:Silver Sneakers Classic
DESCRIPTION:Focus on strengthening muscles and increasing range of motion using light weights\, stretch bands\, and exercise balls.
URL:https://wayneseniorcenter.org/event/silver-sneakers-classic-63/
END:VEVENT
BEGIN:VEVENT
DTSTART;TZID=UTC:20250611T140000
DTEND;TZID=UTC:20250611T140000
DTSTAMP:20260421T202418
CREATED:20250603T193823Z
LAST-MODIFIED:20250603T193823Z
UID:15425-1749650400-1749650400@wayneseniorcenter.org
SUMMARY:Tai Chi
DESCRIPTION:Tai Chi is a gentle form of exercise involving a series of graceful movements performed in a slow\, focused manner and accompanied by deep breathing. Excellent for strengthening balance and promoting stress reduction. In-Person fees – $5 for WSC members\, $10 for non-members.
URL:https://wayneseniorcenter.org/event/tai-chi-44/
END:VEVENT
BEGIN:VEVENT
DTSTART;TZID=UTC:20250612T090000
DTEND;TZID=UTC:20250612T110000
DTSTAMP:20260421T202418
CREATED:20250603T193434Z
LAST-MODIFIED:20250603T193434Z
UID:15345-1749718800-1749726000@wayneseniorcenter.org
SUMMARY:Blood Pressure Screenings
DESCRIPTION:Are you trying to keep track of your blood pressure readings? Have questions about a medication or just need a listening ear? Stop by and speak 1:1 with a nurse.
URL:https://wayneseniorcenter.org/event/blood-pressure-screenings-17/
END:VEVENT
BEGIN:VEVENT
DTSTART;TZID=UTC:20250612T090000
DTEND;TZID=UTC:20250612T110000
DTSTAMP:20260421T202418
CREATED:20250603T193508Z
LAST-MODIFIED:20250603T193508Z
UID:15360-1749718800-1749726000@wayneseniorcenter.org
SUMMARY:Drop-In Tech Help
DESCRIPTION:Stop by during this time with your tech questions with a tech volunteer.
URL:https://wayneseniorcenter.org/event/drop-in-tech-help-5/
END:VEVENT
BEGIN:VEVENT
DTSTART;TZID=UTC:20250612T093000
DTEND;TZID=UTC:20250612T104500
DTSTAMP:20260421T202418
CREATED:20250603T193554Z
LAST-MODIFIED:20250603T193554Z
UID:15377-1749720600-1749725100@wayneseniorcenter.org
SUMMARY:Fresh Start
DESCRIPTION:Join us for Fresh Start—our new\, nutritious and delicious breakfast program! Breakfast will be served every Tuesday and Thursdayfrom 9:30 AM to 10:45 AM. Cost is $3.\nMeals are available on a first-come\, first-served basis\, so be sure to arrive early!\n Please note: the menu is subject to change.
URL:https://wayneseniorcenter.org/event/fresh-start-3/
END:VEVENT
BEGIN:VEVENT
DTSTART;TZID=UTC:20250612T100000
DTEND;TZID=UTC:20250612T110000
DTSTAMP:20260421T202418
CREATED:20250603T193853Z
LAST-MODIFIED:20250603T193853Z
UID:15436-1749722400-1749726000@wayneseniorcenter.org
SUMMARY:Weekly Trivia
DESCRIPTION:Join Andrea for a fun and exciting challenge every week. Show off your smarts across a range of trivia categories and have a blast with friends.
URL:https://wayneseniorcenter.org/event/weekly-trivia-7/
END:VEVENT
BEGIN:VEVENT
DTSTART;TZID=UTC:20250612T110000
DTEND;TZID=UTC:20250612T120000
DTSTAMP:20260421T202418
CREATED:20250603T193738Z
LAST-MODIFIED:20250603T193738Z
UID:15410-1749726000-1749729600@wayneseniorcenter.org
SUMMARY:Sit\, Move\, Stretch
DESCRIPTION:This class offers seated or standing: cardio movement\, strengthening\, deep breathing\, and stretching. In-Person fees – free for WSC members\, $3 for non-members.
URL:https://wayneseniorcenter.org/event/sit-move-stretch-65/
END:VEVENT
BEGIN:VEVENT
DTSTART;TZID=UTC:20250612T121500
DTEND;TZID=UTC:20250612T130000
DTSTAMP:20260421T202418
CREATED:20250603T193838Z
LAST-MODIFIED:20250603T193838Z
UID:15430-1749730500-1749733200@wayneseniorcenter.org
SUMMARY:Toast to Dads
DESCRIPTION:Join us as we  celebrate the fathers and father figures in our lives! We’ll honor fathers\, grandfathers\, and all the nurturing hearts among us with a sweet treat. Let’s celebrate love\, legacy\, and the special role these gentlemen play in our lives.
URL:https://wayneseniorcenter.org/event/toast-to-dads/
END:VEVENT
BEGIN:VEVENT
DTSTART;TZID=UTC:20250612T130000
DTEND;TZID=UTC:20250612T150000
DTSTAMP:20260421T202418
CREATED:20250603T193437Z
LAST-MODIFIED:20250603T193437Z
UID:15349-1749733200-1749740400@wayneseniorcenter.org
SUMMARY:Cards and Games: Open Play
DESCRIPTION:Join us for an afternoon playing games of your choice- Poker\, gin rummy\, pinochle\, mahjong etc. Meet a new friend and start a game of your own. Mahjong teachers/leaders feel free to bring your game set!
URL:https://wayneseniorcenter.org/event/cards-and-games-open-play-35/
END:VEVENT
BEGIN:VEVENT
DTSTART;TZID=UTC:20250613T093000
DTEND;TZID=UTC:20250613T103000
DTSTAMP:20260421T202418
CREATED:20250603T193638Z
LAST-MODIFIED:20250603T193638Z
UID:15390-1749807000-1749810600@wayneseniorcenter.org
SUMMARY:Senior Circuit
DESCRIPTION:Join us for a dynamic strength-building\, full-body workout utilizing bands\, weights\, and balls as we cycle through various stations.
URL:https://wayneseniorcenter.org/event/senior-circuit-33/
END:VEVENT
BEGIN:VEVENT
DTSTART;TZID=UTC:20250613T103000
DTEND;TZID=UTC:20250613T113000
DTSTAMP:20260421T202418
CREATED:20250603T193452Z
LAST-MODIFIED:20250603T193452Z
UID:15354-1749810600-1749814200@wayneseniorcenter.org
SUMMARY:Chair Yoga
DESCRIPTION:A well-rounded class that will help with balance\, strengthening\, and relaxation. Have a sturdy chair available. All abilities welcome. In-Person fees – $3 for WSC members\, $6 for non-members.
URL:https://wayneseniorcenter.org/event/chair-yoga-34/
END:VEVENT
BEGIN:VEVENT
DTSTART;TZID=UTC:20250616T100000
DTEND;TZID=UTC:20250616T110000
DTSTAMP:20260421T202418
CREATED:20250603T193709Z
LAST-MODIFIED:20250603T193709Z
UID:15402-1750068000-1750071600@wayneseniorcenter.org
SUMMARY:Silver Sneakers Classic
DESCRIPTION:Focus on strengthening muscles and increasing range of motion using light weights\, stretch bands\, and exercise balls.
URL:https://wayneseniorcenter.org/event/silver-sneakers-classic-64/
END:VEVENT
BEGIN:VEVENT
DTSTART;TZID=UTC:20250616T100000
DTEND;TZID=UTC:20250616T120000
DTSTAMP:20260421T202418
CREATED:20250603T193623Z
LAST-MODIFIED:20250603T193623Z
UID:15386-1750068000-1750075200@wayneseniorcenter.org
SUMMARY:Refresher Bridge
DESCRIPTION:Brush up on your bridge skills with friends. Must have previous bridge experience.
URL:https://wayneseniorcenter.org/event/refresher-bridge-33/
END:VEVENT
BEGIN:VEVENT
DTSTART;TZID=UTC:20250616T100000
DTEND;TZID=UTC:20250616T120000
DTSTAMP:20260421T202418
CREATED:20250603T193908Z
LAST-MODIFIED:20250603T193908Z
UID:15440-1750068000-1750075200@wayneseniorcenter.org
SUMMARY:WSC Quilters
DESCRIPTION:WSC quiliting club. All skill levels Welcome. Come by or RSVP by calling the center – (610) 688-6246
URL:https://wayneseniorcenter.org/event/wsc-quilters-33/
END:VEVENT
BEGIN:VEVENT
DTSTART;TZID=UTC:20250616T110000
DTEND;TZID=UTC:20250616T120000
DTSTAMP:20260421T202418
CREATED:20250603T193807Z
LAST-MODIFIED:20250603T193807Z
UID:15419-1750071600-1750075200@wayneseniorcenter.org
SUMMARY:Soul Line Dancing
DESCRIPTION:Kenny James will get you moving and grooving in a fun\, easy to learn dance class. No experience necessary – all can join. $3 members / $6 non-members.
URL:https://wayneseniorcenter.org/event/soul-line-dancing-42/
END:VEVENT
BEGIN:VEVENT
DTSTART;TZID=UTC:20250617T093000
DTEND;TZID=UTC:20250617T104500
DTSTAMP:20260421T202418
CREATED:20250603T193554Z
LAST-MODIFIED:20250603T193554Z
UID:15378-1750152600-1750157100@wayneseniorcenter.org
SUMMARY:Fresh Start
DESCRIPTION:Join us for Fresh Start—our new\, nutritious and delicious breakfast program! Breakfast will be served every Tuesday and Thursdayfrom 9:30 AM to 10:45 AM. Cost is $3.\nMeals are available on a first-come\, first-served basis\, so be sure to arrive early!\n Please note: the menu is subject to change.
URL:https://wayneseniorcenter.org/event/fresh-start-4/
END:VEVENT
BEGIN:VEVENT
DTSTART;TZID=UTC:20250617T100000
DTEND;TZID=UTC:20250617T110000
DTSTAMP:20260421T202418
CREATED:20250603T193852Z
LAST-MODIFIED:20250603T193852Z
UID:15434-1750154400-1750158000@wayneseniorcenter.org
SUMMARY:Walking Club (Off-Site)
DESCRIPTION:Join WSC friends for a walk on the Radnor trail – weather permitting. Walkers meet at the trail parking lot (520 Conestoga Road). All abilities welcome. Wear comfortable walking shoes.
URL:https://wayneseniorcenter.org/event/walking-club-off-site-30/
END:VEVENT
BEGIN:VEVENT
DTSTART;TZID=UTC:20250617T103000
DTEND;TZID=UTC:20250617T110000
DTSTAMP:20260421T202418
CREATED:20250603T193523Z
LAST-MODIFIED:20250603T193523Z
UID:15366-1750156200-1750158000@wayneseniorcenter.org
SUMMARY:Large Jenga Game
DESCRIPTION:Test your Jenga skills by trying to remove one block at a time without making the tower fall over!
URL:https://wayneseniorcenter.org/event/large-jenga-game-10/
END:VEVENT
BEGIN:VEVENT
DTSTART;TZID=UTC:20250617T110000
DTEND;TZID=UTC:20250617T120000
DTSTAMP:20260421T202418
CREATED:20250603T193738Z
LAST-MODIFIED:20250603T193738Z
UID:15411-1750158000-1750161600@wayneseniorcenter.org
SUMMARY:Sit\, Move\, Stretch
DESCRIPTION:This class offers seated or standing: cardio movement\, strengthening\, deep breathing\, and stretching. In-Person fees – free for WSC members\, $3 for non-members.
URL:https://wayneseniorcenter.org/event/sit-move-stretch-66/
END:VEVENT
END:VCALENDAR