BEGIN:VCALENDAR
VERSION:2.0
PRODID:-//Wayne Senior Center - ECPv6.15.20//NONSGML v1.0//EN
CALSCALE:GREGORIAN
METHOD:PUBLISH
X-WR-CALNAME:Wayne Senior Center
X-ORIGINAL-URL:https://wayneseniorcenter.org
X-WR-CALDESC:Events for Wayne Senior Center
REFRESH-INTERVAL;VALUE=DURATION:PT1H
X-Robots-Tag:noindex
X-PUBLISHED-TTL:PT1H
BEGIN:VTIMEZONE
TZID:UTC
BEGIN:STANDARD
TZOFFSETFROM:+0000
TZOFFSETTO:+0000
TZNAME:UTC
DTSTART:20240101T000000
END:STANDARD
END:VTIMEZONE
BEGIN:VEVENT
DTSTART;TZID=UTC:20250515T130000
DTEND;TZID=UTC:20250515T150000
DTSTAMP:20260421T202312
CREATED:20250422T193506Z
LAST-MODIFIED:20250422T193506Z
UID:15195-1747314000-1747321200@wayneseniorcenter.org
SUMMARY:Cards and Games: Open Play
DESCRIPTION:Join us for an afternoon playing games of your choice- Poker\, gin rummy\, pinochle\, mahjong etc. Meet a new friend and start a game of your own. Mahjong teachers/leaders feel free to bring your game set!
URL:https://wayneseniorcenter.org/event/cards-and-games-open-play-31/
END:VEVENT
BEGIN:VEVENT
DTSTART;TZID=UTC:20250516T093000
DTEND;TZID=UTC:20250516T103000
DTSTAMP:20260421T202312
CREATED:20250422T193539Z
LAST-MODIFIED:20250422T193539Z
UID:15208-1747387800-1747391400@wayneseniorcenter.org
SUMMARY:Senior Circuit
DESCRIPTION:Join us for a dynamic strength-building\, full-body workout utilizing bands\, weights\, and balls as we cycle through various stations.
URL:https://wayneseniorcenter.org/event/senior-circuit-29/
END:VEVENT
BEGIN:VEVENT
DTSTART;TZID=UTC:20250516T103000
DTEND;TZID=UTC:20250516T113000
DTSTAMP:20260421T202312
CREATED:20250422T193554Z
LAST-MODIFIED:20250422T193554Z
UID:15213-1747391400-1747395000@wayneseniorcenter.org
SUMMARY:Chair Yoga
DESCRIPTION:A well-rounded class that will help with balance\, strengthening\, and relaxation. Have a sturdy chair available. All abilities welcome. In-Person fees – $3 for WSC members\, $6 for non-members.
URL:https://wayneseniorcenter.org/event/chair-yoga-30/
END:VEVENT
BEGIN:VEVENT
DTSTART;TZID=UTC:20250519T100000
DTEND;TZID=UTC:20250519T110000
DTSTAMP:20260421T202312
CREATED:20250422T193307Z
LAST-MODIFIED:20250422T193307Z
UID:15155-1747648800-1747652400@wayneseniorcenter.org
SUMMARY:Silver Sneakers Classic
DESCRIPTION:Focus on strengthening muscles and increasing range of motion using light weights\, stretch bands\, and exercise balls.
URL:https://wayneseniorcenter.org/event/silver-sneakers-classic-57/
END:VEVENT
BEGIN:VEVENT
DTSTART;TZID=UTC:20250519T100000
DTEND;TZID=UTC:20250519T120000
DTSTAMP:20260421T202312
CREATED:20250422T193246Z
LAST-MODIFIED:20250422T193246Z
UID:15148-1747648800-1747656000@wayneseniorcenter.org
SUMMARY:Refresher Bridge
DESCRIPTION:Brush up on your bridge skills with Lawrie Stetson and Dave Heron. Must have previous bridge experience.
URL:https://wayneseniorcenter.org/event/refresher-bridge-30/
END:VEVENT
BEGIN:VEVENT
DTSTART;TZID=UTC:20250519T100000
DTEND;TZID=UTC:20250519T120000
DTSTAMP:20260421T202312
CREATED:20250422T193436Z
LAST-MODIFIED:20250422T193436Z
UID:15185-1747648800-1747656000@wayneseniorcenter.org
SUMMARY:WSC Quilters
DESCRIPTION:WSC quiliting club. All skill levels Welcome. Come by or RSVP by calling the center – (610) 688-6246
URL:https://wayneseniorcenter.org/event/wsc-quilters-30/
END:VEVENT
BEGIN:VEVENT
DTSTART;TZID=UTC:20250519T110000
DTEND;TZID=UTC:20250519T120000
DTSTAMP:20260421T202312
CREATED:20250422T193353Z
LAST-MODIFIED:20250422T193353Z
UID:15172-1747652400-1747656000@wayneseniorcenter.org
SUMMARY:Soul Line Dancing
DESCRIPTION:Kenny James will get you moving and grooving in a fun\, easy to learn dance class. No experience necessary – all can join. $3 members / $6 non-members.
URL:https://wayneseniorcenter.org/event/soul-line-dancing-35/
END:VEVENT
BEGIN:VEVENT
DTSTART;TZID=UTC:20250521T100000
DTEND;TZID=UTC:20250521T110000
DTSTAMP:20260421T202312
CREATED:20250422T193247Z
LAST-MODIFIED:20250423T125047Z
UID:15149-1747821600-1747825200@wayneseniorcenter.org
SUMMARY:Silver Lining Clinics Wellness Series
DESCRIPTION:Join a licensed therapist from Silver Lining Clinics for a 6-week wellness group session designed specifically for older adults looking to boost emotional wellness\, manage life traditions\, and connect with others. Call 610-688-6246 to register!
URL:https://wayneseniorcenter.org/event/silver-lining-clinics-wellness-series/
ATTACH;FMTTYPE=image/jpeg:https://wayneseniorcenter.org/wp-content/uploads/2025/04/IMG_EC223D3EA5FC-1.jpeg
END:VEVENT
BEGIN:VEVENT
DTSTART;TZID=UTC:20250521T100000
DTEND;TZID=UTC:20250521T110000
DTSTAMP:20260421T202312
CREATED:20250422T193437Z
LAST-MODIFIED:20250422T193437Z
UID:15187-1747821600-1747825200@wayneseniorcenter.org
SUMMARY:Lifelong Learning Series
DESCRIPTION:This month we will explore Hollywood Legends: Then and Now. We will compare classic Hollywood starts with today’s celebrities.
URL:https://wayneseniorcenter.org/event/lifelong-learning-series-2/
END:VEVENT
BEGIN:VEVENT
DTSTART;TZID=UTC:20250521T110000
DTEND;TZID=UTC:20250521T120000
DTSTAMP:20260421T202312
CREATED:20250422T193609Z
LAST-MODIFIED:20250422T193609Z
UID:15218-1747825200-1747828800@wayneseniorcenter.org
SUMMARY:Pageturner's Bookclub
DESCRIPTION:Enjoy lively book conversation with a Radnor Memorial Library librarian. All are welcome! We will be discussing  “All the Broken Places” by John Boyne. An elderly London resident befriends the little boy who moves downstairs\, but his parents’ fighting brings her back to her harrowing escape from Nazi Germany at age 12 and grim post-war era in France with her mother.
URL:https://wayneseniorcenter.org/event/pageturners-bookclub-8/
END:VEVENT
BEGIN:VEVENT
DTSTART;TZID=UTC:20250521T111500
DTEND;TZID=UTC:20250521T120000
DTSTAMP:20260421T202312
CREATED:20250422T193354Z
LAST-MODIFIED:20250422T193354Z
UID:15173-1747826100-1747828800@wayneseniorcenter.org
SUMMARY:Soul Line Dancing
DESCRIPTION:Kenny James will get you moving and grooving in a fun\, easy to learn dance class. No experience necessary – all can join. $3 members / $6 non-members.
URL:https://wayneseniorcenter.org/event/soul-line-dancing-36/
END:VEVENT
BEGIN:VEVENT
DTSTART;TZID=UTC:20250521T123000
DTEND;TZID=UTC:20250521T133000
DTSTAMP:20260421T202312
CREATED:20250422T193308Z
LAST-MODIFIED:20250422T193308Z
UID:15156-1747830600-1747834200@wayneseniorcenter.org
SUMMARY:Silver Sneakers Classic
DESCRIPTION:Focus on strengthening muscles and increasing range of motion using light weights\, stretch bands\, and exercise balls.
URL:https://wayneseniorcenter.org/event/silver-sneakers-classic-58/
END:VEVENT
BEGIN:VEVENT
DTSTART;TZID=UTC:20250521T123000
DTEND;TZID=UTC:20250521T133000
DTSTAMP:20260421T202312
CREATED:20250422T193510Z
LAST-MODIFIED:20250422T193510Z
UID:15199-1747830600-1747834200@wayneseniorcenter.org
SUMMARY:Fooling with Ukes
DESCRIPTION:Dust off your ukes and join Barbara Van Clief (Barley) for a few practice sessions. Learn to play various popular songs with a group of individuals who share your passion for music!
URL:https://wayneseniorcenter.org/event/fooling-with-ukes-23/
END:VEVENT
BEGIN:VEVENT
DTSTART;TZID=UTC:20250521T140000
DTEND;TZID=UTC:20250521T140000
DTSTAMP:20260421T202312
CREATED:20250422T193408Z
LAST-MODIFIED:20250422T193408Z
UID:15178-1747836000-1747836000@wayneseniorcenter.org
SUMMARY:Tai Chi
DESCRIPTION:Tai Chi is a gentle form of exercise involving a series of graceful movements performed in a slow\, focused manner and accompanied by deep breathing. Excellent for strengthening balance and promoting stress reduction. In-Person fees – $5 for WSC members\, $10 for non-members.
URL:https://wayneseniorcenter.org/event/tai-chi-41/
END:VEVENT
BEGIN:VEVENT
DTSTART;TZID=UTC:20250522T090000
DTEND;TZID=UTC:20250522T110000
DTSTAMP:20260421T202312
CREATED:20250422T193453Z
LAST-MODIFIED:20250422T193453Z
UID:15192-1747904400-1747911600@wayneseniorcenter.org
SUMMARY:Blood Pressure Screenings
DESCRIPTION:Are you trying to keep track of your blood pressure readings? Have questions about a medication or just need a listening ear? Stop by and speak 1:1 with a nurse.
URL:https://wayneseniorcenter.org/event/blood-pressure-screenings-16/
END:VEVENT
BEGIN:VEVENT
DTSTART;TZID=UTC:20250522T100000
DTEND;TZID=UTC:20250522T110000
DTSTAMP:20260421T202312
CREATED:20250422T193622Z
LAST-MODIFIED:20250422T193622Z
UID:15221-1747908000-1747911600@wayneseniorcenter.org
SUMMARY:Cardio Drumming with Andrea
DESCRIPTION:Join Andrea once a month for a fun\, rhythmic\, seated exercise class that gets you moving and grooving. Each month will have a fun theme! $3 for members\, $6 non-members
URL:https://wayneseniorcenter.org/event/cardio-drumming-with-andrea-7/
END:VEVENT
BEGIN:VEVENT
DTSTART;TZID=UTC:20250522T100000
DTEND;TZID=UTC:20250522T120000
DTSTAMP:20260421T202312
CREATED:20250422T193422Z
LAST-MODIFIED:20250423T124418Z
UID:15181-1747908000-1747915200@wayneseniorcenter.org
SUMMARY:Drop-In Tech Help
DESCRIPTION:Stop by during this time with your tech questions with a tech volunteer.
URL:https://wayneseniorcenter.org/event/drop-in-tech-help-4/
END:VEVENT
BEGIN:VEVENT
DTSTART;TZID=UTC:20250522T110000
DTEND;TZID=UTC:20250522T120000
DTSTAMP:20260421T202312
CREATED:20250422T193336Z
LAST-MODIFIED:20250422T193336Z
UID:15165-1747911600-1747915200@wayneseniorcenter.org
SUMMARY:Sit\, Move\, Stretch
DESCRIPTION:This class offers seated or standing: cardio movement\, strengthening\, deep breathing\, and stretching. In-Person fees – free for WSC members\, $3 for non-members.
URL:https://wayneseniorcenter.org/event/sit-move-stretch-60/
END:VEVENT
BEGIN:VEVENT
DTSTART;TZID=UTC:20250522T130000
DTEND;TZID=UTC:20250522T150000
DTSTAMP:20260421T202312
CREATED:20250422T193507Z
LAST-MODIFIED:20250422T193507Z
UID:15196-1747918800-1747926000@wayneseniorcenter.org
SUMMARY:Cards and Games: Open Play
DESCRIPTION:Join us for an afternoon playing games of your choice- Poker\, gin rummy\, pinochle\, mahjong etc. Meet a new friend and start a game of your own. Mahjong teachers/leaders feel free to bring your game set!
URL:https://wayneseniorcenter.org/event/cards-and-games-open-play-32/
END:VEVENT
BEGIN:VEVENT
DTSTART;TZID=UTC:20250523T093000
DTEND;TZID=UTC:20250523T103000
DTSTAMP:20260421T202312
CREATED:20250422T193539Z
LAST-MODIFIED:20250422T193539Z
UID:15209-1747992600-1747996200@wayneseniorcenter.org
SUMMARY:Senior Circuit
DESCRIPTION:Join us for a dynamic strength-building\, full-body workout utilizing bands\, weights\, and balls as we cycle through various stations.
URL:https://wayneseniorcenter.org/event/senior-circuit-30/
END:VEVENT
BEGIN:VEVENT
DTSTART;TZID=UTC:20250523T103000
DTEND;TZID=UTC:20250523T113000
DTSTAMP:20260421T202312
CREATED:20250422T193555Z
LAST-MODIFIED:20250422T193555Z
UID:15214-1747996200-1747999800@wayneseniorcenter.org
SUMMARY:Chair Yoga
DESCRIPTION:A well-rounded class that will help with balance\, strengthening\, and relaxation. Have a sturdy chair available. All abilities welcome. In-Person fees – $3 for WSC members\, $6 for non-members.
URL:https://wayneseniorcenter.org/event/chair-yoga-31/
END:VEVENT
BEGIN:VEVENT
DTSTART;TZID=UTC:20250527T093000
DTEND;TZID=UTC:20250527T100000
DTSTAMP:20260421T202312
CREATED:20250422T193625Z
LAST-MODIFIED:20250422T193625Z
UID:15224-1748338200-1748340000@wayneseniorcenter.org
SUMMARY:Walking Club (Off-Site)
DESCRIPTION:Join WSC friends for a walk on the Radnor trail – weather permitting. Walkers meet at the trail parking lot (520 Conestoga Road). All abilities welcome. Wear comfortable walking shoes.
URL:https://wayneseniorcenter.org/event/walking-club-off-site-26/
END:VEVENT
BEGIN:VEVENT
DTSTART;TZID=UTC:20250527T110000
DTEND;TZID=UTC:20250527T120000
DTSTAMP:20260421T202312
CREATED:20250422T193322Z
LAST-MODIFIED:20250422T193322Z
UID:15161-1748343600-1748347200@wayneseniorcenter.org
SUMMARY:Sit\, Move\, Stretch
DESCRIPTION:This class offers seated or standing: cardio movement\, strengthening\, deep breathing\, and stretching. In-Person fees – free for WSC members\, $3 for non-members.
URL:https://wayneseniorcenter.org/event/sit-move-stretch-56/
END:VEVENT
BEGIN:VEVENT
DTSTART;TZID=UTC:20250527T123000
DTEND;TZID=UTC:20250527T133000
DTSTAMP:20260421T202312
CREATED:20250422T193524Z
LAST-MODIFIED:20250422T193524Z
UID:15204-1748349000-1748352600@wayneseniorcenter.org
SUMMARY:Mindfulness
DESCRIPTION:Practicing mindfulness provides countless benefits to our overall well-being. Join instructor Liz for an hour of virtual mindfulness.
URL:https://wayneseniorcenter.org/event/mindfulness-31/
END:VEVENT
BEGIN:VEVENT
DTSTART;TZID=UTC:20250527T150000
DTEND;TZID=UTC:20250527T160000
DTSTAMP:20260421T202312
CREATED:20250422T193608Z
LAST-MODIFIED:20250422T193608Z
UID:15217-1748358000-1748361600@wayneseniorcenter.org
SUMMARY:Memoir Writing (Virtual)
DESCRIPTION:Join Sara Wenger\, MFA for a memoir writing workshop. Sara will share memoir excerpts as well as writing exercises to help you write your unique life experiences so they can be passed on to children\, grandchildren\, friends and others. No prior writing experience is necessary! The class is appropriate for both novice and seasoned writers
URL:https://wayneseniorcenter.org/event/memoir-writing-virtual-20/
END:VEVENT
BEGIN:VEVENT
DTSTART;TZID=UTC:20250528T100000
DTEND;TZID=UTC:20250528T110000
DTSTAMP:20260421T202312
CREATED:20250422T193250Z
LAST-MODIFIED:20250422T193250Z
UID:15150-1748426400-1748430000@wayneseniorcenter.org
SUMMARY:Silver Lining Clinics Wellness Series
DESCRIPTION:Join a licensed therapist from Silver Lining Clinics for a 6-week wellness group session designed specifically for older adults looking to boost emotional wellness\, manage life traditions\, and connect with others. Call 610-688-6246 to register!
URL:https://wayneseniorcenter.org/event/silver-lining-clinics-wellness-series-2/
END:VEVENT
BEGIN:VEVENT
DTSTART;TZID=UTC:20250528T100000
DTEND;TZID=UTC:20250528T110000
DTSTAMP:20260421T202312
CREATED:20250422T193607Z
LAST-MODIFIED:20250422T193607Z
UID:15216-1748426400-1748430000@wayneseniorcenter.org
SUMMARY:Coffee Talk with Radnor Police Chaplain
DESCRIPTION:Enjoy coffee\, pastries\, and meaningful discussion with a visiting Radnor Police Chaplain.
URL:https://wayneseniorcenter.org/event/coffee-talk-with-radnor-police-chaplain-8/
END:VEVENT
BEGIN:VEVENT
DTSTART;TZID=UTC:20250528T111500
DTEND;TZID=UTC:20250528T120000
DTSTAMP:20260421T202312
CREATED:20250422T193355Z
LAST-MODIFIED:20250422T193355Z
UID:15174-1748430900-1748433600@wayneseniorcenter.org
SUMMARY:Soul Line Dancing
DESCRIPTION:Kenny James will get you moving and grooving in a fun\, easy to learn dance class. No experience necessary – all can join. $3 members / $6 non-members.
URL:https://wayneseniorcenter.org/event/soul-line-dancing-37/
END:VEVENT
BEGIN:VEVENT
DTSTART;TZID=UTC:20250528T123000
DTEND;TZID=UTC:20250528T133000
DTSTAMP:20260421T202312
CREATED:20250422T193310Z
LAST-MODIFIED:20250422T193310Z
UID:15158-1748435400-1748439000@wayneseniorcenter.org
SUMMARY:Silver Sneakers Classic
DESCRIPTION:Focus on strengthening muscles and increasing range of motion using light weights\, stretch bands\, and exercise balls.
URL:https://wayneseniorcenter.org/event/silver-sneakers-classic-59/
END:VEVENT
BEGIN:VEVENT
DTSTART;TZID=UTC:20250528T123000
DTEND;TZID=UTC:20250528T133000
DTSTAMP:20260421T202312
CREATED:20250422T193521Z
LAST-MODIFIED:20250422T193521Z
UID:15200-1748435400-1748439000@wayneseniorcenter.org
SUMMARY:Fooling with Ukes
DESCRIPTION:Dust off your ukes and join Barbara Van Clief (Barley) for a few practice sessions. Learn to play various popular songs with a group of individuals who share your passion for music!
URL:https://wayneseniorcenter.org/event/fooling-with-ukes-24/
END:VEVENT
END:VCALENDAR