BEGIN:VCALENDAR
VERSION:2.0
PRODID:-//Wayne Senior Center - ECPv6.15.20//NONSGML v1.0//EN
CALSCALE:GREGORIAN
METHOD:PUBLISH
X-WR-CALNAME:Wayne Senior Center
X-ORIGINAL-URL:https://wayneseniorcenter.org
X-WR-CALDESC:Events for Wayne Senior Center
REFRESH-INTERVAL;VALUE=DURATION:PT1H
X-Robots-Tag:noindex
X-PUBLISHED-TTL:PT1H
BEGIN:VTIMEZONE
TZID:UTC
BEGIN:STANDARD
TZOFFSETFROM:+0000
TZOFFSETTO:+0000
TZNAME:UTC
DTSTART:20230101T000000
END:STANDARD
END:VTIMEZONE
BEGIN:VEVENT
DTSTART;TZID=UTC:20240308T103000
DTEND;TZID=UTC:20240308T113000
DTSTAMP:20260421T203154
CREATED:20240221T202523Z
LAST-MODIFIED:20240221T202523Z
UID:13178-1709893800-1709897400@wayneseniorcenter.org
SUMMARY:Chair Yoga (In Person and Virtual)
DESCRIPTION:A well-rounded class that will help with balance\, strengthening\, and relaxation. Have a sturdy chair available. All abilities welcome. In-Person fees – $3 for WSC members\, $6 for non-members.
URL:https://wayneseniorcenter.org/event/chair-yoga-in-person-and-virtual-17/
END:VEVENT
BEGIN:VEVENT
DTSTART;TZID=UTC:20240311T100000
DTEND;TZID=UTC:20240311T120000
DTSTAMP:20260421T203154
CREATED:20240221T202523Z
LAST-MODIFIED:20240221T202523Z
UID:13180-1710151200-1710158400@wayneseniorcenter.org
SUMMARY:Refresher Bridge (In Center)
DESCRIPTION:Brush up on your bridge skills with Lawrie Stetson and Dave Heron. Must have previous bridge experience.
URL:https://wayneseniorcenter.org/event/refresher-bridge-in-center-20/
END:VEVENT
BEGIN:VEVENT
DTSTART;TZID=UTC:20240311T100000
DTEND;TZID=UTC:20240311T120000
DTSTAMP:20260421T203154
CREATED:20240221T202538Z
LAST-MODIFIED:20240221T202538Z
UID:13183-1710151200-1710158400@wayneseniorcenter.org
SUMMARY:WSC Quilters (In Center)
DESCRIPTION:WSC quiliting club. All skill levels Welcome. Come by or RSVP by calling the center – (610) 688-6246
URL:https://wayneseniorcenter.org/event/wsc-quilters-in-center-20/
END:VEVENT
BEGIN:VEVENT
DTSTART;TZID=UTC:20240311T130000
DTEND;TZID=UTC:20240311T140000
DTSTAMP:20260421T203154
CREATED:20240221T202538Z
LAST-MODIFIED:20240221T202538Z
UID:13182-1710162000-1710165600@wayneseniorcenter.org
SUMMARY:Strength and Balance (Virtual)
DESCRIPTION:Move\, stretch\, and improve your balance\, both seated and standing\, along with instructor Cathi from home. All abilities welcome!
URL:https://wayneseniorcenter.org/event/strength-and-balance-virtual-20/
END:VEVENT
BEGIN:VEVENT
DTSTART;TZID=UTC:20240311T130000
DTEND;TZID=UTC:20240311T150000
DTSTAMP:20260421T203154
CREATED:20240221T202523Z
LAST-MODIFIED:20240221T202523Z
UID:13179-1710162000-1710169200@wayneseniorcenter.org
SUMMARY:Classic Movie Matinee: Groundhog Day (1993) (In Center)
DESCRIPTION:Join us for a viewing of the film\, Gentlemen Prefer Blondes (1953) starring Bill Murray and Andie MacDowell.
URL:https://wayneseniorcenter.org/event/classic-movie-matinee-groundhog-day-1993-in-center/
END:VEVENT
BEGIN:VEVENT
DTSTART;TZID=UTC:20240311T140000
DTEND;TZID=UTC:20240311T150000
DTSTAMP:20260421T203154
CREATED:20240221T202524Z
LAST-MODIFIED:20240221T202524Z
UID:13181-1710165600-1710169200@wayneseniorcenter.org
SUMMARY:Seasons: Grief and Loss Group (In Center)
DESCRIPTION:Join others in a safe space to listen\, share\, and heal in conversation about losses you have experienced. We will learn how grief can affect our everyday life and ways to manage the range of feelings and symptoms.
URL:https://wayneseniorcenter.org/event/seasons-grief-and-loss-group-in-center-8/
END:VEVENT
BEGIN:VEVENT
DTSTART;TZID=UTC:20240312T090000
DTEND;TZID=UTC:20240312T110000
DTSTAMP:20260421T203154
CREATED:20240221T202739Z
LAST-MODIFIED:20240221T202739Z
UID:13187-1710234000-1710241200@wayneseniorcenter.org
SUMMARY:Tech Tuesday (In Center)
DESCRIPTION:Tuesdays from 11am – 1pm stop in to chat Technology. Stop by between programs\, after grabbing some lunch\, or whenever is convenient for you. Bring specific questions about your device or come in to explore Wayne Senior Center iPads in a no-pressure environment. Or\, come by to share recent accomplishments or knowledge you’d like to share with others\, or just stop in to say hi and learn something new. Stop by during this time or email Francis at francis@wayneseniorcenter.org to make an appointment.
URL:https://wayneseniorcenter.org/event/tech-tuesday-in-center-21/
END:VEVENT
BEGIN:VEVENT
DTSTART;TZID=UTC:20240312T100000
DTEND;TZID=UTC:20240312T110000
DTSTAMP:20260421T203154
CREATED:20240221T202739Z
LAST-MODIFIED:20240221T202739Z
UID:13188-1710237600-1710241200@wayneseniorcenter.org
SUMMARY:PA Property Tax / Rent Rebate Filing Help (In Center)
DESCRIPTION:A representative from the PA Department of Revenue will be here to help file your rebate for you. Must have necessary documents – call center for more information.
URL:https://wayneseniorcenter.org/event/pa-property-tax-rent-rebate-filing-help-in-center/
END:VEVENT
BEGIN:VEVENT
DTSTART;TZID=UTC:20240312T110000
DTEND;TZID=UTC:20240312T120000
DTSTAMP:20260421T203154
CREATED:20240221T202539Z
LAST-MODIFIED:20240221T202539Z
UID:13186-1710241200-1710244800@wayneseniorcenter.org
SUMMARY:Sit\, Move\, Stretch (In Center and Virtual)
DESCRIPTION:This class offers seated or standing: cardio movement\, strengthening\, deep breathing\, and stretching. In-Person fees – free for WSC members\, $3 for non-members.
URL:https://wayneseniorcenter.org/event/sit-move-stretch-in-center-and-virtual-21/
END:VEVENT
BEGIN:VEVENT
DTSTART;TZID=UTC:20240312T120000
DTEND;TZID=UTC:20240312T130000
DTSTAMP:20260421T203154
CREATED:20240221T202539Z
LAST-MODIFIED:20240221T202539Z
UID:13184-1710244800-1710248400@wayneseniorcenter.org
SUMMARY:Let's Do Lunch! - Cozy Comforts (In Center)
DESCRIPTION:Let’s do lunch together on Tuesday\, March 5\, 12\, and 26! Meals this month will help us say goodbye to winter and hello to spring! You can expect vegan butternut squash mac and cheese\, roasted carrots and parsnips\, and lemon orzo with asparagus and peas. $5 members / $8 non-members. RSVP required\, in-center dining only.
URL:https://wayneseniorcenter.org/event/lets-do-lunch-cozy-comforts-in-center-5/
END:VEVENT
BEGIN:VEVENT
DTSTART;TZID=UTC:20240312T123000
DTEND;TZID=UTC:20240312T130000
DTSTAMP:20260421T203154
CREATED:20240221T202539Z
LAST-MODIFIED:20240221T202539Z
UID:13185-1710246600-1710248400@wayneseniorcenter.org
SUMMARY:Mindfulness (In Center)
DESCRIPTION:Practicing mindfulness provides countless benefits to our overall well-being. Join instructor Liz for an hour of virtual mindfulness.
URL:https://wayneseniorcenter.org/event/mindfulness-in-center-15/
END:VEVENT
BEGIN:VEVENT
DTSTART;TZID=UTC:20240313T100000
DTEND;TZID=UTC:20240313T110000
DTSTAMP:20260421T203154
CREATED:20240221T202740Z
LAST-MODIFIED:20240221T202740Z
UID:13189-1710324000-1710327600@wayneseniorcenter.org
SUMMARY:Drums Alive (In Center)
DESCRIPTION:Join us for a fun\, rhythmic\, seated exercise class that gets you moving and grooving!
URL:https://wayneseniorcenter.org/event/drums-alive-in-center-16/
END:VEVENT
BEGIN:VEVENT
DTSTART;TZID=UTC:20240313T100000
DTEND;TZID=UTC:20240313T110000
DTSTAMP:20260421T203154
CREATED:20240221T202740Z
LAST-MODIFIED:20240221T202740Z
UID:13190-1710324000-1710327600@wayneseniorcenter.org
SUMMARY:Strength and Cardio (Virtual)
DESCRIPTION:Move\, stretch\, and tone both seated and standing along with instructor Cathi from home. All abilities welcome!
URL:https://wayneseniorcenter.org/event/strength-and-cardio-virtual-23/
END:VEVENT
BEGIN:VEVENT
DTSTART;TZID=UTC:20240313T110000
DTEND;TZID=UTC:20240313T120000
DTSTAMP:20260421T203154
CREATED:20240221T202740Z
LAST-MODIFIED:20240221T202740Z
UID:13191-1710327600-1710331200@wayneseniorcenter.org
SUMMARY:Tai Chi (In Center and Virtual)
DESCRIPTION:Tai Chi is a gentle form of exercise involving a series of graceful movements performed in a slow\, focused manner and accompanied by deep breathing. Excellent for strengthening balance and promoting stress reduction. In-Person fees – $5 for WSC members\, $10 for non-members.
URL:https://wayneseniorcenter.org/event/tai-chi-in-center-and-virtual-23/
END:VEVENT
BEGIN:VEVENT
DTSTART;TZID=UTC:20240313T123000
DTEND;TZID=UTC:20240313T133000
DTSTAMP:20260421T203154
CREATED:20240221T202837Z
LAST-MODIFIED:20240221T202837Z
UID:13192-1710333000-1710336600@wayneseniorcenter.org
SUMMARY:Trivia (In Center)
DESCRIPTION:Join us for some friendly competition using a fun\, game-based learning platform called Kahoot!
URL:https://wayneseniorcenter.org/event/trivia-in-center/
END:VEVENT
BEGIN:VEVENT
DTSTART;TZID=UTC:20240314T093000
DTEND;TZID=UTC:20240314T103000
DTSTAMP:20260421T203154
CREATED:20240221T202850Z
LAST-MODIFIED:20240221T202850Z
UID:13197-1710408600-1710412200@wayneseniorcenter.org
SUMMARY:Zumba Gold (In Center)
DESCRIPTION:Keep your body moving\, enjoy lively music\, and have fun dancing your cares away. $3 members / $6 non-members
URL:https://wayneseniorcenter.org/event/zumba-gold-in-center-22/
END:VEVENT
BEGIN:VEVENT
DTSTART;TZID=UTC:20240314T101500
DTEND;TZID=UTC:20240314T110000
DTSTAMP:20260421T203154
CREATED:20240221T202850Z
LAST-MODIFIED:20240221T202850Z
UID:13198-1710411300-1710414000@wayneseniorcenter.org
SUMMARY:Beyond the Table with Danielle Burke (In Center)
DESCRIPTION:Learn to eat more healthfully anywhere – and with sustainability in mind!
URL:https://wayneseniorcenter.org/event/beyond-the-table-with-danielle-burke-in-center/
END:VEVENT
BEGIN:VEVENT
DTSTART;TZID=UTC:20240314T110000
DTEND;TZID=UTC:20240314T120000
DTSTAMP:20260421T203154
CREATED:20240221T202838Z
LAST-MODIFIED:20240221T202838Z
UID:13195-1710414000-1710417600@wayneseniorcenter.org
SUMMARY:Sit\, Move\, Stretch (In Center)
DESCRIPTION:Gentle Movement\, stretching\, and relaxation. Free for WSC members\, $3 for non-members. RSVP by calling the center – (610) 688-6246
URL:https://wayneseniorcenter.org/event/sit-move-stretch-in-center-22/
END:VEVENT
BEGIN:VEVENT
DTSTART;TZID=UTC:20240314T120000
DTEND;TZID=UTC:20240314T130000
DTSTAMP:20260421T203154
CREATED:20240221T202838Z
LAST-MODIFIED:20240221T202838Z
UID:13196-1710417600-1710421200@wayneseniorcenter.org
SUMMARY:The Men's Group (In Center)
DESCRIPTION:From family stories\, thoughts on retirement\, to the news and a good joke\, come enjoy the company of other men! This men’s only meeting is an opportunity to chat about whatever is on your mind. You may enjoy the Center lunch or bring your own if you wish. Drinks and dessert will be provided.
URL:https://wayneseniorcenter.org/event/the-mens-group-in-center-6/
END:VEVENT
BEGIN:VEVENT
DTSTART;TZID=UTC:20240314T130000
DTEND;TZID=UTC:20240314T150000
DTSTAMP:20260421T203154
CREATED:20240221T202837Z
LAST-MODIFIED:20240221T202837Z
UID:13193-1710421200-1710428400@wayneseniorcenter.org
SUMMARY:Cards and Games: Open Play (In Center)
DESCRIPTION:Join us for an afternoon playing games of your choice- Poker\, gin rummy\, pinochle\, mahjong etc. Meet a new friend and start a game of your own. Mahjong teachers/leaders feel free to bring your game set!
URL:https://wayneseniorcenter.org/event/cards-and-games-open-play-in-center-22/
END:VEVENT
BEGIN:VEVENT
DTSTART;TZID=UTC:20240315T103000
DTEND;TZID=UTC:20240315T113000
DTSTAMP:20260421T203154
CREATED:20240221T202850Z
LAST-MODIFIED:20240221T202850Z
UID:13199-1710498600-1710502200@wayneseniorcenter.org
SUMMARY:Chair Yoga (In Person and Virtual)
DESCRIPTION:A well-rounded class that will help with balance\, strengthening\, and relaxation. Have a sturdy chair available. All abilities welcome. In-Person fees – $3 for WSC members\, $6 for non-members.
URL:https://wayneseniorcenter.org/event/chair-yoga-in-person-and-virtual-18/
END:VEVENT
BEGIN:VEVENT
DTSTART;TZID=UTC:20240318T100000
DTEND;TZID=UTC:20240318T120000
DTSTAMP:20260421T203154
CREATED:20240221T202850Z
LAST-MODIFIED:20240221T202850Z
UID:13200-1710756000-1710763200@wayneseniorcenter.org
SUMMARY:Refresher Bridge (In Center)
DESCRIPTION:Brush up on your bridge skills with Lawrie Stetson and Dave Heron. Must have previous bridge experience.
URL:https://wayneseniorcenter.org/event/refresher-bridge-in-center-21/
END:VEVENT
BEGIN:VEVENT
DTSTART;TZID=UTC:20240318T100000
DTEND;TZID=UTC:20240318T120000
DTSTAMP:20260421T203154
CREATED:20240221T202905Z
LAST-MODIFIED:20240221T202905Z
UID:13202-1710756000-1710763200@wayneseniorcenter.org
SUMMARY:WSC Quilters (In Center)
DESCRIPTION:WSC quiliting club. All skill levels Welcome. Come by or RSVP by calling the center – (610) 688-6246
URL:https://wayneseniorcenter.org/event/wsc-quilters-in-center-21/
END:VEVENT
BEGIN:VEVENT
DTSTART;TZID=UTC:20240318T130000
DTEND;TZID=UTC:20240318T140000
DTSTAMP:20260421T203154
CREATED:20240221T202851Z
LAST-MODIFIED:20240221T202851Z
UID:13201-1710766800-1710770400@wayneseniorcenter.org
SUMMARY:Strength and Balance (Virtual)
DESCRIPTION:Move\, stretch\, and improve your balance\, both seated and standing\, along with instructor Cathi from home. All abilities welcome!
URL:https://wayneseniorcenter.org/event/strength-and-balance-virtual-21/
END:VEVENT
BEGIN:VEVENT
DTSTART;TZID=UTC:20240319T090000
DTEND;TZID=UTC:20240319T110000
DTSTAMP:20260421T203154
CREATED:20240221T202905Z
LAST-MODIFIED:20240221T202905Z
UID:13204-1710838800-1710846000@wayneseniorcenter.org
SUMMARY:Tech Tuesday (In Center)
DESCRIPTION:Tuesdays from 11am – 1pm stop in to chat Technology. Stop by between programs\, after grabbing some lunch\, or whenever is convenient for you. Bring specific questions about your device or come in to explore Wayne Senior Center iPads in a no-pressure environment. Or\, come by to share recent accomplishments or knowledge you’d like to share with others\, or just stop in to say hi and learn something new. Stop by during this time or email Francis at francis@wayneseniorcenter.org to make an appointment.
URL:https://wayneseniorcenter.org/event/tech-tuesday-in-center-22/
END:VEVENT
BEGIN:VEVENT
DTSTART;TZID=UTC:20240319T100000
DTEND;TZID=UTC:20240319T110000
DTSTAMP:20260421T203155
CREATED:20240221T202905Z
LAST-MODIFIED:20240221T203229Z
UID:13205-1710842400-1710846000@wayneseniorcenter.org
SUMMARY:Tech Discussion: Modern Luddism (In Center)
DESCRIPTION:You may be called a Luddite if you have an older model phone\, but what does that really mean? Come discuss the origins of the 200-year-old Luddism movement and it’s modern analogs in issues like self-checkout lines and AI art. We’ll also discuss the role of technology in our lives\, the implications of non-adoption of new technology\, and the choices that we have to go ‘backwards’ or to ‘dumb’ down the technology we use.
URL:https://wayneseniorcenter.org/event/tech-discussion-modern-luddism-in-center/
END:VEVENT
BEGIN:VEVENT
DTSTART;TZID=UTC:20240319T110000
DTEND;TZID=UTC:20240319T120000
DTSTAMP:20260421T203155
CREATED:20240221T202905Z
LAST-MODIFIED:20240221T202905Z
UID:13203-1710846000-1710849600@wayneseniorcenter.org
SUMMARY:Sit\, Move\, Stretch (In Center and Virtual)
DESCRIPTION:This class offers seated or standing: cardio movement\, strengthening\, deep breathing\, and stretching. In-Person fees – free for WSC members\, $3 for non-members.
URL:https://wayneseniorcenter.org/event/sit-move-stretch-in-center-and-virtual-22/
END:VEVENT
BEGIN:VEVENT
DTSTART;TZID=UTC:20240319T123000
DTEND;TZID=UTC:20240319T133000
DTSTAMP:20260421T203155
CREATED:20240221T202906Z
LAST-MODIFIED:20240221T202906Z
UID:13206-1710851400-1710855000@wayneseniorcenter.org
SUMMARY:Iconic Women of Broadway (In Center)
DESCRIPTION:In honor of Women’s History Month\, Minnie Kalan\, local singer and Radnor resident will entertain us with her “Iconic Women of Broadway” show.
URL:https://wayneseniorcenter.org/event/iconic-women-of-broadway-in-center/
END:VEVENT
BEGIN:VEVENT
DTSTART;TZID=UTC:20240320T100000
DTEND;TZID=UTC:20240320T110000
DTSTAMP:20260421T203155
CREATED:20240221T202920Z
LAST-MODIFIED:20240221T202920Z
UID:13207-1710928800-1710932400@wayneseniorcenter.org
SUMMARY:Drums Alive (In Center)
DESCRIPTION:Join us for a fun\, rhythmic\, seated exercise class that gets you moving and grooving!
URL:https://wayneseniorcenter.org/event/drums-alive-in-center-17/
END:VEVENT
BEGIN:VEVENT
DTSTART;TZID=UTC:20240320T100000
DTEND;TZID=UTC:20240320T110000
DTSTAMP:20260421T203155
CREATED:20240221T202920Z
LAST-MODIFIED:20240221T202920Z
UID:13210-1710928800-1710932400@wayneseniorcenter.org
SUMMARY:Strength and Cardio (Virtual)
DESCRIPTION:Move\, stretch\, and tone both seated and standing along with instructor Cathi from home. All abilities welcome!
URL:https://wayneseniorcenter.org/event/strength-and-cardio-virtual-24/
END:VEVENT
END:VCALENDAR