BEGIN:VCALENDAR
VERSION:2.0
PRODID:-//Wayne Senior Center - ECPv6.15.20//NONSGML v1.0//EN
CALSCALE:GREGORIAN
METHOD:PUBLISH
X-WR-CALNAME:Wayne Senior Center
X-ORIGINAL-URL:https://wayneseniorcenter.org
X-WR-CALDESC:Events for Wayne Senior Center
REFRESH-INTERVAL;VALUE=DURATION:PT1H
X-Robots-Tag:noindex
X-PUBLISHED-TTL:PT1H
BEGIN:VTIMEZONE
TZID:UTC
BEGIN:STANDARD
TZOFFSETFROM:+0000
TZOFFSETTO:+0000
TZNAME:UTC
DTSTART:20220101T000000
END:STANDARD
END:VTIMEZONE
BEGIN:VEVENT
DTSTART;TZID=UTC:20231017T120000
DTEND;TZID=UTC:20231017T130000
DTSTAMP:20260421T222607
CREATED:20231026T153728Z
LAST-MODIFIED:20231026T153728Z
UID:12543-1697544000-1697547600@wayneseniorcenter.org
SUMMARY:Medicare 101 with Breakfast (In Center)
DESCRIPTION:PA Medi of Delaware County presents: Medicare 101. This program will cover parts of Medicare\, the pros and cons of traditional Medicare vs Medicare advantage plans\, when and how to sign up\, and more! Please call or visit the Center to RSVP.
URL:https://wayneseniorcenter.org/event/medicare-101-with-breakfast-in-center/
CATEGORIES:Life Enrichment
END:VEVENT
BEGIN:VEVENT
DTSTART;TZID=UTC:20231017T120000
DTEND;TZID=UTC:20231017T130000
DTSTAMP:20260421T222607
CREATED:20231026T153713Z
LAST-MODIFIED:20231026T153713Z
UID:12540-1697544000-1697547600@wayneseniorcenter.org
SUMMARY:Let's Do Lunch! - Live in the Blue Zone (In Center)
DESCRIPTION:Let’s do lunch together in the Center! This month we’ll be exploring the Blue Zones\, featuring recipes from the Blue Zone communities in the Netflix mini-series ‘Live to 100: Secrets of the Blue Zones.” The menu will change weekly. $5 for members\, $8 for non-members. Call for more information and to reserve a meal\, limited servings available – (610)688-6246
URL:https://wayneseniorcenter.org/event/lets-do-lunch-live-in-the-blue-zone-in-center-6/
CATEGORIES:Social
END:VEVENT
BEGIN:VEVENT
DTSTART;TZID=UTC:20231017T110000
DTEND;TZID=UTC:20231017T130000
DTSTAMP:20260421T222607
CREATED:20231026T153713Z
LAST-MODIFIED:20231026T153713Z
UID:12541-1697540400-1697547600@wayneseniorcenter.org
SUMMARY:Tech Tuesday (In Center)
DESCRIPTION:Tuesdays from 11am – 1pm stop in to chat Technology. Stop by between programs\, after grabbing some lunch\, or whenever is convenient for you. Bring specific questions about your device or come in to explore Wayne Senior Center iPads in a no-pressure environment. Or\, come by to share recent accomplishments or knowledge you’d like to share with others\, or just stop in to say hi and learn something new. Stop by during this time or email Francis at francis@wayneseniorcenter.org to make an appointment.
URL:https://wayneseniorcenter.org/event/tech-tuesday-in-center-5/
CATEGORIES:Life Enrichment
END:VEVENT
BEGIN:VEVENT
DTSTART;TZID=UTC:20231017T110000
DTEND;TZID=UTC:20231017T120000
DTSTAMP:20260421T222607
CREATED:20231026T145721Z
LAST-MODIFIED:20231026T145721Z
UID:12505-1697540400-1697544000@wayneseniorcenter.org
SUMMARY:Sit\, Move\, Stretch (In Center and Virtual)
DESCRIPTION:This class offers seated or standing: cardio movement\, strengthening\, deep breathing\, and stretching. In-Person fees – free for WSC members\, $3 for non-members.
URL:https://wayneseniorcenter.org/event/sit-move-stretch-in-center-and-virtual-5/
CATEGORIES:Fitness
END:VEVENT
BEGIN:VEVENT
DTSTART;TZID=UTC:20231017T093000
DTEND;TZID=UTC:20231017T103000
DTSTAMP:20260421T222607
CREATED:20231026T153713Z
LAST-MODIFIED:20231026T153713Z
UID:12542-1697535000-1697538600@wayneseniorcenter.org
SUMMARY:Walking Club (In Center)
DESCRIPTION:Join Margo\, Destinie\, and other WSC friends for a walk on the Radnor Trail. Every Tuesday at 9:30am weather permitting. Walkers meet at the trail parking lot – 520 Conestoga Road. All abilities welcome. Wear comfortable walking shoes.
URL:https://wayneseniorcenter.org/event/walking-club-in-center-3/
CATEGORIES:Fitness
END:VEVENT
BEGIN:VEVENT
DTSTART;TZID=UTC:20231016T130000
DTEND;TZID=UTC:20231016T150000
DTSTAMP:20260421T222607
CREATED:20231026T153658Z
LAST-MODIFIED:20231026T153658Z
UID:12537-1697461200-1697468400@wayneseniorcenter.org
SUMMARY:Classic Movie Matinee: Beetlejuice (In Center)
DESCRIPTION:Join us for a viewing of the film\, Beetlejuice (1988)\, a film starring Alec Baldwin\, Michael Keaton\, Winona Ryder\, and Geena Davis. The spirits of a deceased couple are harassed by an unbearable family that has moved into their home and hire a malicious spirit to drive them out.
URL:https://wayneseniorcenter.org/event/classic-movie-matinee-beetlejuice-in-center/
CATEGORIES:Social
END:VEVENT
BEGIN:VEVENT
DTSTART;TZID=UTC:20231016T130000
DTEND;TZID=UTC:20231016T140000
DTSTAMP:20260421T222607
CREATED:20231026T145726Z
LAST-MODIFIED:20231026T145726Z
UID:12510-1697461200-1697464800@wayneseniorcenter.org
SUMMARY:Strength and Balance (Virtual)
DESCRIPTION:Move\, stretch\, and improve your balance\, both seated and standing\, along with instructor Cathi from home. All abilities welcome!
URL:https://wayneseniorcenter.org/event/strength-and-balance-virtual-7/
CATEGORIES:Fitness
END:VEVENT
BEGIN:VEVENT
DTSTART;TZID=UTC:20231016T100000
DTEND;TZID=UTC:20231016T120000
DTSTAMP:20260421T222607
CREATED:20231026T153713Z
LAST-MODIFIED:20231026T153713Z
UID:12538-1697450400-1697457600@wayneseniorcenter.org
SUMMARY:Refresher Bridge (In Center)
DESCRIPTION:Brush up on your bridge skills with Lawrie Stetson and Dave Heron. Must have previous bridge experience.
URL:https://wayneseniorcenter.org/event/refresher-bridge-in-center-7/
CATEGORIES:Social
END:VEVENT
BEGIN:VEVENT
DTSTART;TZID=UTC:20231016T100000
DTEND;TZID=UTC:20231016T120000
DTSTAMP:20260421T222607
CREATED:20231026T153713Z
LAST-MODIFIED:20231026T153713Z
UID:12539-1697450400-1697457600@wayneseniorcenter.org
SUMMARY:WSC Quilters (In Center)
DESCRIPTION:WSC quiliting club. All skill levels Welcome. Come by or RSVP by calling the center – (610) 688-6246
URL:https://wayneseniorcenter.org/event/wsc-quilters-in-center-7/
CATEGORIES:Social
END:VEVENT
BEGIN:VEVENT
DTSTART;TZID=UTC:20231016T100000
DTEND;TZID=UTC:20231016T110000
DTSTAMP:20260421T222607
CREATED:20231026T153658Z
LAST-MODIFIED:20231026T153658Z
UID:12536-1697450400-1697454000@wayneseniorcenter.org
SUMMARY:Brain Games (In Center)
DESCRIPTION:Exercise your brain and work through word games\, word scrambles and brain teasers.
URL:https://wayneseniorcenter.org/event/brain-games-in-center-7/
CATEGORIES:Life Enrichment
END:VEVENT
BEGIN:VEVENT
DTSTART;TZID=UTC:20231013T113000
DTEND;TZID=UTC:20231013T123000
DTSTAMP:20260421T222607
CREATED:20231026T144602Z
LAST-MODIFIED:20231026T144602Z
UID:12499-1697196600-1697200200@wayneseniorcenter.org
SUMMARY:Lifelong Learning: The Power of Mind Over Body (Virtual)
DESCRIPTION:Join Margo for a lifelong learning presentation.
URL:https://wayneseniorcenter.org/event/lifelong-learning-the-power-of-mind-over-body-virtual/
CATEGORIES:Life Enrichment
END:VEVENT
BEGIN:VEVENT
DTSTART;TZID=UTC:20231013T103000
DTEND;TZID=UTC:20231013T113000
DTSTAMP:20260421T222607
CREATED:20231026T144601Z
LAST-MODIFIED:20231026T144601Z
UID:12496-1697193000-1697196600@wayneseniorcenter.org
SUMMARY:Chair Yoga (In Center and Virtual)
DESCRIPTION:A well-rounded class that will help with balance\, strengthening\, and relaxation. Have a sturdy chair available. All abilities welcome. In-Person fees – $3 for WSC members\, $6 for non-members.
URL:https://wayneseniorcenter.org/event/chair-yoga-in-center-and-virtual-2/
CATEGORIES:Fitness
END:VEVENT
BEGIN:VEVENT
DTSTART;TZID=UTC:20231012T130000
DTEND;TZID=UTC:20231012T150000
DTSTAMP:20260421T222607
CREATED:20231026T153643Z
LAST-MODIFIED:20231026T153643Z
UID:12531-1697115600-1697122800@wayneseniorcenter.org
SUMMARY:Cards and Games: Open Play (In Center)
DESCRIPTION:Join us for an afternoon playing games of your choice- Poker\, gin rummy\, pinochle\, mahjong etc. Meet a new friend and start a game of your own. Mahjong teachers/leaders feel free to bring your game set!
URL:https://wayneseniorcenter.org/event/cards-and-games-open-play-in-center-6/
CATEGORIES:Social
END:VEVENT
BEGIN:VEVENT
DTSTART;TZID=UTC:20231012T110000
DTEND;TZID=UTC:20231012T120000
DTSTAMP:20260421T222607
CREATED:20231026T153643Z
LAST-MODIFIED:20231026T153643Z
UID:12532-1697108400-1697112000@wayneseniorcenter.org
SUMMARY:Sit\, Move\, Stretch (In Center)
DESCRIPTION:Gentle Movement\, stretching\, and relaxation. Free for WSC members\, $3 for non-members. RSVP by calling the center – (610) 688-6246
URL:https://wayneseniorcenter.org/event/sit-move-stretch-in-center-6/
CATEGORIES:Fitness
END:VEVENT
BEGIN:VEVENT
DTSTART;TZID=UTC:20231012T101500
DTEND;TZID=UTC:20231012T110000
DTSTAMP:20260421T222607
CREATED:20231026T153658Z
LAST-MODIFIED:20231026T153658Z
UID:12535-1697105700-1697108400@wayneseniorcenter.org
SUMMARY:Halloween Trivia (In Center)
DESCRIPTION:Join us for some friendly competition with Halloween themed trivia. We will cover a variety of topics including fun facts about Halloween\, music\, movies\, and more!
URL:https://wayneseniorcenter.org/event/halloween-trivia-in-center/
CATEGORIES:Social
END:VEVENT
BEGIN:VEVENT
DTSTART;TZID=UTC:20231012T093000
DTEND;TZID=UTC:20231012T103000
DTSTAMP:20260421T222607
CREATED:20231026T153658Z
LAST-MODIFIED:20231026T153658Z
UID:12533-1697103000-1697106600@wayneseniorcenter.org
SUMMARY:Zumba Gold (In Center)
DESCRIPTION:Keep your body moving\, enjoy lively music\, and have fun dancing your cares away. $3 members / $6 non-members
URL:https://wayneseniorcenter.org/event/zumba-gold-in-center-6/
CATEGORIES:Fitness
END:VEVENT
BEGIN:VEVENT
DTSTART;TZID=UTC:20231012T090000
DTEND;TZID=UTC:20231012T113000
DTSTAMP:20260421T222607
CREATED:20231026T153658Z
LAST-MODIFIED:20231026T153658Z
UID:12534-1697101200-1697110200@wayneseniorcenter.org
SUMMARY:Flu Clinic (In Center)
DESCRIPTION:Please call or visit the center to request a flue vaccine appointment. A continental breakfast will be provided.
URL:https://wayneseniorcenter.org/event/flu-clinic-in-center/
CATEGORIES:Life Enrichment
END:VEVENT
BEGIN:VEVENT
DTSTART;TZID=UTC:20231011T160000
DTEND;TZID=UTC:20231011T160000
DTSTAMP:20260421T222607
CREATED:20231026T144603Z
LAST-MODIFIED:20231026T144603Z
UID:12501-1697040000-1697040000@wayneseniorcenter.org
SUMMARY:Mindfulness (Virtual)
DESCRIPTION:Practicing mindfulness provides countless benefits to our overall well-being. Join instructor Liz for an hour of virtual mindfulness.
URL:https://wayneseniorcenter.org/event/mindfulness-virtual-4/
CATEGORIES:Health and Wellness
END:VEVENT
BEGIN:VEVENT
DTSTART;TZID=UTC:20231011T110000
DTEND;TZID=UTC:20231011T120000
DTSTAMP:20260421T222607
CREATED:20231026T145742Z
LAST-MODIFIED:20231026T145742Z
UID:12518-1697022000-1697025600@wayneseniorcenter.org
SUMMARY:Tai Chi (In Center and Virtual)
DESCRIPTION:Tai Chi is a gentle form of exercise involving a series of graceful movements performed in a slow\, focused manner and accompanied by deep breathing. Excellent for strengthening balance and promoting stress reduction. In-Person fees – $5 for WSC members\, $10 for non-members.
URL:https://wayneseniorcenter.org/event/tai-chi-in-center-and-virtual-7/
CATEGORIES:Fitness
END:VEVENT
BEGIN:VEVENT
DTSTART;TZID=UTC:20231011T100000
DTEND;TZID=UTC:20231011T110000
DTSTAMP:20260421T222607
CREATED:20231026T153643Z
LAST-MODIFIED:20231026T153643Z
UID:12530-1697018400-1697022000@wayneseniorcenter.org
SUMMARY:Drums Alive (In Center)
DESCRIPTION:Join us for a fun\, rhythmic\, seated exercise class that gets you moving and grooving!
URL:https://wayneseniorcenter.org/event/drums-alive-in-center-6/
CATEGORIES:Fitness
END:VEVENT
BEGIN:VEVENT
DTSTART;TZID=UTC:20231011T100000
DTEND;TZID=UTC:20231011T110000
DTSTAMP:20260421T222607
CREATED:20231026T145741Z
LAST-MODIFIED:20231026T145741Z
UID:12514-1697018400-1697022000@wayneseniorcenter.org
SUMMARY:Strength and Cardio (Virtual)
DESCRIPTION:Move\, stretch\, and tone both seated and standing along with instructor Cathi from home. All abilities welcome!
URL:https://wayneseniorcenter.org/event/strength-and-cardio-virtual-7/
CATEGORIES:Fitness
END:VEVENT
BEGIN:VEVENT
DTSTART;TZID=UTC:20231010T130000
DTEND;TZID=UTC:20231010T143000
DTSTAMP:20260421T222607
CREATED:20231026T153642Z
LAST-MODIFIED:20231026T153642Z
UID:12528-1696942800-1696948200@wayneseniorcenter.org
SUMMARY:Zentangle (In Center)
DESCRIPTION:October Zentangling! Led by Mindy Shapiro\, paper cut artist and certified Zentangle teacher.
URL:https://wayneseniorcenter.org/event/zentangle-in-center/
CATEGORIES:Life Enrichment
END:VEVENT
BEGIN:VEVENT
DTSTART;TZID=UTC:20231010T123000
DTEND;TZID=UTC:20231010T133000
DTSTAMP:20260421T222607
CREATED:20231026T153643Z
LAST-MODIFIED:20231026T153643Z
UID:12529-1696941000-1696944600@wayneseniorcenter.org
SUMMARY:"Secrets of the Blue Zone" Screening (In Center)
DESCRIPTION:Screening of an episode of the Netflix mini-series “Live to 100: Secrets of the Blue Zones”\, following the week’s Let’s Do Lunch!
URL:https://wayneseniorcenter.org/event/secrets-of-the-blue-zone-screening-in-center-2/
CATEGORIES:Life Enrichment
END:VEVENT
BEGIN:VEVENT
DTSTART;TZID=UTC:20231010T120000
DTEND;TZID=UTC:20231010T130000
DTSTAMP:20260421T222607
CREATED:20231026T153641Z
LAST-MODIFIED:20231026T153641Z
UID:12525-1696939200-1696942800@wayneseniorcenter.org
SUMMARY:Let's Do Lunch! - Live in the Blue Zone (In Center)
DESCRIPTION:Let’s do lunch together in the Center! This month we’ll be exploring the Blue Zones\, featuring recipes from the Blue Zone communities in the Netflix mini-series ‘Live to 100: Secrets of the Blue Zones.” The menu will change weekly. $5 for members\, $8 for non-members. Call for more information and to reserve a meal\, limited servings available – (610)688-6246
URL:https://wayneseniorcenter.org/event/lets-do-lunch-live-in-the-blue-zone-in-center-5/
CATEGORIES:Social
END:VEVENT
BEGIN:VEVENT
DTSTART;TZID=UTC:20231010T110000
DTEND;TZID=UTC:20231010T130000
DTSTAMP:20260421T222607
CREATED:20231026T153642Z
LAST-MODIFIED:20231026T153642Z
UID:12526-1696935600-1696942800@wayneseniorcenter.org
SUMMARY:Tech Tuesday (In Center)
DESCRIPTION:Tuesdays from 11am – 1pm stop in to chat Technology. Stop by between programs\, after grabbing some lunch\, or whenever is convenient for you. Bring specific questions about your device or come in to explore Wayne Senior Center iPads in a no-pressure environment. Or\, come by to share recent accomplishments or knowledge you’d like to share with others\, or just stop in to say hi and learn something new. Stop by during this time or email Francis at francis@wayneseniorcenter.org to make an appointment.
URL:https://wayneseniorcenter.org/event/tech-tuesday-in-center-4/
CATEGORIES:Life Enrichment
END:VEVENT
BEGIN:VEVENT
DTSTART;TZID=UTC:20231010T110000
DTEND;TZID=UTC:20231010T120000
DTSTAMP:20260421T222607
CREATED:20231026T145721Z
LAST-MODIFIED:20231026T145721Z
UID:12504-1696935600-1696939200@wayneseniorcenter.org
SUMMARY:Sit\, Move\, Stretch (In Center and Virtual)
DESCRIPTION:This class offers seated or standing: cardio movement\, strengthening\, deep breathing\, and stretching. In-Person fees – free for WSC members\, $3 for non-members.
URL:https://wayneseniorcenter.org/event/sit-move-stretch-in-center-and-virtual-4/
CATEGORIES:Fitness
END:VEVENT
BEGIN:VEVENT
DTSTART;TZID=UTC:20231010T093000
DTEND;TZID=UTC:20231010T103000
DTSTAMP:20260421T222607
CREATED:20231026T153642Z
LAST-MODIFIED:20231026T153642Z
UID:12527-1696930200-1696933800@wayneseniorcenter.org
SUMMARY:Walking Club (In Center)
DESCRIPTION:Join Margo\, Destinie\, and other WSC friends for a walk on the Radnor Trail. Every Tuesday at 9:30am weather permitting. Walkers meet at the trail parking lot – 520 Conestoga Road. All abilities welcome. Wear comfortable walking shoes.
URL:https://wayneseniorcenter.org/event/walking-club-in-center-2/
CATEGORIES:Fitness
END:VEVENT
BEGIN:VEVENT
DTSTART;TZID=UTC:20231009T130000
DTEND;TZID=UTC:20231009T140000
DTSTAMP:20260421T222607
CREATED:20231026T145726Z
LAST-MODIFIED:20231026T145726Z
UID:12509-1696856400-1696860000@wayneseniorcenter.org
SUMMARY:Strength and Balance (Virtual)
DESCRIPTION:Move\, stretch\, and improve your balance\, both seated and standing\, along with instructor Cathi from home. All abilities welcome!
URL:https://wayneseniorcenter.org/event/strength-and-balance-virtual-6/
CATEGORIES:Fitness
END:VEVENT
BEGIN:VEVENT
DTSTART;TZID=UTC:20231009T100000
DTEND;TZID=UTC:20231009T120000
DTSTAMP:20260421T222607
CREATED:20231026T153641Z
LAST-MODIFIED:20231026T153641Z
UID:12523-1696845600-1696852800@wayneseniorcenter.org
SUMMARY:Refresher Bridge (In Center)
DESCRIPTION:Brush up on your bridge skills with Lawrie Stetson and Dave Heron. Must have previous bridge experience.
URL:https://wayneseniorcenter.org/event/refresher-bridge-in-center-6/
CATEGORIES:Social
END:VEVENT
BEGIN:VEVENT
DTSTART;TZID=UTC:20231009T100000
DTEND;TZID=UTC:20231009T120000
DTSTAMP:20260421T222607
CREATED:20231026T153641Z
LAST-MODIFIED:20231026T153641Z
UID:12524-1696845600-1696852800@wayneseniorcenter.org
SUMMARY:WSC Quilters (In Center)
DESCRIPTION:WSC quiliting club. All skill levels Welcome. Come by or RSVP by calling the center – (610) 688-6246
URL:https://wayneseniorcenter.org/event/wsc-quilters-in-center-6/
CATEGORIES:Social
END:VEVENT
END:VCALENDAR