BEGIN:VCALENDAR
VERSION:2.0
PRODID:-//Wayne Senior Center - ECPv6.15.20//NONSGML v1.0//EN
CALSCALE:GREGORIAN
METHOD:PUBLISH
X-ORIGINAL-URL:https://wayneseniorcenter.org
X-WR-CALDESC:Events for Wayne Senior Center
REFRESH-INTERVAL;VALUE=DURATION:PT1H
X-Robots-Tag:noindex
X-PUBLISHED-TTL:PT1H
BEGIN:VTIMEZONE
TZID:UTC
BEGIN:STANDARD
TZOFFSETFROM:+0000
TZOFFSETTO:+0000
TZNAME:UTC
DTSTART:20240101T000000
END:STANDARD
END:VTIMEZONE
BEGIN:VEVENT
DTSTART;TZID=UTC:20250423T123000
DTEND;TZID=UTC:20250423T133000
DTSTAMP:20260421T200705
CREATED:20250327T191448Z
LAST-MODIFIED:20250327T191448Z
UID:15050-1745411400-1745415000@wayneseniorcenter.org
SUMMARY:Silver Sneakers Classic
DESCRIPTION:Focus on strengthening muscles and increasing range of motion using light weights\, stretch bands\, and exercise balls.
URL:https://wayneseniorcenter.org/event/silver-sneakers-classic-50/
END:VEVENT
BEGIN:VEVENT
DTSTART;TZID=UTC:20250423T140000
DTEND;TZID=UTC:20250423T150000
DTSTAMP:20260421T200705
CREATED:20250327T191449Z
LAST-MODIFIED:20250327T191449Z
UID:15053-1745416800-1745420400@wayneseniorcenter.org
SUMMARY:Afternoon of Beauty with Beke Beau
DESCRIPTION:Makeup for Grown-ups: Look Your Best Now! Professional makeup artist Beke Beau will share her best tips and answer your beauty questions. Beauty basket raffles and refreshments served. $10 members\, $15 non-members. RSVP by April 16th. Event proceeds support our 2025 Delco Gives campaign.
URL:https://wayneseniorcenter.org/event/afternoon-of-beauty-with-beke-beau/
END:VEVENT
BEGIN:VEVENT
DTSTART;TZID=UTC:20250424T090000
DTEND;TZID=UTC:20250424T110000
DTSTAMP:20260421T200705
CREATED:20250327T191502Z
LAST-MODIFIED:20250327T191502Z
UID:15054-1745485200-1745492400@wayneseniorcenter.org
SUMMARY:Blood Pressure Screenings
DESCRIPTION:Are you trying to keep track of your blood pressure readings? Have questions about a medication or just need a listening ear? Stop by and speak 1:1 with a nurse.
URL:https://wayneseniorcenter.org/event/blood-pressure-screenings-14/
END:VEVENT
BEGIN:VEVENT
DTSTART;TZID=UTC:20250424T100000
DTEND;TZID=UTC:20250424T110000
DTSTAMP:20260421T200705
CREATED:20250327T191503Z
LAST-MODIFIED:20250327T191503Z
UID:15055-1745488800-1745492400@wayneseniorcenter.org
SUMMARY:Cardio Drumming with Andrea
DESCRIPTION:Join Andrea once a month for a fun\, rhythmic\, seated exercise class that gets you moving and grooving. Each month will have a fun theme! $3 for members\, $6 non-members
URL:https://wayneseniorcenter.org/event/cardio-drumming-with-andrea-6/
END:VEVENT
BEGIN:VEVENT
DTSTART;TZID=UTC:20250424T100000
DTEND;TZID=UTC:20250424T113000
DTSTAMP:20260421T200705
CREATED:20250327T191517Z
LAST-MODIFIED:20250327T191517Z
UID:15059-1745488800-1745494200@wayneseniorcenter.org
SUMMARY:Drop-in Tech Help
DESCRIPTION:Drop in to chat with WSC Tech Tutor volunteers. Get acquainted with your phone\, bring specific questions about your computer\, or stop by to learn something new. Bring your device and any relevant account information / passwords.
URL:https://wayneseniorcenter.org/event/drop-in-tech-help-2/
END:VEVENT
BEGIN:VEVENT
DTSTART;TZID=UTC:20250424T110000
DTEND;TZID=UTC:20250424T120000
DTSTAMP:20260421T200705
CREATED:20250327T191504Z
LAST-MODIFIED:20250327T191504Z
UID:15058-1745492400-1745496000@wayneseniorcenter.org
SUMMARY:Sit\, Move\, Stretch
DESCRIPTION:This class offers seated or standing: cardio movement\, strengthening\, deep breathing\, and stretching. In-Person fees – free for WSC members\, $3 for non-members.
URL:https://wayneseniorcenter.org/event/sit-move-stretch-53/
END:VEVENT
BEGIN:VEVENT
DTSTART;TZID=UTC:20250424T120000
DTEND;TZID=UTC:20250424T130000
DTSTAMP:20260421T200705
CREATED:20250327T191503Z
LAST-MODIFIED:20250327T191503Z
UID:15057-1745496000-1745499600@wayneseniorcenter.org
SUMMARY:April Birthday Lunch with Piano Music by Johnathon Light
DESCRIPTION:Join us to celebrate members who have a birthday in February! Enjoy a special sweet treat and some piano music by Johnathon Light.
URL:https://wayneseniorcenter.org/event/april-birthday-lunch-with-piano-music-by-johnathon-light/
END:VEVENT
BEGIN:VEVENT
DTSTART;TZID=UTC:20250424T130000
DTEND;TZID=UTC:20250424T150000
DTSTAMP:20260421T200705
CREATED:20250327T191503Z
LAST-MODIFIED:20250327T191503Z
UID:15056-1745499600-1745506800@wayneseniorcenter.org
SUMMARY:Cards and Games: Open Play
DESCRIPTION:Join us for an afternoon playing games of your choice- Poker\, gin rummy\, pinochle\, mahjong etc. Meet a new friend and start a game of your own. Mahjong teachers/leaders feel free to bring your game set!
URL:https://wayneseniorcenter.org/event/cards-and-games-open-play-28/
END:VEVENT
BEGIN:VEVENT
DTSTART;TZID=UTC:20250425T093000
DTEND;TZID=UTC:20250425T103000
DTSTAMP:20260421T200705
CREATED:20250327T191518Z
LAST-MODIFIED:20250327T191518Z
UID:15061-1745573400-1745577000@wayneseniorcenter.org
SUMMARY:Senior Circuit
DESCRIPTION:Join us for a dynamic strength-building\, full-body workout utilizing bands\, weights\, and balls as we cycle through various stations.
URL:https://wayneseniorcenter.org/event/senior-circuit-26/
END:VEVENT
BEGIN:VEVENT
DTSTART;TZID=UTC:20250425T103000
DTEND;TZID=UTC:20250425T113000
DTSTAMP:20260421T200705
CREATED:20250327T191518Z
LAST-MODIFIED:20250327T191518Z
UID:15060-1745577000-1745580600@wayneseniorcenter.org
SUMMARY:Chair Yoga
DESCRIPTION:A well-rounded class that will help with balance\, strengthening\, and relaxation. Have a sturdy chair available. All abilities welcome. In-Person fees – $3 for WSC members\, $6 for non-members.
URL:https://wayneseniorcenter.org/event/chair-yoga-27/
END:VEVENT
BEGIN:VEVENT
DTSTART;TZID=UTC:20250428T100000
DTEND;TZID=UTC:20250428T110000
DTSTAMP:20260421T200705
CREATED:20250327T191519Z
LAST-MODIFIED:20250327T191519Z
UID:15063-1745834400-1745838000@wayneseniorcenter.org
SUMMARY:Silver Sneakers Classic
DESCRIPTION:Focus on strengthening muscles and increasing range of motion using light weights\, stretch bands\, and exercise balls.
URL:https://wayneseniorcenter.org/event/silver-sneakers-classic-51/
END:VEVENT
BEGIN:VEVENT
DTSTART;TZID=UTC:20250428T100000
DTEND;TZID=UTC:20250428T120000
DTSTAMP:20260421T200705
CREATED:20250327T191518Z
LAST-MODIFIED:20250327T191518Z
UID:15062-1745834400-1745841600@wayneseniorcenter.org
SUMMARY:Refresher Bridge
DESCRIPTION:Brush up on your bridge skills with Lawrie Stetson and Dave Heron. Must have previous bridge experience.
URL:https://wayneseniorcenter.org/event/refresher-bridge-27/
END:VEVENT
BEGIN:VEVENT
DTSTART;TZID=UTC:20250428T100000
DTEND;TZID=UTC:20250428T120000
DTSTAMP:20260421T200705
CREATED:20250327T191526Z
LAST-MODIFIED:20250327T191526Z
UID:15065-1745834400-1745841600@wayneseniorcenter.org
SUMMARY:WSC Quilters
DESCRIPTION:WSC quiliting club. All skill levels Welcome. Come by or RSVP by calling the center – (610) 688-6246
URL:https://wayneseniorcenter.org/event/wsc-quilters-27/
END:VEVENT
BEGIN:VEVENT
DTSTART;TZID=UTC:20250428T110000
DTEND;TZID=UTC:20250428T120000
DTSTAMP:20260421T200705
CREATED:20250327T191526Z
LAST-MODIFIED:20250327T191526Z
UID:15064-1745838000-1745841600@wayneseniorcenter.org
SUMMARY:Soul Line Dancing
DESCRIPTION:Kenny James will get you moving and grooving in a fun\, easy to learn dance class. No experience necessary – all can join. $3 members / $6 non-members.
URL:https://wayneseniorcenter.org/event/soul-line-dancing-29/
END:VEVENT
BEGIN:VEVENT
DTSTART;TZID=UTC:20250429T093000
DTEND;TZID=UTC:20250429T103000
DTSTAMP:20260421T200705
CREATED:20250327T191532Z
LAST-MODIFIED:20250327T191532Z
UID:15069-1745919000-1745922600@wayneseniorcenter.org
SUMMARY:Walking Club
DESCRIPTION:It’s back! Join Margo and Andrea and some WSC friends for a walk on the Radnor trail – weather permitting. Walkers meet at the trail parking lot (520 Conestoga Rd). All  abilities welcome. Wear comfortable walking shoes and bring a bottle of water.
URL:https://wayneseniorcenter.org/event/walking-club-2/
END:VEVENT
BEGIN:VEVENT
DTSTART;TZID=UTC:20250429T103000
DTEND;TZID=UTC:20250429T110000
DTSTAMP:20260421T200705
CREATED:20250327T191527Z
LAST-MODIFIED:20250327T191527Z
UID:15066-1745922600-1745924400@wayneseniorcenter.org
SUMMARY:Large Jenga Game
DESCRIPTION:Test your Jenga skills by trying to remove one block at a time without making the tower fall over!
URL:https://wayneseniorcenter.org/event/large-jenga-game-8/
END:VEVENT
BEGIN:VEVENT
DTSTART;TZID=UTC:20250429T110000
DTEND;TZID=UTC:20250429T120000
DTSTAMP:20260421T200705
CREATED:20250327T191527Z
LAST-MODIFIED:20250327T191527Z
UID:15068-1745924400-1745928000@wayneseniorcenter.org
SUMMARY:Sit\, Move\, Stretch
DESCRIPTION:This class offers seated or standing: cardio movement\, strengthening\, deep breathing\, and stretching. In-Person fees – free for WSC members\, $3 for non-members.
URL:https://wayneseniorcenter.org/event/sit-move-stretch-54/
END:VEVENT
BEGIN:VEVENT
DTSTART;TZID=UTC:20250429T123000
DTEND;TZID=UTC:20250429T133000
DTSTAMP:20260421T200705
CREATED:20250327T191527Z
LAST-MODIFIED:20250327T191527Z
UID:15067-1745929800-1745933400@wayneseniorcenter.org
SUMMARY:Mindfulness
DESCRIPTION:Practicing mindfulness provides countless benefits to our overall well-being. Join instructor Liz for an hour of virtual mindfulness.
URL:https://wayneseniorcenter.org/event/mindfulness-28/
END:VEVENT
BEGIN:VEVENT
DTSTART;TZID=UTC:20250430T100000
DTEND;TZID=UTC:20250430T110000
DTSTAMP:20260421T200705
CREATED:20250327T191533Z
LAST-MODIFIED:20250327T191533Z
UID:15070-1746007200-1746010800@wayneseniorcenter.org
SUMMARY:Coffee Talk with Radnor Police Chaplain
DESCRIPTION:Enjoy coffee\, pastries\, and meaningful discussion with a visiting Radnor Police Chaplain.
URL:https://wayneseniorcenter.org/event/coffee-talk-with-radnor-police-chaplain-7/
END:VEVENT
BEGIN:VEVENT
DTSTART;TZID=UTC:20250430T111500
DTEND;TZID=UTC:20250430T120000
DTSTAMP:20260421T200705
CREATED:20250327T191534Z
LAST-MODIFIED:20250327T191534Z
UID:15073-1746011700-1746014400@wayneseniorcenter.org
SUMMARY:Soul Line Dancing
DESCRIPTION:Kenny James will get you moving and grooving in a fun\, easy to learn dance class. No experience necessary – all can join. $3 members / $6 non-members.
URL:https://wayneseniorcenter.org/event/soul-line-dancing-30/
END:VEVENT
BEGIN:VEVENT
DTSTART;TZID=UTC:20250430T123000
DTEND;TZID=UTC:20250430T133000
DTSTAMP:20260421T200705
CREATED:20250327T191533Z
LAST-MODIFIED:20250327T191533Z
UID:15071-1746016200-1746019800@wayneseniorcenter.org
SUMMARY:Fooling with Ukes
DESCRIPTION:Dust off your ukes and join Barbara Van Clief (Barley) for a few practice sessions. Learn to play various popular songs with a group of individuals who share your passion for music!
URL:https://wayneseniorcenter.org/event/fooling-with-ukes-21/
END:VEVENT
BEGIN:VEVENT
DTSTART;TZID=UTC:20250430T123000
DTEND;TZID=UTC:20250430T133000
DTSTAMP:20260421T200705
CREATED:20250327T191533Z
LAST-MODIFIED:20250327T191533Z
UID:15072-1746016200-1746019800@wayneseniorcenter.org
SUMMARY:Silver Sneakers Classic
DESCRIPTION:Focus on strengthening muscles and increasing range of motion using light weights\, stretch bands\, and exercise balls.
URL:https://wayneseniorcenter.org/event/silver-sneakers-classic-52/
END:VEVENT
BEGIN:VEVENT
DTSTART;TZID=UTC:20250430T140000
DTEND;TZID=UTC:20250430T150000
DTSTAMP:20260421T200705
CREATED:20250327T191547Z
LAST-MODIFIED:20250327T191547Z
UID:15074-1746021600-1746025200@wayneseniorcenter.org
SUMMARY:Tai Chi
DESCRIPTION:Tai Chi is a gentle form of exercise involving a series of graceful movements performed in a slow\, focused manner and accompanied by deep breathing. Excellent for strengthening balance and promoting stress reduction. In-Person fees – $5 for WSC members\, $10 for non-members.
URL:https://wayneseniorcenter.org/event/tai-chi-38/
END:VEVENT
BEGIN:VEVENT
DTSTART;TZID=UTC:20250501T100000
DTEND;TZID=UTC:20250501T110000
DTSTAMP:20260421T200705
CREATED:20250422T193311Z
LAST-MODIFIED:20250422T193311Z
UID:15159-1746093600-1746097200@wayneseniorcenter.org
SUMMARY:Kentucky Derby Race
DESCRIPTION:In honor of the Kentucky Derby\, we’re saddling up for our own twist on the classic. This is a dice-rolling race to the finish. Place your bets\, pick your “horse”\, and let the good times gallop. Derby hats encouraged!
URL:https://wayneseniorcenter.org/event/kentucky-derby-race/
END:VEVENT
BEGIN:VEVENT
DTSTART;TZID=UTC:20250501T110000
DTEND;TZID=UTC:20250501T120000
DTSTAMP:20260421T200705
CREATED:20250422T193323Z
LAST-MODIFIED:20250422T193323Z
UID:15162-1746097200-1746100800@wayneseniorcenter.org
SUMMARY:Sit\, Move\, Stretch
DESCRIPTION:This class offers seated or standing: cardio movement\, strengthening\, deep breathing\, and stretching. In-Person fees – free for WSC members\, $3 for non-members.
URL:https://wayneseniorcenter.org/event/sit-move-stretch-57/
END:VEVENT
BEGIN:VEVENT
DTSTART;TZID=UTC:20250501T110000
DTEND;TZID=UTC:20250501T130000
DTSTAMP:20260421T200705
CREATED:20250422T193536Z
LAST-MODIFIED:20250422T193536Z
UID:15205-1746097200-1746104400@wayneseniorcenter.org
SUMMARY:Septa Key Card Renewals
DESCRIPTION:Join us on the first Thursday of each month for Septa Key Cardapplications and renewals and other constituent services with a representative from Sen. AmandaCappelletti?s office. The representative is here 11:00AM to 1:00PM\, no need to RSVP.
URL:https://wayneseniorcenter.org/event/septa-key-card-renewals-8/
END:VEVENT
BEGIN:VEVENT
DTSTART;TZID=UTC:20250501T120000
DTEND;TZID=UTC:20250501T130000
DTSTAMP:20260421T200705
CREATED:20250422T193610Z
LAST-MODIFIED:20250422T193610Z
UID:15219-1746100800-1746104400@wayneseniorcenter.org
SUMMARY:The Men's Group
DESCRIPTION:Catch up with friends over lunch and discuss topics related to men?s lives – hobbies\, family stories\, retirement\, career reflections\, mental & physical health\, or whatever else is on your mind. Call to reserve a Center lunch\, bring your own\, or just stop by to chat.
URL:https://wayneseniorcenter.org/event/the-mens-group-12/
END:VEVENT
BEGIN:VEVENT
DTSTART;TZID=UTC:20250501T130000
DTEND;TZID=UTC:20250501T150000
DTSTAMP:20260421T200705
CREATED:20250422T193453Z
LAST-MODIFIED:20250422T193453Z
UID:15193-1746104400-1746111600@wayneseniorcenter.org
SUMMARY:Cards and Games: Open Play
DESCRIPTION:Join us for an afternoon playing games of your choice- Poker\, gin rummy\, pinochle\, mahjong etc. Meet a new friend and start a game of your own. Mahjong teachers/leaders feel free to bring your game set!
URL:https://wayneseniorcenter.org/event/cards-and-games-open-play-29/
END:VEVENT
BEGIN:VEVENT
DTSTART;TZID=UTC:20250502T090000
DTEND;TZID=UTC:20250502T130000
DTSTAMP:20260421T200705
CREATED:20250422T193423Z
LAST-MODIFIED:20250423T125423Z
UID:15182-1746176400-1746190800@wayneseniorcenter.org
SUMMARY:COSA Senior Living Expo (off-site)
DESCRIPTION:Raffles\, Free Health Screenings\, Entertainment\, Refreshments\, Vendors\, and more. Hosted at Harrah’s Casino in Chester\, PA.
URL:https://wayneseniorcenter.org/event/cosa-senior-living-expo-off-site/
ATTACH;FMTTYPE=image/jpeg:https://wayneseniorcenter.org/wp-content/uploads/2025/04/Senior-Expo-Flyer.jpg
END:VEVENT
BEGIN:VEVENT
DTSTART;TZID=UTC:20250502T093000
DTEND;TZID=UTC:20250502T103000
DTSTAMP:20260421T200705
CREATED:20250422T193537Z
LAST-MODIFIED:20250422T193537Z
UID:15206-1746178200-1746181800@wayneseniorcenter.org
SUMMARY:Senior Circuit
DESCRIPTION:Join us for a dynamic strength-building\, full-body workout utilizing bands\, weights\, and balls as we cycle through various stations.
URL:https://wayneseniorcenter.org/event/senior-circuit-27/
END:VEVENT
END:VCALENDAR