BEGIN:VCALENDAR
VERSION:2.0
PRODID:-//Wayne Senior Center - ECPv6.15.20//NONSGML v1.0//EN
CALSCALE:GREGORIAN
METHOD:PUBLISH
X-WR-CALNAME:Wayne Senior Center
X-ORIGINAL-URL:https://wayneseniorcenter.org
X-WR-CALDESC:Events for Wayne Senior Center
REFRESH-INTERVAL;VALUE=DURATION:PT1H
X-Robots-Tag:noindex
X-PUBLISHED-TTL:PT1H
BEGIN:VTIMEZONE
TZID:UTC
BEGIN:STANDARD
TZOFFSETFROM:+0000
TZOFFSETTO:+0000
TZNAME:UTC
DTSTART:20240101T000000
END:STANDARD
END:VTIMEZONE
BEGIN:VEVENT
DTSTART;TZID=UTC:20250523T093000
DTEND;TZID=UTC:20250523T103000
DTSTAMP:20260422T013950
CREATED:20250422T193539Z
LAST-MODIFIED:20250422T193539Z
UID:15209-1747992600-1747996200@wayneseniorcenter.org
SUMMARY:Senior Circuit
DESCRIPTION:Join us for a dynamic strength-building\, full-body workout utilizing bands\, weights\, and balls as we cycle through various stations.
URL:https://wayneseniorcenter.org/event/senior-circuit-30/
END:VEVENT
BEGIN:VEVENT
DTSTART;TZID=UTC:20250523T103000
DTEND;TZID=UTC:20250523T113000
DTSTAMP:20260422T013950
CREATED:20250422T193555Z
LAST-MODIFIED:20250422T193555Z
UID:15214-1747996200-1747999800@wayneseniorcenter.org
SUMMARY:Chair Yoga
DESCRIPTION:A well-rounded class that will help with balance\, strengthening\, and relaxation. Have a sturdy chair available. All abilities welcome. In-Person fees – $3 for WSC members\, $6 for non-members.
URL:https://wayneseniorcenter.org/event/chair-yoga-31/
END:VEVENT
BEGIN:VEVENT
DTSTART;TZID=UTC:20250527T093000
DTEND;TZID=UTC:20250527T100000
DTSTAMP:20260422T013950
CREATED:20250422T193625Z
LAST-MODIFIED:20250422T193625Z
UID:15224-1748338200-1748340000@wayneseniorcenter.org
SUMMARY:Walking Club (Off-Site)
DESCRIPTION:Join WSC friends for a walk on the Radnor trail – weather permitting. Walkers meet at the trail parking lot (520 Conestoga Road). All abilities welcome. Wear comfortable walking shoes.
URL:https://wayneseniorcenter.org/event/walking-club-off-site-26/
END:VEVENT
BEGIN:VEVENT
DTSTART;TZID=UTC:20250527T110000
DTEND;TZID=UTC:20250527T120000
DTSTAMP:20260422T013950
CREATED:20250422T193322Z
LAST-MODIFIED:20250422T193322Z
UID:15161-1748343600-1748347200@wayneseniorcenter.org
SUMMARY:Sit\, Move\, Stretch
DESCRIPTION:This class offers seated or standing: cardio movement\, strengthening\, deep breathing\, and stretching. In-Person fees – free for WSC members\, $3 for non-members.
URL:https://wayneseniorcenter.org/event/sit-move-stretch-56/
END:VEVENT
BEGIN:VEVENT
DTSTART;TZID=UTC:20250527T123000
DTEND;TZID=UTC:20250527T133000
DTSTAMP:20260422T013950
CREATED:20250422T193524Z
LAST-MODIFIED:20250422T193524Z
UID:15204-1748349000-1748352600@wayneseniorcenter.org
SUMMARY:Mindfulness
DESCRIPTION:Practicing mindfulness provides countless benefits to our overall well-being. Join instructor Liz for an hour of virtual mindfulness.
URL:https://wayneseniorcenter.org/event/mindfulness-31/
END:VEVENT
BEGIN:VEVENT
DTSTART;TZID=UTC:20250527T150000
DTEND;TZID=UTC:20250527T160000
DTSTAMP:20260422T013950
CREATED:20250422T193608Z
LAST-MODIFIED:20250422T193608Z
UID:15217-1748358000-1748361600@wayneseniorcenter.org
SUMMARY:Memoir Writing (Virtual)
DESCRIPTION:Join Sara Wenger\, MFA for a memoir writing workshop. Sara will share memoir excerpts as well as writing exercises to help you write your unique life experiences so they can be passed on to children\, grandchildren\, friends and others. No prior writing experience is necessary! The class is appropriate for both novice and seasoned writers
URL:https://wayneseniorcenter.org/event/memoir-writing-virtual-20/
END:VEVENT
BEGIN:VEVENT
DTSTART;TZID=UTC:20250528T100000
DTEND;TZID=UTC:20250528T110000
DTSTAMP:20260422T013950
CREATED:20250422T193250Z
LAST-MODIFIED:20250422T193250Z
UID:15150-1748426400-1748430000@wayneseniorcenter.org
SUMMARY:Silver Lining Clinics Wellness Series
DESCRIPTION:Join a licensed therapist from Silver Lining Clinics for a 6-week wellness group session designed specifically for older adults looking to boost emotional wellness\, manage life traditions\, and connect with others. Call 610-688-6246 to register!
URL:https://wayneseniorcenter.org/event/silver-lining-clinics-wellness-series-2/
END:VEVENT
BEGIN:VEVENT
DTSTART;TZID=UTC:20250528T100000
DTEND;TZID=UTC:20250528T110000
DTSTAMP:20260422T013950
CREATED:20250422T193607Z
LAST-MODIFIED:20250422T193607Z
UID:15216-1748426400-1748430000@wayneseniorcenter.org
SUMMARY:Coffee Talk with Radnor Police Chaplain
DESCRIPTION:Enjoy coffee\, pastries\, and meaningful discussion with a visiting Radnor Police Chaplain.
URL:https://wayneseniorcenter.org/event/coffee-talk-with-radnor-police-chaplain-8/
END:VEVENT
BEGIN:VEVENT
DTSTART;TZID=UTC:20250528T111500
DTEND;TZID=UTC:20250528T120000
DTSTAMP:20260422T013950
CREATED:20250422T193355Z
LAST-MODIFIED:20250422T193355Z
UID:15174-1748430900-1748433600@wayneseniorcenter.org
SUMMARY:Soul Line Dancing
DESCRIPTION:Kenny James will get you moving and grooving in a fun\, easy to learn dance class. No experience necessary – all can join. $3 members / $6 non-members.
URL:https://wayneseniorcenter.org/event/soul-line-dancing-37/
END:VEVENT
BEGIN:VEVENT
DTSTART;TZID=UTC:20250528T123000
DTEND;TZID=UTC:20250528T133000
DTSTAMP:20260422T013950
CREATED:20250422T193310Z
LAST-MODIFIED:20250422T193310Z
UID:15158-1748435400-1748439000@wayneseniorcenter.org
SUMMARY:Silver Sneakers Classic
DESCRIPTION:Focus on strengthening muscles and increasing range of motion using light weights\, stretch bands\, and exercise balls.
URL:https://wayneseniorcenter.org/event/silver-sneakers-classic-59/
END:VEVENT
BEGIN:VEVENT
DTSTART;TZID=UTC:20250528T123000
DTEND;TZID=UTC:20250528T133000
DTSTAMP:20260422T013950
CREATED:20250422T193521Z
LAST-MODIFIED:20250422T193521Z
UID:15200-1748435400-1748439000@wayneseniorcenter.org
SUMMARY:Fooling with Ukes
DESCRIPTION:Dust off your ukes and join Barbara Van Clief (Barley) for a few practice sessions. Learn to play various popular songs with a group of individuals who share your passion for music!
URL:https://wayneseniorcenter.org/event/fooling-with-ukes-24/
END:VEVENT
BEGIN:VEVENT
DTSTART;TZID=UTC:20250528T140000
DTEND;TZID=UTC:20250528T140000
DTSTAMP:20260422T013950
CREATED:20250422T193409Z
LAST-MODIFIED:20250422T193409Z
UID:15179-1748440800-1748440800@wayneseniorcenter.org
SUMMARY:Tai Chi
DESCRIPTION:Tai Chi is a gentle form of exercise involving a series of graceful movements performed in a slow\, focused manner and accompanied by deep breathing. Excellent for strengthening balance and promoting stress reduction. In-Person fees – $5 for WSC members\, $10 for non-members.
URL:https://wayneseniorcenter.org/event/tai-chi-42/
END:VEVENT
BEGIN:VEVENT
DTSTART;TZID=UTC:20250529T100000
DTEND;TZID=UTC:20250529T110000
DTSTAMP:20260422T013950
CREATED:20250422T193451Z
LAST-MODIFIED:20250422T193451Z
UID:15190-1748512800-1748516400@wayneseniorcenter.org
SUMMARY:Weekly Trivia
DESCRIPTION:Join Andrea for a fun and exciting challenge every week. Show off your smarts across a range of trivia categories and have a blast with friends.
URL:https://wayneseniorcenter.org/event/weekly-trivia-5/
END:VEVENT
BEGIN:VEVENT
DTSTART;TZID=UTC:20250529T110000
DTEND;TZID=UTC:20250529T120000
DTSTAMP:20260422T013950
CREATED:20250422T193337Z
LAST-MODIFIED:20250422T193337Z
UID:15166-1748516400-1748520000@wayneseniorcenter.org
SUMMARY:Sit\, Move\, Stretch
DESCRIPTION:This class offers seated or standing: cardio movement\, strengthening\, deep breathing\, and stretching. In-Person fees – free for WSC members\, $3 for non-members.
URL:https://wayneseniorcenter.org/event/sit-move-stretch-61/
END:VEVENT
BEGIN:VEVENT
DTSTART;TZID=UTC:20250529T123000
DTEND;TZID=UTC:20250529T143000
DTSTAMP:20260422T013950
CREATED:20250422T193338Z
LAST-MODIFIED:20250422T193338Z
UID:15167-1748521800-1748529000@wayneseniorcenter.org
SUMMARY:Popcorn & A Movie: "Invitation to a Murder"
DESCRIPTION:Join us for a viewing for the film\, “Invitation to a Murder (2023).” A reclusive billionaire invites six seemingly random strangers to his island estate in the south of England. Aspiring detective Miranda Green finds the mysterious invitation too alluring to pass up. When another guest turns up dead\, Miranda must get to the bottom of the malicious plot behind the gathering.
URL:https://wayneseniorcenter.org/event/popcorn-a-movie-invitation-to-a-murder/
END:VEVENT
BEGIN:VEVENT
DTSTART;TZID=UTC:20250529T130000
DTEND;TZID=UTC:20250529T150000
DTSTAMP:20260422T013950
CREATED:20250422T193508Z
LAST-MODIFIED:20250422T193508Z
UID:15197-1748523600-1748530800@wayneseniorcenter.org
SUMMARY:Cards and Games: Open Play
DESCRIPTION:Join us for an afternoon playing games of your choice- Poker\, gin rummy\, pinochle\, mahjong etc. Meet a new friend and start a game of your own. Mahjong teachers/leaders feel free to bring your game set!
URL:https://wayneseniorcenter.org/event/cards-and-games-open-play-33/
END:VEVENT
BEGIN:VEVENT
DTSTART;TZID=UTC:20250530T093000
DTEND;TZID=UTC:20250530T103000
DTSTAMP:20260422T013950
CREATED:20250422T193551Z
LAST-MODIFIED:20250422T193551Z
UID:15210-1748597400-1748601000@wayneseniorcenter.org
SUMMARY:Senior Circuit
DESCRIPTION:Join us for a dynamic strength-building\, full-body workout utilizing bands\, weights\, and balls as we cycle through various stations.
URL:https://wayneseniorcenter.org/event/senior-circuit-31/
END:VEVENT
BEGIN:VEVENT
DTSTART;TZID=UTC:20250530T103000
DTEND;TZID=UTC:20250530T113000
DTSTAMP:20260422T013950
CREATED:20250422T193606Z
LAST-MODIFIED:20250422T193606Z
UID:15215-1748601000-1748604600@wayneseniorcenter.org
SUMMARY:Chair Yoga
DESCRIPTION:A well-rounded class that will help with balance\, strengthening\, and relaxation. Have a sturdy chair available. All abilities welcome. In-Person fees – $3 for WSC members\, $6 for non-members.
URL:https://wayneseniorcenter.org/event/chair-yoga-32/
END:VEVENT
BEGIN:VEVENT
DTSTART;TZID=UTC:20250602T100000
DTEND;TZID=UTC:20250602T110000
DTSTAMP:20260422T013950
CREATED:20250603T193654Z
LAST-MODIFIED:20250603T193654Z
UID:15398-1748858400-1748862000@wayneseniorcenter.org
SUMMARY:Silver Sneakers Classic
DESCRIPTION:Focus on strengthening muscles and increasing range of motion using light weights\, stretch bands\, and exercise balls.
URL:https://wayneseniorcenter.org/event/silver-sneakers-classic-60/
END:VEVENT
BEGIN:VEVENT
DTSTART;TZID=UTC:20250602T100000
DTEND;TZID=UTC:20250602T120000
DTSTAMP:20260422T013950
CREATED:20250603T193622Z
LAST-MODIFIED:20250603T193622Z
UID:15384-1748858400-1748865600@wayneseniorcenter.org
SUMMARY:Refresher Bridge
DESCRIPTION:Brush up on your bridge skills with friends. Must have previous bridge experience.
URL:https://wayneseniorcenter.org/event/refresher-bridge-31/
END:VEVENT
BEGIN:VEVENT
DTSTART;TZID=UTC:20250602T100000
DTEND;TZID=UTC:20250602T120000
DTSTAMP:20260422T013950
CREATED:20250603T193854Z
LAST-MODIFIED:20250603T193854Z
UID:15438-1748858400-1748865600@wayneseniorcenter.org
SUMMARY:WSC Quilters
DESCRIPTION:WSC quiliting club. All skill levels Welcome. Come by or RSVP by calling the center – (610) 688-6246
URL:https://wayneseniorcenter.org/event/wsc-quilters-31/
END:VEVENT
BEGIN:VEVENT
DTSTART;TZID=UTC:20250602T110000
DTEND;TZID=UTC:20250602T120000
DTSTAMP:20260422T013950
CREATED:20250603T193753Z
LAST-MODIFIED:20250603T193753Z
UID:15415-1748862000-1748865600@wayneseniorcenter.org
SUMMARY:Soul Line Dancing
DESCRIPTION:Kenny James will get you moving and grooving in a fun\, easy to learn dance class. No experience necessary – all can join. $3 members / $6 non-members.
URL:https://wayneseniorcenter.org/event/soul-line-dancing-38/
END:VEVENT
BEGIN:VEVENT
DTSTART;TZID=UTC:20250603T093000
DTEND;TZID=UTC:20250603T100000
DTSTAMP:20260422T013950
CREATED:20250603T193838Z
LAST-MODIFIED:20250603T193838Z
UID:15431-1748943000-1748944800@wayneseniorcenter.org
SUMMARY:Walking Club (Off-Site)
DESCRIPTION:Join WSC friends for a walk on the Radnor trail – weather permitting. Walkers meet at the trail parking lot (520 Conestoga Road). All abilities welcome. Wear comfortable walking shoes.
URL:https://wayneseniorcenter.org/event/walking-club-off-site-27/
END:VEVENT
BEGIN:VEVENT
DTSTART;TZID=UTC:20250603T103000
DTEND;TZID=UTC:20250603T110000
DTSTAMP:20260422T013950
CREATED:20250603T193853Z
LAST-MODIFIED:20250603T193853Z
UID:15435-1748946600-1748948400@wayneseniorcenter.org
SUMMARY:Weekly Trivia
DESCRIPTION:Join Andrea for a fun and exciting challenge every week. Show off your smarts across a range of trivia categories and have a blast with friends.
URL:https://wayneseniorcenter.org/event/weekly-trivia-6/
END:VEVENT
BEGIN:VEVENT
DTSTART;TZID=UTC:20250603T110000
DTEND;TZID=UTC:20250603T120000
DTSTAMP:20260422T013950
CREATED:20250603T193724Z
LAST-MODIFIED:20250603T193724Z
UID:15407-1748948400-1748952000@wayneseniorcenter.org
SUMMARY:Sit\, Move\, Stretch
DESCRIPTION:This class offers seated or standing: cardio movement\, strengthening\, deep breathing\, and stretching. In-Person fees – free for WSC members\, $3 for non-members.
URL:https://wayneseniorcenter.org/event/sit-move-stretch-62/
END:VEVENT
BEGIN:VEVENT
DTSTART;TZID=UTC:20250603T120000
DTEND;TZID=UTC:20250603T130000
DTSTAMP:20260422T013950
CREATED:20250603T193434Z
LAST-MODIFIED:20250603T193434Z
UID:15344-1748952000-1748955600@wayneseniorcenter.org
SUMMARY:Lunch & Learn w/ Jersey Cares
DESCRIPTION:Join us for a delicious lunch prepared by volunteers through Jersey Cares. Lunch will include a strawberry spinach salad\, roll\, and a berry crisp dessert. You must register at the front desk or call 610-688-6246 to reserve your lunch.
URL:https://wayneseniorcenter.org/event/lunch-learn-w-jersey-cares/
END:VEVENT
BEGIN:VEVENT
DTSTART;TZID=UTC:20250603T123000
DTEND;TZID=UTC:20250603T133000
DTSTAMP:20260422T013950
CREATED:20250603T193538Z
LAST-MODIFIED:20250603T193538Z
UID:15371-1748953800-1748957400@wayneseniorcenter.org
SUMMARY:Mindfulness
DESCRIPTION:Practicing mindfulness provides countless benefits to our overall well-being. Join instructor Liz for an hour of virtual mindfulness.
URL:https://wayneseniorcenter.org/event/mindfulness-32/
END:VEVENT
BEGIN:VEVENT
DTSTART;TZID=UTC:20250604T100000
DTEND;TZID=UTC:20250604T110000
DTSTAMP:20260422T013950
CREATED:20250603T193652Z
LAST-MODIFIED:20250603T193652Z
UID:15394-1749031200-1749034800@wayneseniorcenter.org
SUMMARY:Silver Lining Clinics Wellness Series
DESCRIPTION:Join a licensed therapist from Silver Lining Clinics for a 6-week wellness group session designed specifically for older adults looking to boost emotional wellness\, manage life traditions\, and connect with others. Call 610-688-6246 to register!
URL:https://wayneseniorcenter.org/event/silver-lining-clinics-wellness-series-3/
END:VEVENT
BEGIN:VEVENT
DTSTART;TZID=UTC:20250604T111500
DTEND;TZID=UTC:20250604T120000
DTSTAMP:20260422T013950
CREATED:20250603T193753Z
LAST-MODIFIED:20250603T193753Z
UID:15416-1749035700-1749038400@wayneseniorcenter.org
SUMMARY:Soul Line Dancing
DESCRIPTION:Kenny James will get you moving and grooving in a fun\, easy to learn dance class. No experience necessary – all can join. $3 members / $6 non-members.
URL:https://wayneseniorcenter.org/event/soul-line-dancing-39/
END:VEVENT
BEGIN:VEVENT
DTSTART;TZID=UTC:20250604T123000
DTEND;TZID=UTC:20250604T133000
DTSTAMP:20260422T013950
CREATED:20250603T193509Z
LAST-MODIFIED:20250603T193509Z
UID:15362-1749040200-1749043800@wayneseniorcenter.org
SUMMARY:Fooling with Ukes
DESCRIPTION:Dust off your ukes and join Barbara Van Clief (Barley) for a few practice sessions. Learn to play various popular songs with a group of individuals who share your passion for music!
URL:https://wayneseniorcenter.org/event/fooling-with-ukes-25/
END:VEVENT
END:VCALENDAR