BEGIN:VCALENDAR
VERSION:2.0
PRODID:-//Wayne Senior Center - ECPv6.15.20//NONSGML v1.0//EN
CALSCALE:GREGORIAN
METHOD:PUBLISH
X-WR-CALNAME:Wayne Senior Center
X-ORIGINAL-URL:https://wayneseniorcenter.org
X-WR-CALDESC:Events for Wayne Senior Center
REFRESH-INTERVAL;VALUE=DURATION:PT1H
X-Robots-Tag:noindex
X-PUBLISHED-TTL:PT1H
BEGIN:VTIMEZONE
TZID:UTC
BEGIN:STANDARD
TZOFFSETFROM:+0000
TZOFFSETTO:+0000
TZNAME:UTC
DTSTART:20230101T000000
END:STANDARD
END:VTIMEZONE
BEGIN:VEVENT
DTSTART;TZID=UTC:20241210T110000
DTEND;TZID=UTC:20241210T120000
DTSTAMP:20260421T132740
CREATED:20241122T215302Z
LAST-MODIFIED:20241122T215302Z
UID:14499-1733828400-1733832000@wayneseniorcenter.org
SUMMARY:Sit\, Move\, Stretch
DESCRIPTION:This class offers seated or standing: cardio movement\, strengthening\, deep breathing\, and stretching. In-Person fees – free for WSC members\, $3 for non-members.
URL:https://wayneseniorcenter.org/event/sit-move-stretch-17/
END:VEVENT
BEGIN:VEVENT
DTSTART;TZID=UTC:20241210T120000
DTEND;TZID=UTC:20241210T130000
DTSTAMP:20260421T132740
CREATED:20241122T215300Z
LAST-MODIFIED:20241122T215300Z
UID:14497-1733832000-1733835600@wayneseniorcenter.org
SUMMARY:Let's Do Lunch!
DESCRIPTION:Let’s do lunch together! Please see the menu in the newsletter for details on each meal. $5 members / $8 non-members. RSVP required\, in-center dining only.
URL:https://wayneseniorcenter.org/event/lets-do-lunch-7/
END:VEVENT
BEGIN:VEVENT
DTSTART;TZID=UTC:20241210T123000
DTEND;TZID=UTC:20241210T133000
DTSTAMP:20260421T132740
CREATED:20241122T215301Z
LAST-MODIFIED:20241122T215301Z
UID:14498-1733833800-1733837400@wayneseniorcenter.org
SUMMARY:Mindfulness
DESCRIPTION:Practicing mindfulness provides countless benefits to our overall well-being. Join instructor Liz for an hour of virtual mindfulness.
URL:https://wayneseniorcenter.org/event/mindfulness-10/
END:VEVENT
BEGIN:VEVENT
DTSTART;TZID=UTC:20241211T100000
DTEND;TZID=UTC:20241211T110000
DTSTAMP:20260421T132740
CREATED:20241122T215500Z
LAST-MODIFIED:20241122T215500Z
UID:14502-1733911200-1733914800@wayneseniorcenter.org
SUMMARY:Cardio Drumming with Andrea
DESCRIPTION:Join Andrea once a month for a fun\, rhythmic\, seated exercise class that gets you moving and grooving. This month we will be drumming to festive holiday music! Each month will have a fun theme! $3 for members\, $6 non-members
URL:https://wayneseniorcenter.org/event/cardio-drumming-with-andrea-2/
END:VEVENT
BEGIN:VEVENT
DTSTART;TZID=UTC:20241211T110000
DTEND;TZID=UTC:20241211T120000
DTSTAMP:20260421T132740
CREATED:20241122T215503Z
LAST-MODIFIED:20241122T215503Z
UID:14505-1733914800-1733918400@wayneseniorcenter.org
SUMMARY:Tai Chi
DESCRIPTION:Tai Chi is a gentle form of exercise involving a series of graceful movements performed in a slow\, focused manner and accompanied by deep breathing. Excellent for strengthening balance and promoting stress reduction. In-Person fees – $5 for WSC members\, $10 for non-members.
URL:https://wayneseniorcenter.org/event/tai-chi-22/
END:VEVENT
BEGIN:VEVENT
DTSTART;TZID=UTC:20241211T113000
DTEND;TZID=UTC:20241211T123000
DTSTAMP:20260421T132740
CREATED:20241122T215501Z
LAST-MODIFIED:20241122T215501Z
UID:14503-1733916600-1733920200@wayneseniorcenter.org
SUMMARY:Fitness Trainer Help
DESCRIPTION:Do you need assistance with the fitness center equipment? Stop by to see fitness trainer Kenny to get help with the equipment and ask questions about your fitness routine. You must be a fitness center member.
URL:https://wayneseniorcenter.org/event/fitness-trainer-help-10/
END:VEVENT
BEGIN:VEVENT
DTSTART;TZID=UTC:20241211T123000
DTEND;TZID=UTC:20241211T133000
DTSTAMP:20260421T132740
CREATED:20241122T215502Z
LAST-MODIFIED:20241122T215502Z
UID:14504-1733920200-1733923800@wayneseniorcenter.org
SUMMARY:Silver Sneakers Classic
DESCRIPTION:Focus on strengthening muscles and increasing range of motion using light weights\, stretch bands\, and exercise balls.
URL:https://wayneseniorcenter.org/event/silver-sneakers-classic-18/
END:VEVENT
BEGIN:VEVENT
DTSTART;TZID=UTC:20241212T093000
DTEND;TZID=UTC:20241212T100000
DTSTAMP:20260421T132740
CREATED:20241122T215527Z
LAST-MODIFIED:20241122T215527Z
UID:14510-1733995800-1733997600@wayneseniorcenter.org
SUMMARY:Large Jenga Game
DESCRIPTION:Test your Jenga skills by trying to remove one block at a time without making the tower fall over!
URL:https://wayneseniorcenter.org/event/large-jenga-game-3/
END:VEVENT
BEGIN:VEVENT
DTSTART;TZID=UTC:20241212T100000
DTEND;TZID=UTC:20241212T110000
DTSTAMP:20260421T132740
CREATED:20241122T215526Z
LAST-MODIFIED:20241122T215526Z
UID:14509-1733997600-1734001200@wayneseniorcenter.org
SUMMARY:Zumba Gold
DESCRIPTION:Keep your body moving\, enjoy lively music\, and have fun dancing your cares away. $3 members / $6 non-members
URL:https://wayneseniorcenter.org/event/zumba-gold-9/
END:VEVENT
BEGIN:VEVENT
DTSTART;TZID=UTC:20241212T110000
DTEND;TZID=UTC:20241212T120000
DTSTAMP:20260421T132740
CREATED:20241122T215525Z
LAST-MODIFIED:20241122T215525Z
UID:14507-1734001200-1734004800@wayneseniorcenter.org
SUMMARY:Sit\, Move\, Stretch
DESCRIPTION:This class offers seated or standing: cardio movement\, strengthening\, deep breathing\, and stretching. In-Person fees – free for WSC members\, $3 for non-members.
URL:https://wayneseniorcenter.org/event/sit-move-stretch-18/
END:VEVENT
BEGIN:VEVENT
DTSTART;TZID=UTC:20241212T120000
DTEND;TZID=UTC:20241212T130000
DTSTAMP:20260421T132740
CREATED:20241122T215525Z
LAST-MODIFIED:20241122T215525Z
UID:14508-1734004800-1734008400@wayneseniorcenter.org
SUMMARY:The Men's Group
DESCRIPTION:Catch up with friends over lunch and discuss topics related to men’s lives – hobbies\, family stories\, retirement\, career reflections\, mental & physical health\, or whatever else is on your mind. Call to reserve a Center lunch\, bring your own\, or just stop by to chat.
URL:https://wayneseniorcenter.org/event/the-mens-group-5/
END:VEVENT
BEGIN:VEVENT
DTSTART;TZID=UTC:20241212T130000
DTEND;TZID=UTC:20241212T150000
DTSTAMP:20260421T132740
CREATED:20241122T215524Z
LAST-MODIFIED:20241122T215524Z
UID:14506-1734008400-1734015600@wayneseniorcenter.org
SUMMARY:Cards and Games: Open Play
DESCRIPTION:Join us for an afternoon playing games of your choice- Poker\, gin rummy\, pinochle\, mahjong etc. Meet a new friend and start a game of your own. Mahjong teachers/leaders feel free to bring your game set!
URL:https://wayneseniorcenter.org/event/cards-and-games-open-play-10/
END:VEVENT
BEGIN:VEVENT
DTSTART;TZID=UTC:20241213T093000
DTEND;TZID=UTC:20241213T103000
DTSTAMP:20260421T132740
CREATED:20241122T215540Z
LAST-MODIFIED:20241122T215540Z
UID:14512-1734082200-1734085800@wayneseniorcenter.org
SUMMARY:Senior Circuit
DESCRIPTION:Join us for a dynamic strength-building\, full-body workout utilizing bands\, weights\, and balls as we cycle through various stations.
URL:https://wayneseniorcenter.org/event/senior-circuit-10/
END:VEVENT
BEGIN:VEVENT
DTSTART;TZID=UTC:20241213T103000
DTEND;TZID=UTC:20241213T113000
DTSTAMP:20260421T132740
CREATED:20241122T215539Z
LAST-MODIFIED:20241122T215539Z
UID:14511-1734085800-1734089400@wayneseniorcenter.org
SUMMARY:Chair Yoga
DESCRIPTION:A well-rounded class that will help with balance\, strengthening\, and relaxation. Have a sturdy chair available. All abilities welcome. In-Person fees – $3 for WSC members\, $6 for non-members.
URL:https://wayneseniorcenter.org/event/chair-yoga-10/
END:VEVENT
BEGIN:VEVENT
DTSTART;TZID=UTC:20241216T100000
DTEND;TZID=UTC:20241216T110000
DTSTAMP:20260421T132740
CREATED:20241122T215542Z
LAST-MODIFIED:20241122T215542Z
UID:14514-1734343200-1734346800@wayneseniorcenter.org
SUMMARY:Silver Sneakers Classic
DESCRIPTION:Focus on strengthening muscles and increasing range of motion using light weights\, stretch bands\, and exercise balls.
URL:https://wayneseniorcenter.org/event/silver-sneakers-classic-19/
END:VEVENT
BEGIN:VEVENT
DTSTART;TZID=UTC:20241216T100000
DTEND;TZID=UTC:20241216T120000
DTSTAMP:20260421T132740
CREATED:20241122T215541Z
LAST-MODIFIED:20241122T215541Z
UID:14513-1734343200-1734350400@wayneseniorcenter.org
SUMMARY:Refresher Bridge
DESCRIPTION:Brush up on your bridge skills with Lawrie Stetson and Dave Heron. Must have previous bridge experience.
URL:https://wayneseniorcenter.org/event/refresher-bridge-11/
END:VEVENT
BEGIN:VEVENT
DTSTART;TZID=UTC:20241216T100000
DTEND;TZID=UTC:20241216T120000
DTSTAMP:20260421T132740
CREATED:20241122T215555Z
LAST-MODIFIED:20241122T215555Z
UID:14517-1734343200-1734350400@wayneseniorcenter.org
SUMMARY:WSC Quilters
DESCRIPTION:WSC quiliting club. All skill levels Welcome. Come by or RSVP by calling the center – (610) 688-6246
URL:https://wayneseniorcenter.org/event/wsc-quilters-11/
END:VEVENT
BEGIN:VEVENT
DTSTART;TZID=UTC:20241216T110000
DTEND;TZID=UTC:20241216T120000
DTSTAMP:20260421T132740
CREATED:20241122T215543Z
LAST-MODIFIED:20241122T215543Z
UID:14515-1734346800-1734350400@wayneseniorcenter.org
SUMMARY:Soul Line Dance
DESCRIPTION:Kenny James will get you moving and grooving in a fun\, easy to learn dance class. No experience necessary – all can join. $3 members / $6 non-members.
URL:https://wayneseniorcenter.org/event/soul-line-dance-10/
END:VEVENT
BEGIN:VEVENT
DTSTART;TZID=UTC:20241216T123000
DTEND;TZID=UTC:20241216T133000
DTSTAMP:20260421T132740
CREATED:20241122T215554Z
LAST-MODIFIED:20241122T215554Z
UID:14516-1734352200-1734355800@wayneseniorcenter.org
SUMMARY:Tai Chi
DESCRIPTION:Tai Chi is a gentle form of exercise involving a series of graceful movements performed in a slow\, focused manner and accompanied by deep breathing. Excellent for strengthening balance and promoting stress reduction. In-Person fees – $5 for WSC members\, $10 for non-members.
URL:https://wayneseniorcenter.org/event/tai-chi-23/
END:VEVENT
BEGIN:VEVENT
DTSTART;TZID=UTC:20241217T090000
DTEND;TZID=UTC:20241217T110000
DTSTAMP:20260421T132740
CREATED:20241122T215610Z
LAST-MODIFIED:20241122T215610Z
UID:14522-1734426000-1734433200@wayneseniorcenter.org
SUMMARY:Tech Tuesday
DESCRIPTION:Stop by during this time with your tech questions or email Francis at francis@wayneseniorcenter.org to make an appointment. Some Tuesdays will feature a workshop on a certain topic starting at 10am.
URL:https://wayneseniorcenter.org/event/tech-tuesday-10/
END:VEVENT
BEGIN:VEVENT
DTSTART;TZID=UTC:20241217T093000
DTEND;TZID=UTC:20241217T103000
DTSTAMP:20260421T132740
CREATED:20241122T215556Z
LAST-MODIFIED:20241122T215556Z
UID:14518-1734427800-1734431400@wayneseniorcenter.org
SUMMARY:Brain Fit
DESCRIPTION:Join Andrea as we exercise our brain with fun word puzzles and brain teasers!
URL:https://wayneseniorcenter.org/event/brain-fit-9/
END:VEVENT
BEGIN:VEVENT
DTSTART;TZID=UTC:20241217T100000
DTEND;TZID=UTC:20241217T110000
DTSTAMP:20260421T132740
CREATED:20241122T215611Z
LAST-MODIFIED:20241122T215611Z
UID:14523-1734429600-1734433200@wayneseniorcenter.org
SUMMARY:Navigation: Google Maps & Uber
DESCRIPTION:Refresh your navigation knowledge for upcoming holiday travel. We’ll look at navigating using Google Maps and hailing a ride using Uber. Bring your questions\, your phone\, and any relevant passwords – AppleID\, Google\, etc.
URL:https://wayneseniorcenter.org/event/navigation-google-maps-uber/
END:VEVENT
BEGIN:VEVENT
DTSTART;TZID=UTC:20241217T101500
DTEND;TZID=UTC:20241217T110000
DTSTAMP:20260421T132740
CREATED:20241122T215612Z
LAST-MODIFIED:20241122T215612Z
UID:14524-1734430500-1734433200@wayneseniorcenter.org
SUMMARY:DIY Santa Hat Brownie Bites
DESCRIPTION:Whip up a festive treat with brownie bites\, strawberries\, and whipped topping – delicious and perfectly shaped like Santa’s hat!
URL:https://wayneseniorcenter.org/event/diy-santa-hat-brownie-bites/
END:VEVENT
BEGIN:VEVENT
DTSTART;TZID=UTC:20241217T110000
DTEND;TZID=UTC:20241217T120000
DTSTAMP:20260421T132740
CREATED:20241122T215609Z
LAST-MODIFIED:20241122T215609Z
UID:14521-1734433200-1734436800@wayneseniorcenter.org
SUMMARY:Sit\, Move\, Stretch
DESCRIPTION:This class offers seated or standing: cardio movement\, strengthening\, deep breathing\, and stretching. In-Person fees – free for WSC members\, $3 for non-members.
URL:https://wayneseniorcenter.org/event/sit-move-stretch-19/
END:VEVENT
BEGIN:VEVENT
DTSTART;TZID=UTC:20241217T123000
DTEND;TZID=UTC:20241217T133000
DTSTAMP:20260421T132740
CREATED:20241122T215557Z
LAST-MODIFIED:20241122T215557Z
UID:14520-1734438600-1734442200@wayneseniorcenter.org
SUMMARY:Mindfulness
DESCRIPTION:Practicing mindfulness provides countless benefits to our overall well-being. Join instructor Liz for an hour of virtual mindfulness.
URL:https://wayneseniorcenter.org/event/mindfulness-11/
END:VEVENT
BEGIN:VEVENT
DTSTART;TZID=UTC:20241217T150000
DTEND;TZID=UTC:20241217T160000
DTSTAMP:20260421T132740
CREATED:20241122T215556Z
LAST-MODIFIED:20241122T215556Z
UID:14519-1734447600-1734451200@wayneseniorcenter.org
SUMMARY:Memoir Writing (Virtual)
DESCRIPTION:Join Sara Wenger\, MFA for a memoir writing workshop. Sara will share memoir excerpts as well as writing exercises to help you write your unique life experiences so they can be passed on to children\, grandchildren\, friends and others. No prior writing experience is necessary! The class is appropriate for both novice and seasoned writers
URL:https://wayneseniorcenter.org/event/memoir-writing-virtual-15/
END:VEVENT
BEGIN:VEVENT
DTSTART;TZID=UTC:20241218T100000
DTEND;TZID=UTC:20241218T110000
DTSTAMP:20260421T132740
CREATED:20241122T215612Z
LAST-MODIFIED:20241122T215612Z
UID:14525-1734516000-1734519600@wayneseniorcenter.org
SUMMARY:Coffee Talk with Radnor Police Chaplain
DESCRIPTION:Enjoy coffee\, pastries\, and meaningful discussion with a visiting Radnor Police Chaplain.
URL:https://wayneseniorcenter.org/event/coffee-talk-with-radnor-police-chaplain-3/
END:VEVENT
BEGIN:VEVENT
DTSTART;TZID=UTC:20241218T110000
DTEND;TZID=UTC:20241218T120000
DTSTAMP:20260421T132740
CREATED:20241122T215624Z
LAST-MODIFIED:20241122T215624Z
UID:14526-1734519600-1734523200@wayneseniorcenter.org
SUMMARY:Pageturners Bookclub
DESCRIPTION:This month’s selection is “Trust” by Hernan Diaz. Told from the perspective of one woman bent on disentangling fact from fiction\, this unrivaled novel about money\, power\, intimacy\, and perception is centered around the mystery of how the Rask family aquired their immense fortune in 1920s-1930s New York. Enjoy lively book conversation with a Radnor Memorial Library librarian. All are welcome! Call for more info – (610)688-6246
URL:https://wayneseniorcenter.org/event/pageturners-bookclub-3/
END:VEVENT
BEGIN:VEVENT
DTSTART;TZID=UTC:20241218T110000
DTEND;TZID=UTC:20241218T120000
DTSTAMP:20260421T132740
CREATED:20241122T215625Z
LAST-MODIFIED:20241122T215625Z
UID:14527-1734519600-1734523200@wayneseniorcenter.org
SUMMARY:Tai Chi
DESCRIPTION:Tai Chi is a gentle form of exercise involving a series of graceful movements performed in a slow\, focused manner and accompanied by deep breathing. Excellent for strengthening balance and promoting stress reduction. In-Person fees – $5 for WSC members\, $10 for non-members.
URL:https://wayneseniorcenter.org/event/tai-chi-24/
END:VEVENT
BEGIN:VEVENT
DTSTART;TZID=UTC:20241218T120000
DTEND;TZID=UTC:20241218T130000
DTSTAMP:20260421T132740
CREATED:20241122T215625Z
LAST-MODIFIED:20241210T172141Z
UID:14528-1734523200-1734526800@wayneseniorcenter.org
SUMMARY:Holiday Luncheon & Concert
DESCRIPTION:Join us at Wayne Senior Center for a festive holiday meal with friends. The lunch will be followed by live entertainment featuring Katy and Billy. You’ll enjoy this engaging duo singing your favorite holiday tunes. RSVP by 12/12 – $6 members\, $10 non-members
URL:https://wayneseniorcenter.org/event/holiday-luncheon/
CATEGORIES:Social
END:VEVENT
END:VCALENDAR