BEGIN:VCALENDAR
VERSION:2.0
PRODID:-//Wayne Senior Center - ECPv6.15.20//NONSGML v1.0//EN
CALSCALE:GREGORIAN
METHOD:PUBLISH
X-WR-CALNAME:Wayne Senior Center
X-ORIGINAL-URL:https://wayneseniorcenter.org
X-WR-CALDESC:Events for Wayne Senior Center
REFRESH-INTERVAL;VALUE=DURATION:PT1H
X-Robots-Tag:noindex
X-PUBLISHED-TTL:PT1H
BEGIN:VTIMEZONE
TZID:UTC
BEGIN:STANDARD
TZOFFSETFROM:+0000
TZOFFSETTO:+0000
TZNAME:UTC
DTSTART:20220101T000000
END:STANDARD
END:VTIMEZONE
BEGIN:VEVENT
DTSTART;TZID=UTC:20231024T120000
DTEND;TZID=UTC:20231024T130000
DTSTAMP:20260421T204613
CREATED:20231026T153758Z
LAST-MODIFIED:20231026T153758Z
UID:12554-1698148800-1698152400@wayneseniorcenter.org
SUMMARY:Let's Do Lunch! - Live in the Blue Zone (In Center)
DESCRIPTION:Let’s do lunch together in the Center! This month we’ll be exploring the Blue Zones\, featuring recipes from the Blue Zone communities in the Netflix mini-series ‘Live to 100: Secrets of the Blue Zones.” The menu will change weekly. $5 for members\, $8 for non-members. Call for more information and to reserve a meal\, limited servings available – (610)688-6246
URL:https://wayneseniorcenter.org/event/lets-do-lunch-live-in-the-blue-zone-in-center-7/
CATEGORIES:Social
END:VEVENT
BEGIN:VEVENT
DTSTART;TZID=UTC:20231024T110000
DTEND;TZID=UTC:20231024T130000
DTSTAMP:20260421T204613
CREATED:20231026T153758Z
LAST-MODIFIED:20231026T153758Z
UID:12555-1698145200-1698152400@wayneseniorcenter.org
SUMMARY:Tech Tuesday (In Center)
DESCRIPTION:Tuesdays from 11am – 1pm stop in to chat Technology. Stop by between programs\, after grabbing some lunch\, or whenever is convenient for you. Bring specific questions about your device or come in to explore Wayne Senior Center iPads in a no-pressure environment. Or\, come by to share recent accomplishments or knowledge you’d like to share with others\, or just stop in to say hi and learn something new. Stop by during this time or email Francis at francis@wayneseniorcenter.org to make an appointment.
URL:https://wayneseniorcenter.org/event/tech-tuesday-in-center-6/
CATEGORIES:Life Enrichment
END:VEVENT
BEGIN:VEVENT
DTSTART;TZID=UTC:20231024T110000
DTEND;TZID=UTC:20231024T120000
DTSTAMP:20260421T204613
CREATED:20231026T145721Z
LAST-MODIFIED:20231026T145721Z
UID:12506-1698145200-1698148800@wayneseniorcenter.org
SUMMARY:Sit\, Move\, Stretch (In Center and Virtual)
DESCRIPTION:This class offers seated or standing: cardio movement\, strengthening\, deep breathing\, and stretching. In-Person fees – free for WSC members\, $3 for non-members.
URL:https://wayneseniorcenter.org/event/sit-move-stretch-in-center-and-virtual-6/
CATEGORIES:Fitness
END:VEVENT
BEGIN:VEVENT
DTSTART;TZID=UTC:20231024T093000
DTEND;TZID=UTC:20231024T103000
DTSTAMP:20260421T204613
CREATED:20231026T153758Z
LAST-MODIFIED:20231026T153758Z
UID:12556-1698139800-1698143400@wayneseniorcenter.org
SUMMARY:Walking Club (In Center)
DESCRIPTION:Join Margo\, Destinie\, and other WSC friends for a walk on the Radnor Trail. Every Tuesday at 9:30am weather permitting. Walkers meet at the trail parking lot – 520 Conestoga Road. All abilities welcome. Wear comfortable walking shoes.
URL:https://wayneseniorcenter.org/event/walking-club-in-center-4/
CATEGORIES:Fitness
END:VEVENT
BEGIN:VEVENT
DTSTART;TZID=UTC:20231023T150000
DTEND;TZID=UTC:20231023T160000
DTSTAMP:20260421T204613
CREATED:20231026T144602Z
LAST-MODIFIED:20231026T144602Z
UID:12500-1698073200-1698076800@wayneseniorcenter.org
SUMMARY:Memoir Writing (Virtual)
DESCRIPTION:Join Sara Wenger\, MFA for a memoir writing workshop. Sara will share memoir excerpts as well as writing exercises to help you write your unique life experiences so they can be passed on to children\, grandchildren\, friends and others. No prior writing experience is necessary! The class is appropriate for both novice and seasoned writers
URL:https://wayneseniorcenter.org/event/memoir-writing-virtual-2/
CATEGORIES:Life Enrichment
END:VEVENT
BEGIN:VEVENT
DTSTART;TZID=UTC:20231023T140000
DTEND;TZID=UTC:20231023T150000
DTSTAMP:20260421T204613
CREATED:20231026T153743Z
LAST-MODIFIED:20231026T153743Z
UID:12552-1698069600-1698073200@wayneseniorcenter.org
SUMMARY:Seasons: Grief and Loss Group (In Center)
DESCRIPTION:Join others in a safe space to listen\, share\, and heal in conversation about losses you have experienced. We will learn how grief can affect our everyday life and ways to manage the range of feelings and symptoms.
URL:https://wayneseniorcenter.org/event/seasons-grief-and-loss-group-in-center-4/
CATEGORIES:Social
END:VEVENT
BEGIN:VEVENT
DTSTART;TZID=UTC:20231023T130000
DTEND;TZID=UTC:20231023T140000
DTSTAMP:20260421T204613
CREATED:20231026T145726Z
LAST-MODIFIED:20231026T145726Z
UID:12511-1698066000-1698069600@wayneseniorcenter.org
SUMMARY:Strength and Balance (Virtual)
DESCRIPTION:Move\, stretch\, and improve your balance\, both seated and standing\, along with instructor Cathi from home. All abilities welcome!
URL:https://wayneseniorcenter.org/event/strength-and-balance-virtual-8/
CATEGORIES:Fitness
END:VEVENT
BEGIN:VEVENT
DTSTART;TZID=UTC:20231023T100000
DTEND;TZID=UTC:20231023T120000
DTSTAMP:20260421T204613
CREATED:20231026T153758Z
LAST-MODIFIED:20231026T153758Z
UID:12553-1698055200-1698062400@wayneseniorcenter.org
SUMMARY:WSC Quilters (In Center)
DESCRIPTION:WSC quiliting club. All skill levels Welcome. Come by or RSVP by calling the center – (610) 688-6246
URL:https://wayneseniorcenter.org/event/wsc-quilters-in-center-8/
CATEGORIES:Social
END:VEVENT
BEGIN:VEVENT
DTSTART;TZID=UTC:20231023T100000
DTEND;TZID=UTC:20231023T120000
DTSTAMP:20260421T204613
CREATED:20231026T153743Z
LAST-MODIFIED:20231026T153743Z
UID:12551-1698055200-1698062400@wayneseniorcenter.org
SUMMARY:Refresher Bridge (In Center)
DESCRIPTION:Brush up on your bridge skills with Lawrie Stetson and Dave Heron. Must have previous bridge experience.
URL:https://wayneseniorcenter.org/event/refresher-bridge-in-center-8/
CATEGORIES:Social
END:VEVENT
BEGIN:VEVENT
DTSTART;TZID=UTC:20231023T100000
DTEND;TZID=UTC:20231023T110000
DTSTAMP:20260421T204613
CREATED:20231026T153743Z
LAST-MODIFIED:20231026T153743Z
UID:12550-1698055200-1698058800@wayneseniorcenter.org
SUMMARY:Brain Games (In Center)
DESCRIPTION:Exercise your brain and work through word games\, word scrambles and brain teasers.
URL:https://wayneseniorcenter.org/event/brain-games-in-center-8/
CATEGORIES:Life Enrichment
END:VEVENT
BEGIN:VEVENT
DTSTART;TZID=UTC:20231020T113000
DTEND;TZID=UTC:20231020T123000
DTSTAMP:20260421T204613
CREATED:20231026T144601Z
LAST-MODIFIED:20231026T144601Z
UID:12494-1697801400-1697805000@wayneseniorcenter.org
SUMMARY:Armchair Travel: Castles of the Rhine (Virtual)
DESCRIPTION:Explore castles of the Rhine from the comfort of your home!
URL:https://wayneseniorcenter.org/event/armchair-travel-castles-of-the-rhine-virtual/
CATEGORIES:Life Enrichment
END:VEVENT
BEGIN:VEVENT
DTSTART;TZID=UTC:20231020T103000
DTEND;TZID=UTC:20231020T113000
DTSTAMP:20260421T204613
CREATED:20231026T144601Z
LAST-MODIFIED:20231026T144601Z
UID:12497-1697797800-1697801400@wayneseniorcenter.org
SUMMARY:Chair Yoga (In Center and Virtual)
DESCRIPTION:A well-rounded class that will help with balance\, strengthening\, and relaxation. Have a sturdy chair available. All abilities welcome. In-Person fees – $3 for WSC members\, $6 for non-members.
URL:https://wayneseniorcenter.org/event/chair-yoga-in-center-and-virtual-3/
CATEGORIES:Fitness
END:VEVENT
BEGIN:VEVENT
DTSTART;TZID=UTC:20231019T130000
DTEND;TZID=UTC:20231019T150000
DTSTAMP:20260421T204613
CREATED:20231026T153728Z
LAST-MODIFIED:20231026T153728Z
UID:12546-1697720400-1697727600@wayneseniorcenter.org
SUMMARY:Cards and Games: Open Play (In Center)
DESCRIPTION:Join us for an afternoon playing games of your choice- Poker\, gin rummy\, pinochle\, mahjong etc. Meet a new friend and start a game of your own. Mahjong teachers/leaders feel free to bring your game set!
URL:https://wayneseniorcenter.org/event/cards-and-games-open-play-in-center-7/
CATEGORIES:Social
END:VEVENT
BEGIN:VEVENT
DTSTART;TZID=UTC:20231019T110000
DTEND;TZID=UTC:20231019T120000
DTSTAMP:20260421T204613
CREATED:20231026T153728Z
LAST-MODIFIED:20231026T153728Z
UID:12547-1697713200-1697716800@wayneseniorcenter.org
SUMMARY:Sit\, Move\, Stretch (In Center)
DESCRIPTION:Gentle Movement\, stretching\, and relaxation. Free for WSC members\, $3 for non-members. RSVP by calling the center – (610) 688-6246
URL:https://wayneseniorcenter.org/event/sit-move-stretch-in-center-7/
CATEGORIES:Fitness
END:VEVENT
BEGIN:VEVENT
DTSTART;TZID=UTC:20231019T101500
DTEND;TZID=UTC:20231019T110000
DTSTAMP:20260421T204613
CREATED:20231026T153743Z
LAST-MODIFIED:20231026T153743Z
UID:12549-1697710500-1697713200@wayneseniorcenter.org
SUMMARY:Cooking Demo (In Center)
DESCRIPTION:Cooking demo sponsored by Penn State Extension!
URL:https://wayneseniorcenter.org/event/cooking-demo-in-center/
CATEGORIES:Life Enrichment
END:VEVENT
BEGIN:VEVENT
DTSTART;TZID=UTC:20231019T093000
DTEND;TZID=UTC:20231019T103000
DTSTAMP:20260421T204613
CREATED:20231026T153743Z
LAST-MODIFIED:20231026T153743Z
UID:12548-1697707800-1697711400@wayneseniorcenter.org
SUMMARY:Zumba Gold (In Center)
DESCRIPTION:Keep your body moving\, enjoy lively music\, and have fun dancing your cares away. $3 members / $6 non-members
URL:https://wayneseniorcenter.org/event/zumba-gold-in-center-7/
CATEGORIES:Fitness
END:VEVENT
BEGIN:VEVENT
DTSTART;TZID=UTC:20231019T090000
DTEND;TZID=UTC:20231019T110000
DTSTAMP:20260421T204613
CREATED:20231026T153728Z
LAST-MODIFIED:20231026T153728Z
UID:12545-1697706000-1697713200@wayneseniorcenter.org
SUMMARY:Blood Pressure Screenings (In Center)
DESCRIPTION:Are you trying to keep track of your blood pressure readings? Have questions about a medication or just need a listening ear? Stop by and speak 1:1 with a nurse.
URL:https://wayneseniorcenter.org/event/blood-pressure-screenings-in-center-4/
CATEGORIES:Life Enrichment
END:VEVENT
BEGIN:VEVENT
DTSTART;TZID=UTC:20231018T110000
DTEND;TZID=UTC:20231018T120000
DTSTAMP:20260421T204613
CREATED:20231026T145756Z
LAST-MODIFIED:20231026T145756Z
UID:12519-1697626800-1697630400@wayneseniorcenter.org
SUMMARY:Tai Chi (In Center and Virtual)
DESCRIPTION:Tai Chi is a gentle form of exercise involving a series of graceful movements performed in a slow\, focused manner and accompanied by deep breathing. Excellent for strengthening balance and promoting stress reduction. In-Person fees – $5 for WSC members\, $10 for non-members.
URL:https://wayneseniorcenter.org/event/tai-chi-in-center-and-virtual-8/
CATEGORIES:Fitness
END:VEVENT
BEGIN:VEVENT
DTSTART;TZID=UTC:20231018T100000
DTEND;TZID=UTC:20231018T110000
DTSTAMP:20260421T204613
CREATED:20231026T153728Z
LAST-MODIFIED:20231026T153728Z
UID:12544-1697623200-1697626800@wayneseniorcenter.org
SUMMARY:Drums Alive (In Center)
DESCRIPTION:Join us for a fun\, rhythmic\, seated exercise class that gets you moving and grooving!
URL:https://wayneseniorcenter.org/event/drums-alive-in-center-7/
CATEGORIES:Fitness
END:VEVENT
BEGIN:VEVENT
DTSTART;TZID=UTC:20231018T100000
DTEND;TZID=UTC:20231018T110000
DTSTAMP:20260421T204613
CREATED:20231026T145742Z
LAST-MODIFIED:20231026T145742Z
UID:12515-1697623200-1697626800@wayneseniorcenter.org
SUMMARY:Strength and Cardio (Virtual)
DESCRIPTION:Move\, stretch\, and tone both seated and standing along with instructor Cathi from home. All abilities welcome!
URL:https://wayneseniorcenter.org/event/strength-and-cardio-virtual-8/
CATEGORIES:Fitness
END:VEVENT
BEGIN:VEVENT
DTSTART;TZID=UTC:20231017T120000
DTEND;TZID=UTC:20231017T130000
DTSTAMP:20260421T204613
CREATED:20231026T153728Z
LAST-MODIFIED:20231026T153728Z
UID:12543-1697544000-1697547600@wayneseniorcenter.org
SUMMARY:Medicare 101 with Breakfast (In Center)
DESCRIPTION:PA Medi of Delaware County presents: Medicare 101. This program will cover parts of Medicare\, the pros and cons of traditional Medicare vs Medicare advantage plans\, when and how to sign up\, and more! Please call or visit the Center to RSVP.
URL:https://wayneseniorcenter.org/event/medicare-101-with-breakfast-in-center/
CATEGORIES:Life Enrichment
END:VEVENT
BEGIN:VEVENT
DTSTART;TZID=UTC:20231017T120000
DTEND;TZID=UTC:20231017T130000
DTSTAMP:20260421T204613
CREATED:20231026T153713Z
LAST-MODIFIED:20231026T153713Z
UID:12540-1697544000-1697547600@wayneseniorcenter.org
SUMMARY:Let's Do Lunch! - Live in the Blue Zone (In Center)
DESCRIPTION:Let’s do lunch together in the Center! This month we’ll be exploring the Blue Zones\, featuring recipes from the Blue Zone communities in the Netflix mini-series ‘Live to 100: Secrets of the Blue Zones.” The menu will change weekly. $5 for members\, $8 for non-members. Call for more information and to reserve a meal\, limited servings available – (610)688-6246
URL:https://wayneseniorcenter.org/event/lets-do-lunch-live-in-the-blue-zone-in-center-6/
CATEGORIES:Social
END:VEVENT
BEGIN:VEVENT
DTSTART;TZID=UTC:20231017T110000
DTEND;TZID=UTC:20231017T130000
DTSTAMP:20260421T204613
CREATED:20231026T153713Z
LAST-MODIFIED:20231026T153713Z
UID:12541-1697540400-1697547600@wayneseniorcenter.org
SUMMARY:Tech Tuesday (In Center)
DESCRIPTION:Tuesdays from 11am – 1pm stop in to chat Technology. Stop by between programs\, after grabbing some lunch\, or whenever is convenient for you. Bring specific questions about your device or come in to explore Wayne Senior Center iPads in a no-pressure environment. Or\, come by to share recent accomplishments or knowledge you’d like to share with others\, or just stop in to say hi and learn something new. Stop by during this time or email Francis at francis@wayneseniorcenter.org to make an appointment.
URL:https://wayneseniorcenter.org/event/tech-tuesday-in-center-5/
CATEGORIES:Life Enrichment
END:VEVENT
BEGIN:VEVENT
DTSTART;TZID=UTC:20231017T110000
DTEND;TZID=UTC:20231017T120000
DTSTAMP:20260421T204613
CREATED:20231026T145721Z
LAST-MODIFIED:20231026T145721Z
UID:12505-1697540400-1697544000@wayneseniorcenter.org
SUMMARY:Sit\, Move\, Stretch (In Center and Virtual)
DESCRIPTION:This class offers seated or standing: cardio movement\, strengthening\, deep breathing\, and stretching. In-Person fees – free for WSC members\, $3 for non-members.
URL:https://wayneseniorcenter.org/event/sit-move-stretch-in-center-and-virtual-5/
CATEGORIES:Fitness
END:VEVENT
BEGIN:VEVENT
DTSTART;TZID=UTC:20231017T093000
DTEND;TZID=UTC:20231017T103000
DTSTAMP:20260421T204613
CREATED:20231026T153713Z
LAST-MODIFIED:20231026T153713Z
UID:12542-1697535000-1697538600@wayneseniorcenter.org
SUMMARY:Walking Club (In Center)
DESCRIPTION:Join Margo\, Destinie\, and other WSC friends for a walk on the Radnor Trail. Every Tuesday at 9:30am weather permitting. Walkers meet at the trail parking lot – 520 Conestoga Road. All abilities welcome. Wear comfortable walking shoes.
URL:https://wayneseniorcenter.org/event/walking-club-in-center-3/
CATEGORIES:Fitness
END:VEVENT
BEGIN:VEVENT
DTSTART;TZID=UTC:20231016T130000
DTEND;TZID=UTC:20231016T150000
DTSTAMP:20260421T204613
CREATED:20231026T153658Z
LAST-MODIFIED:20231026T153658Z
UID:12537-1697461200-1697468400@wayneseniorcenter.org
SUMMARY:Classic Movie Matinee: Beetlejuice (In Center)
DESCRIPTION:Join us for a viewing of the film\, Beetlejuice (1988)\, a film starring Alec Baldwin\, Michael Keaton\, Winona Ryder\, and Geena Davis. The spirits of a deceased couple are harassed by an unbearable family that has moved into their home and hire a malicious spirit to drive them out.
URL:https://wayneseniorcenter.org/event/classic-movie-matinee-beetlejuice-in-center/
CATEGORIES:Social
END:VEVENT
BEGIN:VEVENT
DTSTART;TZID=UTC:20231016T130000
DTEND;TZID=UTC:20231016T140000
DTSTAMP:20260421T204613
CREATED:20231026T145726Z
LAST-MODIFIED:20231026T145726Z
UID:12510-1697461200-1697464800@wayneseniorcenter.org
SUMMARY:Strength and Balance (Virtual)
DESCRIPTION:Move\, stretch\, and improve your balance\, both seated and standing\, along with instructor Cathi from home. All abilities welcome!
URL:https://wayneseniorcenter.org/event/strength-and-balance-virtual-7/
CATEGORIES:Fitness
END:VEVENT
BEGIN:VEVENT
DTSTART;TZID=UTC:20231016T100000
DTEND;TZID=UTC:20231016T120000
DTSTAMP:20260421T204613
CREATED:20231026T153713Z
LAST-MODIFIED:20231026T153713Z
UID:12538-1697450400-1697457600@wayneseniorcenter.org
SUMMARY:Refresher Bridge (In Center)
DESCRIPTION:Brush up on your bridge skills with Lawrie Stetson and Dave Heron. Must have previous bridge experience.
URL:https://wayneseniorcenter.org/event/refresher-bridge-in-center-7/
CATEGORIES:Social
END:VEVENT
BEGIN:VEVENT
DTSTART;TZID=UTC:20231016T100000
DTEND;TZID=UTC:20231016T120000
DTSTAMP:20260421T204613
CREATED:20231026T153713Z
LAST-MODIFIED:20231026T153713Z
UID:12539-1697450400-1697457600@wayneseniorcenter.org
SUMMARY:WSC Quilters (In Center)
DESCRIPTION:WSC quiliting club. All skill levels Welcome. Come by or RSVP by calling the center – (610) 688-6246
URL:https://wayneseniorcenter.org/event/wsc-quilters-in-center-7/
CATEGORIES:Social
END:VEVENT
BEGIN:VEVENT
DTSTART;TZID=UTC:20231016T100000
DTEND;TZID=UTC:20231016T110000
DTSTAMP:20260421T204613
CREATED:20231026T153658Z
LAST-MODIFIED:20231026T153658Z
UID:12536-1697450400-1697454000@wayneseniorcenter.org
SUMMARY:Brain Games (In Center)
DESCRIPTION:Exercise your brain and work through word games\, word scrambles and brain teasers.
URL:https://wayneseniorcenter.org/event/brain-games-in-center-7/
CATEGORIES:Life Enrichment
END:VEVENT
END:VCALENDAR