BEGIN:VCALENDAR
VERSION:2.0
PRODID:-//Wayne Senior Center - ECPv6.15.20//NONSGML v1.0//EN
CALSCALE:GREGORIAN
METHOD:PUBLISH
X-WR-CALNAME:Wayne Senior Center
X-ORIGINAL-URL:https://wayneseniorcenter.org
X-WR-CALDESC:Events for Wayne Senior Center
REFRESH-INTERVAL;VALUE=DURATION:PT1H
X-Robots-Tag:noindex
X-PUBLISHED-TTL:PT1H
BEGIN:VTIMEZONE
TZID:UTC
BEGIN:STANDARD
TZOFFSETFROM:+0000
TZOFFSETTO:+0000
TZNAME:UTC
DTSTART:20230101T000000
END:STANDARD
END:VTIMEZONE
BEGIN:VTIMEZONE
TZID:America/New_York
BEGIN:DAYLIGHT
TZOFFSETFROM:-0500
TZOFFSETTO:-0400
TZNAME:EDT
DTSTART:20230312T070000
END:DAYLIGHT
BEGIN:STANDARD
TZOFFSETFROM:-0400
TZOFFSETTO:-0500
TZNAME:EST
DTSTART:20231105T060000
END:STANDARD
BEGIN:DAYLIGHT
TZOFFSETFROM:-0500
TZOFFSETTO:-0400
TZNAME:EDT
DTSTART:20240310T070000
END:DAYLIGHT
BEGIN:STANDARD
TZOFFSETFROM:-0400
TZOFFSETTO:-0500
TZNAME:EST
DTSTART:20241103T060000
END:STANDARD
BEGIN:DAYLIGHT
TZOFFSETFROM:-0500
TZOFFSETTO:-0400
TZNAME:EDT
DTSTART:20250309T070000
END:DAYLIGHT
BEGIN:STANDARD
TZOFFSETFROM:-0400
TZOFFSETTO:-0500
TZNAME:EST
DTSTART:20251102T060000
END:STANDARD
END:VTIMEZONE
BEGIN:VEVENT
DTSTART;TZID=UTC:20241204T113000
DTEND;TZID=UTC:20241204T123000
DTSTAMP:20260421T114358
CREATED:20241122T215203Z
LAST-MODIFIED:20241122T215203Z
UID:14480-1733311800-1733315400@wayneseniorcenter.org
SUMMARY:Fitness Trainer Help
DESCRIPTION:Do you need assistance with the fitness center equipment? Stop by to see fitness trainer Kenny to get help with the equipment and ask questions about your fitness routine. You must be a fitness center member.
URL:https://wayneseniorcenter.org/event/fitness-trainer-help-9/
END:VEVENT
BEGIN:VEVENT
DTSTART;TZID=UTC:20241204T123000
DTEND;TZID=UTC:20241204T133000
DTSTAMP:20260421T114358
CREATED:20241122T215215Z
LAST-MODIFIED:20241122T215215Z
UID:14481-1733315400-1733319000@wayneseniorcenter.org
SUMMARY:Silver Sneakers Classic
DESCRIPTION:Focus on strengthening muscles and increasing range of motion using light weights\, stretch bands\, and exercise balls.
URL:https://wayneseniorcenter.org/event/silver-sneakers-classic-16/
END:VEVENT
BEGIN:VEVENT
DTSTART;TZID=UTC:20241205T090000
DTEND;TZID=UTC:20241205T110000
DTSTAMP:20260421T114358
CREATED:20241122T215216Z
LAST-MODIFIED:20241122T215216Z
UID:14483-1733389200-1733396400@wayneseniorcenter.org
SUMMARY:Blood Pressure Screenings
DESCRIPTION:Are you trying to keep track of your blood pressure readings? Have questions about a medication or just need a listening ear? Stop by and speak 1:1 with a nurse.
URL:https://wayneseniorcenter.org/event/blood-pressure-screenings-5/
END:VEVENT
BEGIN:VEVENT
DTSTART;TZID=UTC:20241205T093000
DTEND;TZID=UTC:20241205T103000
DTSTAMP:20260421T114358
CREATED:20241122T215231Z
LAST-MODIFIED:20241122T215231Z
UID:14488-1733391000-1733394600@wayneseniorcenter.org
SUMMARY:Christmas Song Quiz
DESCRIPTION:How well do you know your Christmas songs? Take our fun quiz and let’s go over the answers together!
URL:https://wayneseniorcenter.org/event/christmas-song-quiz/
END:VEVENT
BEGIN:VEVENT
DTSTART;TZID=UTC:20241205T100000
DTEND;TZID=UTC:20241205T110000
DTSTAMP:20260421T114358
CREATED:20241122T215230Z
LAST-MODIFIED:20241122T215230Z
UID:14487-1733392800-1733396400@wayneseniorcenter.org
SUMMARY:Zumba Gold
DESCRIPTION:Keep your body moving\, enjoy lively music\, and have fun dancing your cares away. $3 members / $6 non-members
URL:https://wayneseniorcenter.org/event/zumba-gold-8/
END:VEVENT
BEGIN:VEVENT
DTSTART;TZID=UTC:20241205T100000
DTEND;TZID=UTC:20241205T110000
DTSTAMP:20260421T114358
CREATED:20241122T215232Z
LAST-MODIFIED:20241122T215232Z
UID:14489-1733392800-1733396400@wayneseniorcenter.org
SUMMARY:Trim the Tree at WSC!
DESCRIPTION:How well do you know your Christmas songs? Take our fun quiz and let’s go over the answers together!
URL:https://wayneseniorcenter.org/event/trim-the-tree-at-wsc/
END:VEVENT
BEGIN:VEVENT
DTSTART;TZID=UTC:20241205T110000
DTEND;TZID=UTC:20241205T120000
DTSTAMP:20260421T114358
CREATED:20241122T215230Z
LAST-MODIFIED:20241122T215230Z
UID:14486-1733396400-1733400000@wayneseniorcenter.org
SUMMARY:Sit\, Move\, Stretch
DESCRIPTION:This class offers seated or standing: cardio movement\, strengthening\, deep breathing\, and stretching. In-Person fees – free for WSC members\, $3 for non-members.
URL:https://wayneseniorcenter.org/event/sit-move-stretch-16/
END:VEVENT
BEGIN:VEVENT
DTSTART;TZID=UTC:20241205T110000
DTEND;TZID=UTC:20241205T130000
DTSTAMP:20260421T114358
CREATED:20241122T215218Z
LAST-MODIFIED:20241122T215218Z
UID:14485-1733396400-1733403600@wayneseniorcenter.org
SUMMARY:Septa Key Card Renewals
DESCRIPTION:Join us on the first Thursday of each month for Septa Key Cardapplications and renewals and other constituent services with a representative from Sen. AmandaCappelletti’s office. The representative is here 11:00AM to 1:00PM\, no need to RSVP.
URL:https://wayneseniorcenter.org/event/septa-key-card-renewals-3/
END:VEVENT
BEGIN:VEVENT
DTSTART;TZID=UTC:20241205T130000
DTEND;TZID=UTC:20241205T150000
DTSTAMP:20260421T114358
CREATED:20241122T215218Z
LAST-MODIFIED:20241122T215218Z
UID:14484-1733403600-1733410800@wayneseniorcenter.org
SUMMARY:Cards and Games: Open Play
DESCRIPTION:Join us for an afternoon playing games of your choice- Poker\, gin rummy\, pinochle\, mahjong etc. Meet a new friend and start a game of your own. Mahjong teachers/leaders feel free to bring your game set!
URL:https://wayneseniorcenter.org/event/cards-and-games-open-play-9/
END:VEVENT
BEGIN:VEVENT
DTSTART;TZID=UTC:20241206T093000
DTEND;TZID=UTC:20241206T103000
DTSTAMP:20260421T114358
CREATED:20241122T215244Z
LAST-MODIFIED:20241122T215244Z
UID:14491-1733477400-1733481000@wayneseniorcenter.org
SUMMARY:Senior Circuit
DESCRIPTION:Join us for a dynamic strength-building\, full-body workout utilizing bands\, weights\, and balls as we cycle through various stations.
URL:https://wayneseniorcenter.org/event/senior-circuit-9/
END:VEVENT
BEGIN:VEVENT
DTSTART;TZID=UTC:20241206T103000
DTEND;TZID=UTC:20241206T113000
DTSTAMP:20260421T114358
CREATED:20241122T215232Z
LAST-MODIFIED:20241122T215232Z
UID:14490-1733481000-1733484600@wayneseniorcenter.org
SUMMARY:Chair Yoga
DESCRIPTION:A well-rounded class that will help with balance\, strengthening\, and relaxation. Have a sturdy chair available. All abilities welcome. In-Person fees – $3 for WSC members\, $6 for non-members.
URL:https://wayneseniorcenter.org/event/chair-yoga-9/
END:VEVENT
BEGIN:VEVENT
DTSTART;TZID=America/New_York:20241207T093000
DTEND;TZID=America/New_York:20241207T120000
DTSTAMP:20260421T114358
CREATED:20241127T145026Z
LAST-MODIFIED:20241127T145527Z
UID:14553-1733563800-1733572800@wayneseniorcenter.org
SUMMARY:Holiday Open House
DESCRIPTION:Kids and Adults of all ages are welcome to join us on Saturday\, December 7th from 9:30AM to 12:00PM for our Holiday Open House.\nFree Coffee\, Tea\, Hot Cocoa & holiday treats will be served. There will be a Letters to Santa Workshop & kids crafts\, raffles and door prizes. Our friends at Bach To Rock-Wayne will be performing holiday tunes and more from 10:00AM to 12:00PM. Bring the family and celebrate the season with us!
URL:https://wayneseniorcenter.org/event/holiday-open-house/
LOCATION:Wayne Senior Center\, 108 Station Road\, Wayne\, PA\, 19087\, United States
CATEGORIES:Social
ATTACH;FMTTYPE=image/jpeg:https://wayneseniorcenter.org/wp-content/uploads/2024/11/WSC-OpenHouse-SocialCard-1080x1080-1.jpg
END:VEVENT
BEGIN:VEVENT
DTSTART;TZID=UTC:20241209T100000
DTEND;TZID=UTC:20241209T110000
DTSTAMP:20260421T114358
CREATED:20241122T215246Z
LAST-MODIFIED:20241122T215246Z
UID:14493-1733738400-1733742000@wayneseniorcenter.org
SUMMARY:Silver Sneakers Classic
DESCRIPTION:Focus on strengthening muscles and increasing range of motion using light weights\, stretch bands\, and exercise balls.
URL:https://wayneseniorcenter.org/event/silver-sneakers-classic-17/
END:VEVENT
BEGIN:VEVENT
DTSTART;TZID=UTC:20241209T100000
DTEND;TZID=UTC:20241209T120000
DTSTAMP:20260421T114358
CREATED:20241122T215245Z
LAST-MODIFIED:20241122T215245Z
UID:14492-1733738400-1733745600@wayneseniorcenter.org
SUMMARY:Refresher Bridge
DESCRIPTION:Brush up on your bridge skills with Lawrie Stetson and Dave Heron. Must have previous bridge experience.
URL:https://wayneseniorcenter.org/event/refresher-bridge-10/
END:VEVENT
BEGIN:VEVENT
DTSTART;TZID=UTC:20241209T100000
DTEND;TZID=UTC:20241209T120000
DTSTAMP:20260421T114358
CREATED:20241122T215259Z
LAST-MODIFIED:20241122T215259Z
UID:14496-1733738400-1733745600@wayneseniorcenter.org
SUMMARY:WSC Quilters
DESCRIPTION:WSC quiliting club. All skill levels Welcome. Come by or RSVP by calling the center – (610) 688-6246
URL:https://wayneseniorcenter.org/event/wsc-quilters-10/
END:VEVENT
BEGIN:VEVENT
DTSTART;TZID=UTC:20241209T110000
DTEND;TZID=UTC:20241209T120000
DTSTAMP:20260421T114358
CREATED:20241122T215247Z
LAST-MODIFIED:20241122T215247Z
UID:14494-1733742000-1733745600@wayneseniorcenter.org
SUMMARY:Soul Line Dance
DESCRIPTION:Kenny James will get you moving and grooving in a fun\, easy to learn dance class. No experience necessary – all can join. $3 members / $6 non-members.
URL:https://wayneseniorcenter.org/event/soul-line-dance-9/
END:VEVENT
BEGIN:VEVENT
DTSTART;TZID=UTC:20241209T123000
DTEND;TZID=UTC:20241209T133000
DTSTAMP:20260421T114358
CREATED:20241122T215248Z
LAST-MODIFIED:20241122T215248Z
UID:14495-1733747400-1733751000@wayneseniorcenter.org
SUMMARY:Tai Chi
DESCRIPTION:Tai Chi is a gentle form of exercise involving a series of graceful movements performed in a slow\, focused manner and accompanied by deep breathing. Excellent for strengthening balance and promoting stress reduction. In-Person fees – $5 for WSC members\, $10 for non-members.
URL:https://wayneseniorcenter.org/event/tai-chi-21/
END:VEVENT
BEGIN:VEVENT
DTSTART;TZID=UTC:20241209T140000
DTEND;TZID=UTC:20241209T150000
DTSTAMP:20260421T114358
CREATED:20241122T215200Z
LAST-MODIFIED:20241122T215929Z
UID:14476-1733752800-1733756400@wayneseniorcenter.org
SUMMARY:Seasons Grief & Loss Group
DESCRIPTION:Join others in a safe space to listen\, share\, and heal in conversation about losses you have experienced. We will learn how grief can affect our everyday life and ways to manage the range of feelings and symptoms. Facilitated by Holisticare Hospice.
URL:https://wayneseniorcenter.org/event/seasons-grief-loss-group-2/
END:VEVENT
BEGIN:VEVENT
DTSTART;TZID=UTC:20241210T090000
DTEND;TZID=UTC:20241210T110000
DTSTAMP:20260421T114358
CREATED:20241122T215302Z
LAST-MODIFIED:20241122T215302Z
UID:14500-1733821200-1733828400@wayneseniorcenter.org
SUMMARY:Tech Tuesday
DESCRIPTION:Stop by during this time with your tech questions or email Francis at francis@wayneseniorcenter.org to make an appointment. Some Tuesdays will feature a workshop on a certain topic starting at 10am.
URL:https://wayneseniorcenter.org/event/tech-tuesday-9/
END:VEVENT
BEGIN:VEVENT
DTSTART;TZID=UTC:20241210T093000
DTEND;TZID=UTC:20241210T110000
DTSTAMP:20260421T114358
CREATED:20241122T215500Z
LAST-MODIFIED:20241122T215500Z
UID:14501-1733823000-1733828400@wayneseniorcenter.org
SUMMARY:Gingerbread House Decorating Competition
DESCRIPTION:WSC is hosting a gingerbread house decorating competition! Gather your team and work together to decorate a festive gingerbread house while having fun. All supplies are provided. The houses will be judged and great prizes will be awarded! You must register your team or no more than 3 people. Please see Ashley or Andrea to register!
URL:https://wayneseniorcenter.org/event/gingerbread-house-decorating-competition-2/
END:VEVENT
BEGIN:VEVENT
DTSTART;TZID=UTC:20241210T110000
DTEND;TZID=UTC:20241210T120000
DTSTAMP:20260421T114358
CREATED:20241122T215302Z
LAST-MODIFIED:20241122T215302Z
UID:14499-1733828400-1733832000@wayneseniorcenter.org
SUMMARY:Sit\, Move\, Stretch
DESCRIPTION:This class offers seated or standing: cardio movement\, strengthening\, deep breathing\, and stretching. In-Person fees – free for WSC members\, $3 for non-members.
URL:https://wayneseniorcenter.org/event/sit-move-stretch-17/
END:VEVENT
BEGIN:VEVENT
DTSTART;TZID=UTC:20241210T120000
DTEND;TZID=UTC:20241210T130000
DTSTAMP:20260421T114358
CREATED:20241122T215300Z
LAST-MODIFIED:20241122T215300Z
UID:14497-1733832000-1733835600@wayneseniorcenter.org
SUMMARY:Let's Do Lunch!
DESCRIPTION:Let’s do lunch together! Please see the menu in the newsletter for details on each meal. $5 members / $8 non-members. RSVP required\, in-center dining only.
URL:https://wayneseniorcenter.org/event/lets-do-lunch-7/
END:VEVENT
BEGIN:VEVENT
DTSTART;TZID=UTC:20241210T123000
DTEND;TZID=UTC:20241210T133000
DTSTAMP:20260421T114358
CREATED:20241122T215301Z
LAST-MODIFIED:20241122T215301Z
UID:14498-1733833800-1733837400@wayneseniorcenter.org
SUMMARY:Mindfulness
DESCRIPTION:Practicing mindfulness provides countless benefits to our overall well-being. Join instructor Liz for an hour of virtual mindfulness.
URL:https://wayneseniorcenter.org/event/mindfulness-10/
END:VEVENT
BEGIN:VEVENT
DTSTART;TZID=UTC:20241211T100000
DTEND;TZID=UTC:20241211T110000
DTSTAMP:20260421T114358
CREATED:20241122T215500Z
LAST-MODIFIED:20241122T215500Z
UID:14502-1733911200-1733914800@wayneseniorcenter.org
SUMMARY:Cardio Drumming with Andrea
DESCRIPTION:Join Andrea once a month for a fun\, rhythmic\, seated exercise class that gets you moving and grooving. This month we will be drumming to festive holiday music! Each month will have a fun theme! $3 for members\, $6 non-members
URL:https://wayneseniorcenter.org/event/cardio-drumming-with-andrea-2/
END:VEVENT
BEGIN:VEVENT
DTSTART;TZID=UTC:20241211T110000
DTEND;TZID=UTC:20241211T120000
DTSTAMP:20260421T114358
CREATED:20241122T215503Z
LAST-MODIFIED:20241122T215503Z
UID:14505-1733914800-1733918400@wayneseniorcenter.org
SUMMARY:Tai Chi
DESCRIPTION:Tai Chi is a gentle form of exercise involving a series of graceful movements performed in a slow\, focused manner and accompanied by deep breathing. Excellent for strengthening balance and promoting stress reduction. In-Person fees – $5 for WSC members\, $10 for non-members.
URL:https://wayneseniorcenter.org/event/tai-chi-22/
END:VEVENT
BEGIN:VEVENT
DTSTART;TZID=UTC:20241211T113000
DTEND;TZID=UTC:20241211T123000
DTSTAMP:20260421T114358
CREATED:20241122T215501Z
LAST-MODIFIED:20241122T215501Z
UID:14503-1733916600-1733920200@wayneseniorcenter.org
SUMMARY:Fitness Trainer Help
DESCRIPTION:Do you need assistance with the fitness center equipment? Stop by to see fitness trainer Kenny to get help with the equipment and ask questions about your fitness routine. You must be a fitness center member.
URL:https://wayneseniorcenter.org/event/fitness-trainer-help-10/
END:VEVENT
BEGIN:VEVENT
DTSTART;TZID=UTC:20241211T123000
DTEND;TZID=UTC:20241211T133000
DTSTAMP:20260421T114358
CREATED:20241122T215502Z
LAST-MODIFIED:20241122T215502Z
UID:14504-1733920200-1733923800@wayneseniorcenter.org
SUMMARY:Silver Sneakers Classic
DESCRIPTION:Focus on strengthening muscles and increasing range of motion using light weights\, stretch bands\, and exercise balls.
URL:https://wayneseniorcenter.org/event/silver-sneakers-classic-18/
END:VEVENT
BEGIN:VEVENT
DTSTART;TZID=UTC:20241212T093000
DTEND;TZID=UTC:20241212T100000
DTSTAMP:20260421T114358
CREATED:20241122T215527Z
LAST-MODIFIED:20241122T215527Z
UID:14510-1733995800-1733997600@wayneseniorcenter.org
SUMMARY:Large Jenga Game
DESCRIPTION:Test your Jenga skills by trying to remove one block at a time without making the tower fall over!
URL:https://wayneseniorcenter.org/event/large-jenga-game-3/
END:VEVENT
BEGIN:VEVENT
DTSTART;TZID=UTC:20241212T100000
DTEND;TZID=UTC:20241212T110000
DTSTAMP:20260421T114358
CREATED:20241122T215526Z
LAST-MODIFIED:20241122T215526Z
UID:14509-1733997600-1734001200@wayneseniorcenter.org
SUMMARY:Zumba Gold
DESCRIPTION:Keep your body moving\, enjoy lively music\, and have fun dancing your cares away. $3 members / $6 non-members
URL:https://wayneseniorcenter.org/event/zumba-gold-9/
END:VEVENT
BEGIN:VEVENT
DTSTART;TZID=UTC:20241212T110000
DTEND;TZID=UTC:20241212T120000
DTSTAMP:20260421T114358
CREATED:20241122T215525Z
LAST-MODIFIED:20241122T215525Z
UID:14507-1734001200-1734004800@wayneseniorcenter.org
SUMMARY:Sit\, Move\, Stretch
DESCRIPTION:This class offers seated or standing: cardio movement\, strengthening\, deep breathing\, and stretching. In-Person fees – free for WSC members\, $3 for non-members.
URL:https://wayneseniorcenter.org/event/sit-move-stretch-18/
END:VEVENT
END:VCALENDAR