BEGIN:VCALENDAR
VERSION:2.0
PRODID:-//Wayne Senior Center - ECPv6.15.20//NONSGML v1.0//EN
CALSCALE:GREGORIAN
METHOD:PUBLISH
X-WR-CALNAME:Wayne Senior Center
X-ORIGINAL-URL:https://wayneseniorcenter.org
X-WR-CALDESC:Events for Wayne Senior Center
REFRESH-INTERVAL;VALUE=DURATION:PT1H
X-Robots-Tag:noindex
X-PUBLISHED-TTL:PT1H
BEGIN:VTIMEZONE
TZID:UTC
BEGIN:STANDARD
TZOFFSETFROM:+0000
TZOFFSETTO:+0000
TZNAME:UTC
DTSTART:20230101T000000
END:STANDARD
END:VTIMEZONE
BEGIN:VEVENT
DTSTART;TZID=UTC:20240104T090000
DTEND;TZID=UTC:20240104T110000
DTSTAMP:20260421T133921
CREATED:20231218T204236Z
LAST-MODIFIED:20231218T204236Z
UID:12882-1704358800-1704366000@wayneseniorcenter.org
SUMMARY:Blood Pressure Screenings (In Center)
DESCRIPTION:Are you trying to keep track of your blood pressure readings? Have questions about a medication or just need a listening ear? Stop by and speak 1:1 with a nurse.
URL:https://wayneseniorcenter.org/event/blood-pressure-screenings-in-center-8/
CATEGORIES:Life Enrichment
END:VEVENT
BEGIN:VEVENT
DTSTART;TZID=UTC:20240104T093000
DTEND;TZID=UTC:20240104T103000
DTSTAMP:20260421T133921
CREATED:20231218T204251Z
LAST-MODIFIED:20231218T204251Z
UID:12887-1704360600-1704364200@wayneseniorcenter.org
SUMMARY:Zumba Gold (In Center)
DESCRIPTION:Keep your body moving\, enjoy lively music\, and have fun dancing your cares away. $3 members / $6 non-members
URL:https://wayneseniorcenter.org/event/zumba-gold-in-center-12/
CATEGORIES:Fitness
END:VEVENT
BEGIN:VEVENT
DTSTART;TZID=UTC:20240104T101500
DTEND;TZID=UTC:20240104T110000
DTSTAMP:20260421T133921
CREATED:20231218T204236Z
LAST-MODIFIED:20231218T204236Z
UID:12884-1704363300-1704366000@wayneseniorcenter.org
SUMMARY:New Years Trivia (In Center)
DESCRIPTION:Join us for some friendly competition with some new years-themed trivia. We will cover a variety of topics including New Year’s holidays\, ancient calendars\, and the New Year’s Ball drop celebration in New York City!
URL:https://wayneseniorcenter.org/event/new-years-trivia-in-center/
CATEGORIES:Life Enrichment
END:VEVENT
BEGIN:VEVENT
DTSTART;TZID=UTC:20240104T110000
DTEND;TZID=UTC:20240104T120000
DTSTAMP:20260421T133921
CREATED:20231218T204251Z
LAST-MODIFIED:20231218T204251Z
UID:12886-1704366000-1704369600@wayneseniorcenter.org
SUMMARY:Sit\, Move\, Stretch (In Center)
DESCRIPTION:Gentle Movement\, stretching\, and relaxation. Free for WSC members\, $3 for non-members. RSVP by calling the center – (610) 688-6246
URL:https://wayneseniorcenter.org/event/sit-move-stretch-in-center-12/
CATEGORIES:Fitness
END:VEVENT
BEGIN:VEVENT
DTSTART;TZID=UTC:20240104T110000
DTEND;TZID=UTC:20240104T130000
DTSTAMP:20260421T133921
CREATED:20231218T204251Z
LAST-MODIFIED:20231218T204251Z
UID:12885-1704366000-1704373200@wayneseniorcenter.org
SUMMARY:Septa Key Card Renewals (In Center)
DESCRIPTION:Join us on the first Thursday of each month for Septa Key Cardapplications and renewals and other constituent services with a representative from Sen. AmandaCappelletti’s office. The representative is here 11:00AM to 1:00PM\, no need to RSVP.
URL:https://wayneseniorcenter.org/event/septa-key-card-renewals-in-center-4/
CATEGORIES:Life Enrichment
END:VEVENT
BEGIN:VEVENT
DTSTART;TZID=UTC:20240104T130000
DTEND;TZID=UTC:20240104T150000
DTSTAMP:20260421T133921
CREATED:20231218T204236Z
LAST-MODIFIED:20231218T204236Z
UID:12883-1704373200-1704380400@wayneseniorcenter.org
SUMMARY:Cards and Games: Open Play (In Center)
DESCRIPTION:Join us for an afternoon playing games of your choice- Poker\, gin rummy\, pinochle\, mahjong etc. Meet a new friend and start a game of your own. Mahjong teachers/leaders feel free to bring your game set!
URL:https://wayneseniorcenter.org/event/cards-and-games-open-play-in-center-12/
CATEGORIES:Social
END:VEVENT
BEGIN:VEVENT
DTSTART;TZID=UTC:20240105T103000
DTEND;TZID=UTC:20240105T113000
DTSTAMP:20260421T133921
CREATED:20231218T204251Z
LAST-MODIFIED:20231218T204950Z
UID:12888-1704450600-1704454200@wayneseniorcenter.org
SUMMARY:Chair Yoga (In Center and Virtual)
DESCRIPTION:A well-rounded class that will help with balance\, strengthening\, and relaxation. Have a sturdy chair available. All abilities welcome. In-Person fees – $3 for WSC members\, $6 for non-members.
URL:https://wayneseniorcenter.org/event/chair-yoga-in-person-and-virtual-8/
CATEGORIES:Fitness
END:VEVENT
BEGIN:VEVENT
DTSTART;TZID=UTC:20240108T100000
DTEND;TZID=UTC:20240108T120000
DTSTAMP:20260421T133921
CREATED:20231218T204306Z
LAST-MODIFIED:20231218T204306Z
UID:12890-1704708000-1704715200@wayneseniorcenter.org
SUMMARY:Refresher Bridge (In Center)
DESCRIPTION:Brush up on your bridge skills with Lawrie Stetson and Dave Heron. Must have previous bridge experience.
URL:https://wayneseniorcenter.org/event/refresher-bridge-in-center-13/
CATEGORIES:Social
END:VEVENT
BEGIN:VEVENT
DTSTART;TZID=UTC:20240108T100000
DTEND;TZID=UTC:20240108T120000
DTSTAMP:20260421T133921
CREATED:20231218T204306Z
LAST-MODIFIED:20231218T204306Z
UID:12893-1704708000-1704715200@wayneseniorcenter.org
SUMMARY:WSC Quilters (In Center)
DESCRIPTION:WSC quiliting club. All skill levels Welcome. Come by or RSVP by calling the center – (610) 688-6246
URL:https://wayneseniorcenter.org/event/wsc-quilters-in-center-13/
CATEGORIES:Social
END:VEVENT
BEGIN:VEVENT
DTSTART;TZID=UTC:20240108T130000
DTEND;TZID=UTC:20240108T140000
DTSTAMP:20260421T133921
CREATED:20231218T204306Z
LAST-MODIFIED:20231218T204306Z
UID:12892-1704718800-1704722400@wayneseniorcenter.org
SUMMARY:Strength and Balance (Virtual)
DESCRIPTION:Move\, stretch\, and improve your balance\, both seated and standing\, along with instructor Cathi from home. All abilities welcome!
URL:https://wayneseniorcenter.org/event/strength-and-balance-virtual-13/
CATEGORIES:Fitness
END:VEVENT
BEGIN:VEVENT
DTSTART;TZID=UTC:20240108T130000
DTEND;TZID=UTC:20240108T150000
DTSTAMP:20260421T133921
CREATED:20231218T204252Z
LAST-MODIFIED:20231221T200700Z
UID:12889-1704718800-1704726000@wayneseniorcenter.org
SUMMARY:Classic Movie Matinee: A Fish Called Wanda (In Center)
DESCRIPTION:Join us for a viewing of the film\, A Fish Called Wanda (1988). In London\, four very different people team up on a jewel heist\, then try to double-cross one another for the loot\, complicated by their efforts to fool a proper barrister.
URL:https://wayneseniorcenter.org/event/classic-movie-matinee-a-fish-called-wanda-in-center/
CATEGORIES:Social
ATTACH;FMTTYPE=image/png:https://wayneseniorcenter.org/wp-content/uploads/2023/12/0108-Classic-Movie.png
END:VEVENT
BEGIN:VEVENT
DTSTART;TZID=UTC:20240108T140000
DTEND;TZID=UTC:20240108T150000
DTSTAMP:20260421T133921
CREATED:20231218T204306Z
LAST-MODIFIED:20231218T204306Z
UID:12891-1704722400-1704726000@wayneseniorcenter.org
SUMMARY:Seasons: Grief and Loss Group (In Center)
DESCRIPTION:Join others in a safe space to listen\, share\, and heal in conversation about losses you have experienced. We will learn how grief can affect our everyday life and ways to manage the range of feelings and symptoms.
URL:https://wayneseniorcenter.org/event/seasons-grief-and-loss-group-in-center-6/
CATEGORIES:Social
END:VEVENT
BEGIN:VEVENT
DTSTART;TZID=UTC:20240109T090000
DTEND;TZID=UTC:20240109T110000
DTSTAMP:20260421T133921
CREATED:20231218T204321Z
LAST-MODIFIED:20231218T204321Z
UID:12897-1704790800-1704798000@wayneseniorcenter.org
SUMMARY:Tech Tuesday (In Center)
DESCRIPTION:Tuesdays from 11am – 1pm stop in to chat Technology. Stop by between programs\, after grabbing some lunch\, or whenever is convenient for you. Bring specific questions about your device or come in to explore Wayne Senior Center iPads in a no-pressure environment. Or\, come by to share recent accomplishments or knowledge you’d like to share with others\, or just stop in to say hi and learn something new. Stop by during this time or email Francis at francis@wayneseniorcenter.org to make an appointment.
URL:https://wayneseniorcenter.org/event/tech-tuesday-in-center-12/
CATEGORIES:Life Enrichment
END:VEVENT
BEGIN:VEVENT
DTSTART;TZID=UTC:20240109T100000
DTEND;TZID=UTC:20240109T110000
DTSTAMP:20260421T133921
CREATED:20231218T204321Z
LAST-MODIFIED:20231221T200637Z
UID:12898-1704794400-1704798000@wayneseniorcenter.org
SUMMARY:Tech Discussion: AI & Other Advancements (In Center)
DESCRIPTION:It’s been 6 months since our last meetup exploring and discussing AI. Has your opinion changed? Has technology run amok? Have our wildest dreams or fears come true? Come by WSC to discuss\, explore ChatGPT and other recent AI systems continuing to make headlines.
URL:https://wayneseniorcenter.org/event/tech-discussion-ai-other-advancements-in-center/
CATEGORIES:Life Enrichment
ATTACH;FMTTYPE=image/png:https://wayneseniorcenter.org/wp-content/uploads/2023/12/0109-AI-Discussion.png
END:VEVENT
BEGIN:VEVENT
DTSTART;TZID=UTC:20240109T110000
DTEND;TZID=UTC:20240109T120000
DTSTAMP:20260421T133921
CREATED:20231218T204321Z
LAST-MODIFIED:20231218T204321Z
UID:12896-1704798000-1704801600@wayneseniorcenter.org
SUMMARY:Sit\, Move\, Stretch (In Center and Virtual)
DESCRIPTION:This class offers seated or standing: cardio movement\, strengthening\, deep breathing\, and stretching. In-Person fees – free for WSC members\, $3 for non-members.
URL:https://wayneseniorcenter.org/event/sit-move-stretch-in-center-and-virtual-12/
CATEGORIES:Fitness
END:VEVENT
BEGIN:VEVENT
DTSTART;TZID=UTC:20240109T120000
DTEND;TZID=UTC:20240109T130000
DTSTAMP:20260421T133921
CREATED:20231218T204306Z
LAST-MODIFIED:20231218T204306Z
UID:12894-1704801600-1704805200@wayneseniorcenter.org
SUMMARY:Let's Do Lunch! - Cozy Comforts (In Center)
DESCRIPTION:Let’s do lunch together in the Center! It’s cold outside so let’s make sure your lunch is nice and warm. Vegetarian versions of your cold weather favorites! Desserts this month will be vegan and powered by tofu. The menu will change weekly. Quantity of meals are limited so make sure to reserve your spot! $5 for members\, $8 for non-members. Call for more information and to reserve a meal – (610)688-6246
URL:https://wayneseniorcenter.org/event/lets-do-lunch-cozy-comforts-in-center/
CATEGORIES:Social
END:VEVENT
BEGIN:VEVENT
DTSTART;TZID=UTC:20240109T123000
DTEND;TZID=UTC:20240109T130000
DTSTAMP:20260421T133921
CREATED:20231218T204321Z
LAST-MODIFIED:20231218T204321Z
UID:12895-1704803400-1704805200@wayneseniorcenter.org
SUMMARY:Mindfulness (In Center)
DESCRIPTION:Practicing mindfulness provides countless benefits to our overall well-being. Join instructor Liz for an hour of virtual mindfulness.
URL:https://wayneseniorcenter.org/event/mindfulness-in-center-6/
CATEGORIES:Health and Wellness
END:VEVENT
BEGIN:VEVENT
DTSTART;TZID=UTC:20240110T100000
DTEND;TZID=UTC:20240110T110000
DTSTAMP:20260421T133921
CREATED:20231218T204322Z
LAST-MODIFIED:20231218T204322Z
UID:12899-1704880800-1704884400@wayneseniorcenter.org
SUMMARY:Drums Alive (In Center)
DESCRIPTION:Join us for a fun\, rhythmic\, seated exercise class that gets you moving and grooving!
URL:https://wayneseniorcenter.org/event/drums-alive-in-center-11/
CATEGORIES:Fitness
END:VEVENT
BEGIN:VEVENT
DTSTART;TZID=UTC:20240110T100000
DTEND;TZID=UTC:20240110T110000
DTSTAMP:20260421T133921
CREATED:20231218T204336Z
LAST-MODIFIED:20231218T204336Z
UID:12900-1704880800-1704884400@wayneseniorcenter.org
SUMMARY:Strength and Cardio (Virtual)
DESCRIPTION:Move\, stretch\, and tone both seated and standing along with instructor Cathi from home. All abilities welcome!
URL:https://wayneseniorcenter.org/event/strength-and-cardio-virtual-14/
CATEGORIES:Fitness
END:VEVENT
BEGIN:VEVENT
DTSTART;TZID=UTC:20240110T110000
DTEND;TZID=UTC:20240110T120000
DTSTAMP:20260421T133921
CREATED:20231218T204336Z
LAST-MODIFIED:20231218T204336Z
UID:12901-1704884400-1704888000@wayneseniorcenter.org
SUMMARY:Tai Chi (In Center and Virtual)
DESCRIPTION:Tai Chi is a gentle form of exercise involving a series of graceful movements performed in a slow\, focused manner and accompanied by deep breathing. Excellent for strengthening balance and promoting stress reduction. In-Person fees – $5 for WSC members\, $10 for non-members.
URL:https://wayneseniorcenter.org/event/tai-chi-in-center-and-virtual-14/
CATEGORIES:Fitness
END:VEVENT
BEGIN:VEVENT
DTSTART;TZID=UTC:20240110T123000
DTEND;TZID=UTC:20240110T133000
DTSTAMP:20260421T133921
CREATED:20231218T204336Z
LAST-MODIFIED:20231218T204336Z
UID:12902-1704889800-1704893400@wayneseniorcenter.org
SUMMARY:Second Chance Holiday Cards (In Center)
DESCRIPTION:Join Barbara Van Clief (Barley) for a fun workshop to reuse and reimagine your beautiful holiday cards. Bring in any special cards you like to make gift tags\, ornaments\, new greeting cards\, and more.
URL:https://wayneseniorcenter.org/event/second-chance-holiday-cards-in-center/
CATEGORIES:Life Enrichment
END:VEVENT
BEGIN:VEVENT
DTSTART;TZID=UTC:20240110T123000
DTEND;TZID=UTC:20240110T133000
DTSTAMP:20260421T133921
CREATED:20231218T204336Z
LAST-MODIFIED:20231218T204336Z
UID:12903-1704889800-1704893400@wayneseniorcenter.org
SUMMARY:Meet our Fitness Trainer (In Center)
DESCRIPTION:Join our fitness trainer Bonnie as she provides a demo of our new exercise equipment\, answers fitness-related questions\, and find out how you can schedule one-on-one wellness sessions if you need additional assistance.
URL:https://wayneseniorcenter.org/event/meet-our-fitness-trainer-in-center/
CATEGORIES:Fitness
END:VEVENT
BEGIN:VEVENT
DTSTART;TZID=UTC:20240111T093000
DTEND;TZID=UTC:20240111T103000
DTSTAMP:20260421T133921
CREATED:20231218T204351Z
LAST-MODIFIED:20231218T204351Z
UID:12907-1704965400-1704969000@wayneseniorcenter.org
SUMMARY:Zumba Gold (In Center)
DESCRIPTION:Keep your body moving\, enjoy lively music\, and have fun dancing your cares away. $3 members / $6 non-members
URL:https://wayneseniorcenter.org/event/zumba-gold-in-center-13/
CATEGORIES:Fitness
END:VEVENT
BEGIN:VEVENT
DTSTART;TZID=UTC:20240111T101500
DTEND;TZID=UTC:20240111T110000
DTSTAMP:20260421T133921
CREATED:20231218T204351Z
LAST-MODIFIED:20231218T204351Z
UID:12908-1704968100-1704970800@wayneseniorcenter.org
SUMMARY:Beat the Winter Blahs (In Center)
DESCRIPTION:Come hear some tips on how to best manage the “let down” after holiday excitement combines with shorter and colder days. Join us for hot chocolate to warm our bodies and souls while we share together.
URL:https://wayneseniorcenter.org/event/beat-the-winter-blahs-in-center/
CATEGORIES:Life Enrichment
END:VEVENT
BEGIN:VEVENT
DTSTART;TZID=UTC:20240111T110000
DTEND;TZID=UTC:20240111T120000
DTSTAMP:20260421T133921
CREATED:20231218T204351Z
LAST-MODIFIED:20231218T204351Z
UID:12905-1704970800-1704974400@wayneseniorcenter.org
SUMMARY:Sit\, Move\, Stretch (In Center)
DESCRIPTION:Gentle Movement\, stretching\, and relaxation. Free for WSC members\, $3 for non-members. RSVP by calling the center – (610) 688-6246
URL:https://wayneseniorcenter.org/event/sit-move-stretch-in-center-13/
CATEGORIES:Fitness
END:VEVENT
BEGIN:VEVENT
DTSTART;TZID=UTC:20240111T120000
DTEND;TZID=UTC:20240111T130000
DTSTAMP:20260421T133921
CREATED:20231218T204351Z
LAST-MODIFIED:20231218T204351Z
UID:12906-1704974400-1704978000@wayneseniorcenter.org
SUMMARY:The Men's Group (In Center)
DESCRIPTION:From family stories\, thoughts on retirement\, to the news and a good joke\, come enjoy the company of other men! This men’s only meeting is an opportunity to chat about whatever is on your mind. You may enjoy the Center lunch or bring your own if you wish. Drinks and dessert will be provided.
URL:https://wayneseniorcenter.org/event/the-mens-group-in-center-3/
CATEGORIES:Social
END:VEVENT
BEGIN:VEVENT
DTSTART;TZID=UTC:20240111T130000
DTEND;TZID=UTC:20240111T150000
DTSTAMP:20260421T133921
CREATED:20231218T204336Z
LAST-MODIFIED:20231218T204336Z
UID:12904-1704978000-1704985200@wayneseniorcenter.org
SUMMARY:Cards and Games: Open Play (In Center)
DESCRIPTION:Join us for an afternoon playing games of your choice- Poker\, gin rummy\, pinochle\, mahjong etc. Meet a new friend and start a game of your own. Mahjong teachers/leaders feel free to bring your game set!
URL:https://wayneseniorcenter.org/event/cards-and-games-open-play-in-center-13/
CATEGORIES:Social
END:VEVENT
BEGIN:VEVENT
DTSTART;TZID=UTC:20240112T103000
DTEND;TZID=UTC:20240112T113000
DTSTAMP:20260421T133921
CREATED:20231218T204351Z
LAST-MODIFIED:20231218T204945Z
UID:12909-1705055400-1705059000@wayneseniorcenter.org
SUMMARY:Chair Yoga (In Center and Virtual)
DESCRIPTION:A well-rounded class that will help with balance\, strengthening\, and relaxation. Have a sturdy chair available. All abilities welcome. In-Person fees – $3 for WSC members\, $6 for non-members.
URL:https://wayneseniorcenter.org/event/chair-yoga-in-person-and-virtual-9/
CATEGORIES:Fitness
END:VEVENT
BEGIN:VEVENT
DTSTART;TZID=UTC:20240116T090000
DTEND;TZID=UTC:20240116T110000
DTSTAMP:20260421T133921
CREATED:20231218T204406Z
LAST-MODIFIED:20231218T204406Z
UID:12912-1705395600-1705402800@wayneseniorcenter.org
SUMMARY:Tech Tuesday (In Center)
DESCRIPTION:Tuesdays from 11am – 1pm stop in to chat Technology. Stop by between programs\, after grabbing some lunch\, or whenever is convenient for you. Bring specific questions about your device or come in to explore Wayne Senior Center iPads in a no-pressure environment. Or\, come by to share recent accomplishments or knowledge you’d like to share with others\, or just stop in to say hi and learn something new. Stop by during this time or email Francis at francis@wayneseniorcenter.org to make an appointment.
URL:https://wayneseniorcenter.org/event/tech-tuesday-in-center-13/
CATEGORIES:Life Enrichment
END:VEVENT
BEGIN:VEVENT
DTSTART;TZID=UTC:20240116T100000
DTEND;TZID=UTC:20240116T110000
DTSTAMP:20260421T133921
CREATED:20231218T204406Z
LAST-MODIFIED:20231218T204406Z
UID:12913-1705399200-1705402800@wayneseniorcenter.org
SUMMARY:Veteran's Presentation (In Center)
DESCRIPTION:Everything you need to know! Delaware County Office of Military and Veterans Affairs will discuss entitlements\, benefits\, and answer all your questions. Light refreshments will be provided.
URL:https://wayneseniorcenter.org/event/veterans-presentation-in-center/
CATEGORIES:Life Enrichment
END:VEVENT
END:VCALENDAR