BEGIN:VCALENDAR
VERSION:2.0
PRODID:-//Wayne Senior Center - ECPv6.15.20//NONSGML v1.0//EN
CALSCALE:GREGORIAN
METHOD:PUBLISH
X-WR-CALNAME:Wayne Senior Center
X-ORIGINAL-URL:https://wayneseniorcenter.org
X-WR-CALDESC:Events for Wayne Senior Center
REFRESH-INTERVAL;VALUE=DURATION:PT1H
X-Robots-Tag:noindex
X-PUBLISHED-TTL:PT1H
BEGIN:VTIMEZONE
TZID:UTC
BEGIN:STANDARD
TZOFFSETFROM:+0000
TZOFFSETTO:+0000
TZNAME:UTC
DTSTART:20240101T000000
END:STANDARD
END:VTIMEZONE
BEGIN:VEVENT
DTSTART;TZID=UTC:20250310T100000
DTEND;TZID=UTC:20250310T120000
DTSTAMP:20260421T151915
CREATED:20250227T182154Z
LAST-MODIFIED:20250227T182154Z
UID:14867-1741600800-1741608000@wayneseniorcenter.org
SUMMARY:Refresher Bridge
DESCRIPTION:Brush up on your bridge skills with Lawrie Stetson and Dave Heron. Must have previous bridge experience.
URL:https://wayneseniorcenter.org/event/refresher-bridge-20/
END:VEVENT
BEGIN:VEVENT
DTSTART;TZID=UTC:20250310T100000
DTEND;TZID=UTC:20250310T110000
DTSTAMP:20260421T151915
CREATED:20250227T182155Z
LAST-MODIFIED:20250227T182155Z
UID:14869-1741600800-1741604400@wayneseniorcenter.org
SUMMARY:Silver Sneakers Classic
DESCRIPTION:Focus on strengthening muscles and increasing range of motion using light weights\, stretch bands\, and exercise balls.
URL:https://wayneseniorcenter.org/event/silver-sneakers-classic-37/
END:VEVENT
BEGIN:VEVENT
DTSTART;TZID=UTC:20250307T103000
DTEND;TZID=UTC:20250307T113000
DTSTAMP:20260421T151915
CREATED:20250227T182141Z
LAST-MODIFIED:20250227T182141Z
UID:14865-1741343400-1741347000@wayneseniorcenter.org
SUMMARY:Chair Yoga
DESCRIPTION:A well-rounded class that will help with balance\, strengthening\, and relaxation. Have a sturdy chair available. All abilities welcome. In-Person fees – $3 for WSC members\, $6 for non-members.
URL:https://wayneseniorcenter.org/event/chair-yoga-21/
END:VEVENT
BEGIN:VEVENT
DTSTART;TZID=UTC:20250307T093000
DTEND;TZID=UTC:20250307T103000
DTSTAMP:20260421T151915
CREATED:20250227T182141Z
LAST-MODIFIED:20250227T182141Z
UID:14866-1741339800-1741343400@wayneseniorcenter.org
SUMMARY:Senior Circuit
DESCRIPTION:Join us for a dynamic strength-building\, full-body workout utilizing bands\, weights\, and balls as we cycle through various stations.
URL:https://wayneseniorcenter.org/event/senior-circuit-20/
END:VEVENT
BEGIN:VEVENT
DTSTART;TZID=UTC:20250306T130000
DTEND;TZID=UTC:20250306T150000
DTSTAMP:20260421T151915
CREATED:20250227T182126Z
LAST-MODIFIED:20250227T182126Z
UID:14860-1741266000-1741273200@wayneseniorcenter.org
SUMMARY:Cards and Games: Open Play
DESCRIPTION:Join us for an afternoon playing games of your choice- Poker\, gin rummy\, pinochle\, mahjong etc. Meet a new friend and start a game of your own. Mahjong teachers/leaders feel free to bring your game set!
URL:https://wayneseniorcenter.org/event/cards-and-games-open-play-21/
END:VEVENT
BEGIN:VEVENT
DTSTART;TZID=UTC:20250306T120000
DTEND;TZID=UTC:20250306T130000
DTSTAMP:20260421T151915
CREATED:20250227T182139Z
LAST-MODIFIED:20250227T182139Z
UID:14863-1741262400-1741266000@wayneseniorcenter.org
SUMMARY:Men's Group
DESCRIPTION:Catch up with friends over lunch and discuss topics related to men’s lives – hobbies\, family stories\, retirement\, career reflections\, mental & physical health\, or whatever else is on your mind. Stop in by 11:30am or call to reserve a Center lunch\, bring your own\, or just stop by to chat.
URL:https://wayneseniorcenter.org/event/mens-group-2/
END:VEVENT
BEGIN:VEVENT
DTSTART;TZID=UTC:20250306T110000
DTEND;TZID=UTC:20250306T130000
DTSTAMP:20260421T151915
CREATED:20250227T182127Z
LAST-MODIFIED:20250227T182127Z
UID:14861-1741258800-1741266000@wayneseniorcenter.org
SUMMARY:Septa Key Card Renewals
DESCRIPTION:Join us on the first Thursday of each month for Septa Key Cardapplications and renewals and other constituent services with a representative from Sen. AmandaCappelletti’s office. The representative is here 11:00AM to 1:00PM\, no need to RSVP.
URL:https://wayneseniorcenter.org/event/septa-key-card-renewals-6/
END:VEVENT
BEGIN:VEVENT
DTSTART;TZID=UTC:20250306T110000
DTEND;TZID=UTC:20250306T120000
DTSTAMP:20260421T151915
CREATED:20250227T182139Z
LAST-MODIFIED:20250227T182139Z
UID:14862-1741258800-1741262400@wayneseniorcenter.org
SUMMARY:Sit\, Move\, Stretch
DESCRIPTION:This class offers seated or standing: cardio movement\, strengthening\, deep breathing\, and stretching. In-Person fees – free for WSC members\, $3 for non-members.
URL:https://wayneseniorcenter.org/event/sit-move-stretch-39/
END:VEVENT
BEGIN:VEVENT
DTSTART;TZID=UTC:20250306T101500
DTEND;TZID=UTC:20250306T110000
DTSTAMP:20260421T151915
CREATED:20250227T182140Z
LAST-MODIFIED:20250227T182140Z
UID:14864-1741256100-1741258800@wayneseniorcenter.org
SUMMARY:Penny Ante Game
DESCRIPTION:Join in on this and engaging competition where you’ll discover others’ likes\, dislikes\, childhood memories\, and more! This lighthearted game is sure to bring smiles and help you connect with fellow members and staff.
URL:https://wayneseniorcenter.org/event/penny-ante-game/
END:VEVENT
BEGIN:VEVENT
DTSTART;TZID=UTC:20250305T123000
DTEND;TZID=UTC:20250305T133000
DTSTAMP:20260421T151915
CREATED:20250227T182125Z
LAST-MODIFIED:20250227T182125Z
UID:14858-1741177800-1741181400@wayneseniorcenter.org
SUMMARY:Silver Sneakers Classic
DESCRIPTION:Focus on strengthening muscles and increasing range of motion using light weights\, stretch bands\, and exercise balls.
URL:https://wayneseniorcenter.org/event/silver-sneakers-classic-36/
END:VEVENT
BEGIN:VEVENT
DTSTART;TZID=UTC:20250305T123000
DTEND;TZID=UTC:20250305T123000
DTSTAMP:20260421T151915
CREATED:20250227T182111Z
LAST-MODIFIED:20250227T182111Z
UID:14856-1741177800-1741177800@wayneseniorcenter.org
SUMMARY:Fooling with Ukes
DESCRIPTION:Dust off your ukes and join Barbara Van Clief (Barley) for a few practice sessions. Learn to play various popular songs with a group of individuals who share your passion for music!
URL:https://wayneseniorcenter.org/event/fooling-with-ukes-14/
END:VEVENT
BEGIN:VEVENT
DTSTART;TZID=UTC:20250305T111500
DTEND;TZID=UTC:20250305T120000
DTSTAMP:20260421T151915
CREATED:20250227T182125Z
LAST-MODIFIED:20250227T182125Z
UID:14859-1741173300-1741176000@wayneseniorcenter.org
SUMMARY:Soul Line Dancing
DESCRIPTION:Kenny James will get you moving and grooving in a fun\, easy to learn dance class. No experience necessary – all can join. $3 members / $6 non-members.
URL:https://wayneseniorcenter.org/event/soul-line-dancing-14/
END:VEVENT
BEGIN:VEVENT
DTSTART;TZID=UTC:20250305T100000
DTEND;TZID=UTC:20250305T110000
DTSTAMP:20260421T151915
CREATED:20250227T182124Z
LAST-MODIFIED:20250227T182124Z
UID:14857-1741168800-1741172400@wayneseniorcenter.org
SUMMARY:Mindfulness Virtual Reality
DESCRIPTION:Join Widener Occupational Therapy student Annie Huynh for a mindfulness program that utilizes virtual reality (VR) headsets. The program will run weekly for 6 weeks starting in February. Participants will be entered in a raffle to win a gift basket.
URL:https://wayneseniorcenter.org/event/mindfulness-virtual-reality-5/
END:VEVENT
BEGIN:VEVENT
DTSTART;TZID=UTC:20250304T123000
DTEND;TZID=UTC:20250304T133000
DTSTAMP:20260421T151915
CREATED:20250227T182105Z
LAST-MODIFIED:20250227T182105Z
UID:14851-1741091400-1741095000@wayneseniorcenter.org
SUMMARY:Mindfulness
DESCRIPTION:Practicing mindfulness provides countless benefits to our overall well-being. Join instructor Liz for an hour of virtual mindfulness.
URL:https://wayneseniorcenter.org/event/mindfulness-20/
END:VEVENT
BEGIN:VEVENT
DTSTART;TZID=UTC:20250304T110000
DTEND;TZID=UTC:20250304T120000
DTSTAMP:20260421T151915
CREATED:20250227T182108Z
LAST-MODIFIED:20250227T182108Z
UID:14852-1741086000-1741089600@wayneseniorcenter.org
SUMMARY:Sit\, Move\, Stretch
DESCRIPTION:This class offers seated or standing: cardio movement\, strengthening\, deep breathing\, and stretching. In-Person fees – free for WSC members\, $3 for non-members.
URL:https://wayneseniorcenter.org/event/sit-move-stretch-38/
END:VEVENT
BEGIN:VEVENT
DTSTART;TZID=UTC:20250304T101500
DTEND;TZID=UTC:20250304T110000
DTSTAMP:20260421T151915
CREATED:20250227T182110Z
LAST-MODIFIED:20250227T182110Z
UID:14855-1741083300-1741086000@wayneseniorcenter.org
SUMMARY:DIY Mardi Gras Snack
DESCRIPTION:Join us in celebrating Mardi Gras by making a vibrant Pineapple Black Bean Salsa! With the traditional Mardi Gras colors of purple\, gold\, and green\, this colorful salsa is the perfect balance of sweet and salty. It’s a festive and flavorful treat that will bring the party to your table.
URL:https://wayneseniorcenter.org/event/diy-mardi-gras-snack/
END:VEVENT
BEGIN:VEVENT
DTSTART;TZID=UTC:20250304T093000
DTEND;TZID=UTC:20250304T100000
DTSTAMP:20260421T151915
CREATED:20250227T182109Z
LAST-MODIFIED:20250227T182109Z
UID:14854-1741080600-1741082400@wayneseniorcenter.org
SUMMARY:Mardi Gras Trivia Tuesday
DESCRIPTION:Join Andrea for a fun and exciting challenge every Tuesday. Show off your smarts across a range of trivia categories and have a blast with friends!
URL:https://wayneseniorcenter.org/event/mardi-gras-trivia-tuesday/
END:VEVENT
BEGIN:VEVENT
DTSTART;TZID=UTC:20250304T090000
DTEND;TZID=UTC:20250304T110000
DTSTAMP:20260421T151915
CREATED:20250227T182109Z
LAST-MODIFIED:20250227T182109Z
UID:14853-1741078800-1741086000@wayneseniorcenter.org
SUMMARY:Tech Tuesday
DESCRIPTION:Stop by during this time with your tech questions or email Francis at francis@wayneseniorcenter.org to make an appointment. Some Tuesdays will feature a workshop on a certain topic starting at 10am.
URL:https://wayneseniorcenter.org/event/tech-tuesday-18/
END:VEVENT
BEGIN:VEVENT
DTSTART;TZID=UTC:20250303T110000
DTEND;TZID=UTC:20250303T120000
DTSTAMP:20260421T151915
CREATED:20250227T182104Z
LAST-MODIFIED:20250227T182104Z
UID:14849-1740999600-1741003200@wayneseniorcenter.org
SUMMARY:Soul Line Dancing
DESCRIPTION:Kenny James will get you moving and grooving in a fun\, easy to learn dance class. No experience necessary – all can join. $3 members / $6 non-members.
URL:https://wayneseniorcenter.org/event/soul-line-dancing-13/
END:VEVENT
BEGIN:VEVENT
DTSTART;TZID=UTC:20250303T100000
DTEND;TZID=UTC:20250303T120000
DTSTAMP:20260421T151915
CREATED:20250227T182105Z
LAST-MODIFIED:20250227T182105Z
UID:14850-1740996000-1741003200@wayneseniorcenter.org
SUMMARY:WSC Quilters
DESCRIPTION:WSC quiliting club. All skill levels Welcome. Come by or RSVP by calling the center – (610) 688-6246
URL:https://wayneseniorcenter.org/event/wsc-quilters-19/
END:VEVENT
BEGIN:VEVENT
DTSTART;TZID=UTC:20250303T100000
DTEND;TZID=UTC:20250303T120000
DTSTAMP:20260421T151915
CREATED:20250227T182050Z
LAST-MODIFIED:20250227T182050Z
UID:14847-1740996000-1741003200@wayneseniorcenter.org
SUMMARY:Refresher Bridge
DESCRIPTION:Brush up on your bridge skills with Lawrie Stetson and Dave Heron. Must have previous bridge experience.
URL:https://wayneseniorcenter.org/event/refresher-bridge-19/
END:VEVENT
BEGIN:VEVENT
DTSTART;TZID=UTC:20250303T100000
DTEND;TZID=UTC:20250303T110000
DTSTAMP:20260421T151915
CREATED:20250227T182103Z
LAST-MODIFIED:20250227T182103Z
UID:14848-1740996000-1740999600@wayneseniorcenter.org
SUMMARY:Silver Sneakers Classic
DESCRIPTION:Focus on strengthening muscles and increasing range of motion using light weights\, stretch bands\, and exercise balls.
URL:https://wayneseniorcenter.org/event/silver-sneakers-classic-35/
END:VEVENT
BEGIN:VEVENT
DTSTART;TZID=UTC:20250228T103000
DTEND;TZID=UTC:20250228T113000
DTSTAMP:20260421T151915
CREATED:20250124T153748Z
LAST-MODIFIED:20250124T153748Z
UID:14751-1740738600-1740742200@wayneseniorcenter.org
SUMMARY:Chair Yoga
DESCRIPTION:A well-rounded class that will help with balance\, strengthening\, and relaxation. Have a sturdy chair available. All abilities welcome. In-Person fees – $3 for WSC members\, $6 for non-members.
URL:https://wayneseniorcenter.org/event/chair-yoga-20/
END:VEVENT
BEGIN:VEVENT
DTSTART;TZID=UTC:20250228T093000
DTEND;TZID=UTC:20250228T103000
DTSTAMP:20260421T151915
CREATED:20250124T153918Z
LAST-MODIFIED:20250124T153918Z
UID:14781-1740735000-1740738600@wayneseniorcenter.org
SUMMARY:Senior Circuit
DESCRIPTION:Join us for a dynamic strength-building\, full-body workout utilizing bands\, weights\, and balls as we cycle through various stations.
URL:https://wayneseniorcenter.org/event/senior-circuit-19/
END:VEVENT
BEGIN:VEVENT
DTSTART;TZID=UTC:20250227T130000
DTEND;TZID=UTC:20250227T150000
DTSTAMP:20260421T151915
CREATED:20250124T153734Z
LAST-MODIFIED:20250124T153734Z
UID:14747-1740661200-1740668400@wayneseniorcenter.org
SUMMARY:Cards and Games: Open Play
DESCRIPTION:Join us for an afternoon playing games of your choice- Poker\, gin rummy\, pinochle\, mahjong etc. Meet a new friend and start a game of your own. Mahjong teachers/leaders feel free to bring your game set!
URL:https://wayneseniorcenter.org/event/cards-and-games-open-play-20/
END:VEVENT
BEGIN:VEVENT
DTSTART;TZID=UTC:20250227T121500
DTEND;TZID=UTC:20250227T130000
DTSTAMP:20260421T151915
CREATED:20250124T153804Z
LAST-MODIFIED:20250124T153804Z
UID:14757-1740658500-1740661200@wayneseniorcenter.org
SUMMARY:February Birthday Lunch & Family Feud with Kenny
DESCRIPTION:Join us to celebrate members who have a birthday in February! We will also play Family Feud hosted by Kenny James!
URL:https://wayneseniorcenter.org/event/february-birthday-lunch-family-feud-with-kenny/
END:VEVENT
BEGIN:VEVENT
DTSTART;TZID=UTC:20250227T110000
DTEND;TZID=UTC:20250227T120000
DTSTAMP:20260421T151915
CREATED:20250124T154005Z
LAST-MODIFIED:20250124T154005Z
UID:14797-1740654000-1740657600@wayneseniorcenter.org
SUMMARY:Sit\, Move\, Stretch
DESCRIPTION:This class offers seated or standing: cardio movement\, strengthening\, deep breathing\, and stretching. In-Person fees – free for WSC members\, $3 for non-members.
URL:https://wayneseniorcenter.org/event/sit-move-stretch-37/
END:VEVENT
BEGIN:VEVENT
DTSTART;TZID=UTC:20250227T103000
DTEND;TZID=UTC:20250227T110000
DTSTAMP:20260421T151915
CREATED:20250124T153803Z
LAST-MODIFIED:20250124T153803Z
UID:14756-1740652200-1740654000@wayneseniorcenter.org
SUMMARY:Drumming Circle
DESCRIPTION:Generate positive energy with Negar Jahanbin in a relaxing and tension reducing drum circle.
URL:https://wayneseniorcenter.org/event/drumming-circle/
END:VEVENT
BEGIN:VEVENT
DTSTART;TZID=UTC:20250227T090000
DTEND;TZID=UTC:20250227T110000
DTSTAMP:20260421T151915
CREATED:20250124T153726Z
LAST-MODIFIED:20250124T153726Z
UID:14740-1740646800-1740654000@wayneseniorcenter.org
SUMMARY:Blood Pressure Screenings
DESCRIPTION:Are you trying to keep track of your blood pressure readings? Have questions about a medication or just need a listening ear? Stop by and speak 1:1 with a nurse.
URL:https://wayneseniorcenter.org/event/blood-pressure-screenings-10/
END:VEVENT
BEGIN:VEVENT
DTSTART;TZID=UTC:20250226T123000
DTEND;TZID=UTC:20250226T133000
DTSTAMP:20260421T151915
CREATED:20250124T153947Z
LAST-MODIFIED:20250124T153947Z
UID:14789-1740573000-1740576600@wayneseniorcenter.org
SUMMARY:Silver Sneakers Classic
DESCRIPTION:Focus on strengthening muscles and increasing range of motion using light weights\, stretch bands\, and exercise balls.
URL:https://wayneseniorcenter.org/event/silver-sneakers-classic-34/
END:VEVENT
END:VCALENDAR