BEGIN:VCALENDAR
VERSION:2.0
PRODID:-//Wayne Senior Center - ECPv6.15.20//NONSGML v1.0//EN
CALSCALE:GREGORIAN
METHOD:PUBLISH
X-WR-CALNAME:Wayne Senior Center
X-ORIGINAL-URL:https://wayneseniorcenter.org
X-WR-CALDESC:Events for Wayne Senior Center
REFRESH-INTERVAL;VALUE=DURATION:PT1H
X-Robots-Tag:noindex
X-PUBLISHED-TTL:PT1H
BEGIN:VTIMEZONE
TZID:UTC
BEGIN:STANDARD
TZOFFSETFROM:+0000
TZOFFSETTO:+0000
TZNAME:UTC
DTSTART:20250101T000000
END:STANDARD
END:VTIMEZONE
BEGIN:VEVENT
DTSTART;TZID=UTC:20260113T110000
DTEND;TZID=UTC:20260113T120000
DTSTAMP:20260424T080511
CREATED:20251217T200519Z
LAST-MODIFIED:20251217T200519Z
UID:16339-1768302000-1768305600@wayneseniorcenter.org
SUMMARY:Sit\, Move\, Stretch
DESCRIPTION:This class offers seated or standing: cardio movement\, strengthening\, deep breathing\, and stretching. In-Person fees – free for WSC members\, $3 for non-members.
URL:https://wayneseniorcenter.org/event/sit-move-stretch-118/
END:VEVENT
BEGIN:VEVENT
DTSTART;TZID=UTC:20260113T121500
DTEND;TZID=UTC:20260113T130000
DTSTAMP:20260424T080511
CREATED:20251217T200531Z
LAST-MODIFIED:20251217T200531Z
UID:16341-1768306500-1768309200@wayneseniorcenter.org
SUMMARY:Gameshow with Kenny James
DESCRIPTION:Join us for gameshow-style entertainment hosted by Kenny James.
URL:https://wayneseniorcenter.org/event/gameshow-with-kenny-james/
END:VEVENT
BEGIN:VEVENT
DTSTART;TZID=UTC:20260113T123000
DTEND;TZID=UTC:20260113T133000
DTSTAMP:20260424T080511
CREATED:20251217T200518Z
LAST-MODIFIED:20251217T200518Z
UID:16338-1768307400-1768311000@wayneseniorcenter.org
SUMMARY:Mindfulness
DESCRIPTION:Practicing mindfulness provides countless benefits to our overall well-being. Join instructor Liz for an hour of virtual mindfulness.
URL:https://wayneseniorcenter.org/event/mindfulness-61/
END:VEVENT
BEGIN:VEVENT
DTSTART;TZID=UTC:20260113T140000
DTEND;TZID=UTC:20260113T150000
DTSTAMP:20260424T080511
CREATED:20251217T200518Z
LAST-MODIFIED:20251217T200518Z
UID:16337-1768312800-1768316400@wayneseniorcenter.org
SUMMARY:Memoir Writing (Virtual)
DESCRIPTION:Join Sara Wenger\, MFA for a memoir writing workshop. Sara will share memoir excerpts as well as writing exercises to help you write your unique life experiences so they can be passed on to children\, grandchildren\, friends and others. No prior writing experience is necessary! The class is appropriate for both novice and seasoned writers
URL:https://wayneseniorcenter.org/event/memoir-writing-virtual-27/
END:VEVENT
BEGIN:VEVENT
DTSTART;TZID=UTC:20260114T103000
DTEND;TZID=UTC:20260114T110000
DTSTAMP:20260424T080511
CREATED:20251217T200534Z
LAST-MODIFIED:20251217T200534Z
UID:16344-1768386600-1768388400@wayneseniorcenter.org
SUMMARY:Large Jenga
DESCRIPTION:Join us for a fun game of large jenga!
URL:https://wayneseniorcenter.org/event/large-jenga-3/
END:VEVENT
BEGIN:VEVENT
DTSTART;TZID=UTC:20260114T111500
DTEND;TZID=UTC:20260114T120000
DTSTAMP:20260424T080511
CREATED:20251217T200547Z
LAST-MODIFIED:20251217T200547Z
UID:16346-1768389300-1768392000@wayneseniorcenter.org
SUMMARY:Soul Line Dancing
DESCRIPTION:Kenny James will get you moving and grooving in a fun\, easy to learn dance class. No experience necessary – all can join. $3 members / $6 non-members.
URL:https://wayneseniorcenter.org/event/soul-line-dancing-99/
END:VEVENT
BEGIN:VEVENT
DTSTART;TZID=UTC:20260114T123000
DTEND;TZID=UTC:20260114T133000
DTSTAMP:20260424T080511
CREATED:20251217T200533Z
LAST-MODIFIED:20251217T200533Z
UID:16343-1768393800-1768397400@wayneseniorcenter.org
SUMMARY:Fooling with Ukes
DESCRIPTION:Dust off your ukes and join Barbara Van Clief (Barley) for a few practice sessions. Learn to play various popular songs with a group of individuals who share your passion for music!
URL:https://wayneseniorcenter.org/event/fooling-with-ukes-48/
END:VEVENT
BEGIN:VEVENT
DTSTART;TZID=UTC:20260114T123000
DTEND;TZID=UTC:20260114T133000
DTSTAMP:20260424T080511
CREATED:20251217T200545Z
LAST-MODIFIED:20251217T200545Z
UID:16345-1768393800-1768397400@wayneseniorcenter.org
SUMMARY:Silver Sneakers Classic
DESCRIPTION:Focus on strengthening muscles and increasing range of motion using light weights\, stretch bands\, and exercise balls.
URL:https://wayneseniorcenter.org/event/silver-sneakers-classic-120/
END:VEVENT
BEGIN:VEVENT
DTSTART;TZID=UTC:20260114T140000
DTEND;TZID=UTC:20260114T140000
DTSTAMP:20260424T080511
CREATED:20251217T200548Z
LAST-MODIFIED:20251217T200548Z
UID:16347-1768399200-1768399200@wayneseniorcenter.org
SUMMARY:Tai Chi
DESCRIPTION:Tai Chi is a gentle form of exercise involving a series of graceful movements performed in a slow\, focused manner and accompanied by deep breathing. Excellent for strengthening balance and promoting stress reduction. In-Person fees – $5 for WSC members\, $10 for non-members.
URL:https://wayneseniorcenter.org/event/tai-chi-72/
END:VEVENT
BEGIN:VEVENT
DTSTART;TZID=UTC:20260115T090000
DTEND;TZID=UTC:20260115T110000
DTSTAMP:20260424T080511
CREATED:20251217T200549Z
LAST-MODIFIED:20251217T200549Z
UID:16348-1768467600-1768474800@wayneseniorcenter.org
SUMMARY:Blood Pressure Screenings
DESCRIPTION:Are you trying to keep track of your blood pressure readings? Have questions about a medication or just need a listening ear? Stop by and speak 1:1 with a nurse.
URL:https://wayneseniorcenter.org/event/blood-pressure-screenings-30/
END:VEVENT
BEGIN:VEVENT
DTSTART;TZID=UTC:20260115T100000
DTEND;TZID=UTC:20260115T110000
DTSTAMP:20260424T080511
CREATED:20251217T200602Z
LAST-MODIFIED:20251217T200602Z
UID:16351-1768471200-1768474800@wayneseniorcenter.org
SUMMARY:Winter Wellness Workshop 2: Hygge Ceramic Mug Painting
DESCRIPTION:Create your own cozy ceramic mug inspired by hygge living. Enjoy a relaxing\, hands-on activity and take home a warm reminder of winter comfort. Cost is $5. Please call or visit the Center to sign up!
URL:https://wayneseniorcenter.org/event/winter-wellness-workshop-2-hygge-ceramic-mug-painting/
END:VEVENT
BEGIN:VEVENT
DTSTART;TZID=UTC:20260115T110000
DTEND;TZID=UTC:20260115T120000
DTSTAMP:20260424T080511
CREATED:20251217T200601Z
LAST-MODIFIED:20251217T200601Z
UID:16350-1768474800-1768478400@wayneseniorcenter.org
SUMMARY:Sit\, Move\, Stretch
DESCRIPTION:This class offers seated or standing: cardio movement\, strengthening\, deep breathing\, and stretching. In-Person fees – free for WSC members\, $3 for non-members.
URL:https://wayneseniorcenter.org/event/sit-move-stretch-119/
END:VEVENT
BEGIN:VEVENT
DTSTART;TZID=UTC:20260115T123000
DTEND;TZID=UTC:20260115T133000
DTSTAMP:20260424T080511
CREATED:20251217T200603Z
LAST-MODIFIED:20251217T203852Z
UID:16352-1768480200-1768483800@wayneseniorcenter.org
SUMMARY:Where Are All My Passwords?
DESCRIPTION:Should I use a password manager? Is it safe to write my passwords in a notebook? What is a passkey? 2-factor authentication? Let’s talk passwords and see if we can start to get them all straightened out this new year!
URL:https://wayneseniorcenter.org/event/where-are-all-my-passwords/
ATTACH;FMTTYPE=image/png:https://wayneseniorcenter.org/wp-content/uploads/2025/12/0115-Passwords.png
END:VEVENT
BEGIN:VEVENT
DTSTART;TZID=UTC:20260115T123000
DTEND;TZID=UTC:20260115T140000
DTSTAMP:20260424T080511
CREATED:20251217T200550Z
LAST-MODIFIED:20251217T200550Z
UID:16349-1768480200-1768485600@wayneseniorcenter.org
SUMMARY:Cards and Games: Open Play
DESCRIPTION:Join us for an afternoon playing games of your choice- Poker\, gin rummy\, pinochle\, mahjong etc. Meet a new friend and start a game of your own. Mahjong teachers/leaders feel free to bring your game set!
URL:https://wayneseniorcenter.org/event/cards-and-games-open-play-63/
END:VEVENT
BEGIN:VEVENT
DTSTART;TZID=UTC:20260116T093000
DTEND;TZID=UTC:20260116T103000
DTSTAMP:20260424T080511
CREATED:20251217T200605Z
LAST-MODIFIED:20251217T200605Z
UID:16354-1768555800-1768559400@wayneseniorcenter.org
SUMMARY:Senior Circuit
DESCRIPTION:Join us for a dynamic strength-building\, full-body workout utilizing bands\, weights\, and balls as we cycle through various stations.
URL:https://wayneseniorcenter.org/event/senior-circuit-60/
END:VEVENT
BEGIN:VEVENT
DTSTART;TZID=UTC:20260116T103000
DTEND;TZID=UTC:20260116T113000
DTSTAMP:20260424T080511
CREATED:20251217T200604Z
LAST-MODIFIED:20251217T200604Z
UID:16353-1768559400-1768563000@wayneseniorcenter.org
SUMMARY:Chair Yoga
DESCRIPTION:A well-rounded class that will help with balance\, strengthening\, and relaxation. Have a sturdy chair available. All abilities welcome. In-Person fees – $3 for WSC members\, $6 for non-members.
URL:https://wayneseniorcenter.org/event/chair-yoga-62/
END:VEVENT
BEGIN:VEVENT
DTSTART;TZID=UTC:20260120T090000
DTEND;TZID=UTC:20260120T110000
DTSTAMP:20260424T080511
CREATED:20251217T200618Z
LAST-MODIFIED:20251217T200618Z
UID:16357-1768899600-1768906800@wayneseniorcenter.org
SUMMARY:Tech Tuesday
DESCRIPTION:Stop by during this time with your tech questions or email Francis at francis@wayneseniorcenter.org to make an appointment. Some Tuesdays will feature a workshop on a certain topic starting at 10am.
URL:https://wayneseniorcenter.org/event/tech-tuesday-46/
END:VEVENT
BEGIN:VEVENT
DTSTART;TZID=UTC:20260120T100000
DTEND;TZID=UTC:20260120T110000
DTSTAMP:20260424T080511
CREATED:20251217T200619Z
LAST-MODIFIED:20251217T200619Z
UID:16358-1768903200-1768906800@wayneseniorcenter.org
SUMMARY:Winter Wellness Workshop 3: Winter Brain Boost
DESCRIPTION:We’ll explore simple tips and engaging activities designed to keep your mind sharp during the winter months. Enjoy fun brain games while learning ways to support cognitive wellness.
URL:https://wayneseniorcenter.org/event/winter-wellness-workshop-3-winter-brain-boost/
END:VEVENT
BEGIN:VEVENT
DTSTART;TZID=UTC:20260120T110000
DTEND;TZID=UTC:20260120T120000
DTSTAMP:20260424T080511
CREATED:20251217T200617Z
LAST-MODIFIED:20251217T200617Z
UID:16356-1768906800-1768910400@wayneseniorcenter.org
SUMMARY:Sit\, Move\, Stretch
DESCRIPTION:This class offers seated or standing: cardio movement\, strengthening\, deep breathing\, and stretching. In-Person fees – free for WSC members\, $3 for non-members.
URL:https://wayneseniorcenter.org/event/sit-move-stretch-120/
END:VEVENT
BEGIN:VEVENT
DTSTART;TZID=UTC:20260120T120000
DTEND;TZID=UTC:20260120T140000
DTSTAMP:20260424T080511
CREATED:20251217T200619Z
LAST-MODIFIED:20251217T203806Z
UID:16359-1768910400-1768917600@wayneseniorcenter.org
SUMMARY:Pizza and a Movie: Playdate
DESCRIPTION:Join us for pizza and a movie! We’ll be watching the movie Playdate. A chance encounter with a stay-at-home dad lands a man in hot water as they find themselves pursued by a team of ruthless mercenaries. $5 per person.
URL:https://wayneseniorcenter.org/event/pizza-and-a-movie-playdate/
ATTACH;FMTTYPE=image/png:https://wayneseniorcenter.org/wp-content/uploads/2025/12/0120-Pizza-A-Movie.png
END:VEVENT
BEGIN:VEVENT
DTSTART;TZID=UTC:20260120T123000
DTEND;TZID=UTC:20260120T133000
DTSTAMP:20260424T080511
CREATED:20251217T200616Z
LAST-MODIFIED:20251217T200616Z
UID:16355-1768912200-1768915800@wayneseniorcenter.org
SUMMARY:Mindfulness
DESCRIPTION:Practicing mindfulness provides countless benefits to our overall well-being. Join instructor Liz for an hour of virtual mindfulness.
URL:https://wayneseniorcenter.org/event/mindfulness-62/
END:VEVENT
BEGIN:VEVENT
DTSTART;TZID=UTC:20260121T100000
DTEND;TZID=UTC:20260121T110000
DTSTAMP:20260424T080511
CREATED:20251217T200646Z
LAST-MODIFIED:20251217T203730Z
UID:16365-1768989600-1768993200@wayneseniorcenter.org
SUMMARY:Tech Talk: Cutting the Cable
DESCRIPTION:Let’s talk about TV. There are so many subscription services for tv\, movies\, sports programs\, etc. How do we keep track of all of our favorite programs? Should we ‘cut the cable’? Stop in for a discussion on cable tv\, video subscription services\, and more.
URL:https://wayneseniorcenter.org/event/tech-talk-cutting-the-cable-2/
ATTACH;FMTTYPE=image/png:https://wayneseniorcenter.org/wp-content/uploads/2025/12/0121-Cutting-The-Cable.png
END:VEVENT
BEGIN:VEVENT
DTSTART;TZID=UTC:20260121T110000
DTEND;TZID=UTC:20260121T120000
DTSTAMP:20260424T080511
CREATED:20251217T200632Z
LAST-MODIFIED:20251217T200632Z
UID:16361-1768993200-1768996800@wayneseniorcenter.org
SUMMARY:Pageturner's Bookclub
DESCRIPTION:Enjoy lively book conversation with a Radnor Memorial Library librarian. All are welcome! We’ll be discussing “All the Beauty in the World” by Patrick Bringley. A fascinating\, revelatory portrait of the Metropolitan Museum of Art and its treasures by a former New Yorker staffer who spent a decade as a museum guard.
URL:https://wayneseniorcenter.org/event/pageturners-bookclub-16/
END:VEVENT
BEGIN:VEVENT
DTSTART;TZID=UTC:20260121T111500
DTEND;TZID=UTC:20260121T120000
DTSTAMP:20260424T080511
CREATED:20251217T200633Z
LAST-MODIFIED:20251217T200633Z
UID:16363-1768994100-1768996800@wayneseniorcenter.org
SUMMARY:Soul Line Dancing
DESCRIPTION:Kenny James will get you moving and grooving in a fun\, easy to learn dance class. No experience necessary – all can join. $3 members / $6 non-members.
URL:https://wayneseniorcenter.org/event/soul-line-dancing-100/
END:VEVENT
BEGIN:VEVENT
DTSTART;TZID=UTC:20260121T123000
DTEND;TZID=UTC:20260121T133000
DTSTAMP:20260424T080511
CREATED:20251217T200631Z
LAST-MODIFIED:20251217T200631Z
UID:16360-1768998600-1769002200@wayneseniorcenter.org
SUMMARY:Fooling with Ukes
DESCRIPTION:Dust off your ukes and join Barbara Van Clief (Barley) for a few practice sessions. Learn to play various popular songs with a group of individuals who share your passion for music!
URL:https://wayneseniorcenter.org/event/fooling-with-ukes-49/
END:VEVENT
BEGIN:VEVENT
DTSTART;TZID=UTC:20260121T123000
DTEND;TZID=UTC:20260121T133000
DTSTAMP:20260424T080511
CREATED:20251217T200632Z
LAST-MODIFIED:20251217T200632Z
UID:16362-1768998600-1769002200@wayneseniorcenter.org
SUMMARY:Silver Sneakers Classic
DESCRIPTION:Focus on strengthening muscles and increasing range of motion using light weights\, stretch bands\, and exercise balls.
URL:https://wayneseniorcenter.org/event/silver-sneakers-classic-121/
END:VEVENT
BEGIN:VEVENT
DTSTART;TZID=UTC:20260121T140000
DTEND;TZID=UTC:20260121T140000
DTSTAMP:20260424T080511
CREATED:20251217T200634Z
LAST-MODIFIED:20251217T200634Z
UID:16364-1769004000-1769004000@wayneseniorcenter.org
SUMMARY:Tai Chi
DESCRIPTION:Tai Chi is a gentle form of exercise involving a series of graceful movements performed in a slow\, focused manner and accompanied by deep breathing. Excellent for strengthening balance and promoting stress reduction. In-Person fees – $5 for WSC members\, $10 for non-members.
URL:https://wayneseniorcenter.org/event/tai-chi-73/
END:VEVENT
BEGIN:VEVENT
DTSTART;TZID=UTC:20260122T100000
DTEND;TZID=UTC:20260122T110000
DTSTAMP:20260424T080511
CREATED:20251217T200649Z
LAST-MODIFIED:20251217T200649Z
UID:16369-1769076000-1769079600@wayneseniorcenter.org
SUMMARY:Winter Wellness Workshop 4: Free Hearing Screenings
DESCRIPTION:HearingLife will be on-site offering FREE hearing screenings. Take a quick\, confidential check to support your overall wellness this winter. Call or visit the Center to sign-up for a screening.
URL:https://wayneseniorcenter.org/event/winter-wellness-workshop-4-free-hearing-screenings/
END:VEVENT
BEGIN:VEVENT
DTSTART;TZID=UTC:20260122T110000
DTEND;TZID=UTC:20260122T120000
DTSTAMP:20260424T080511
CREATED:20251217T200648Z
LAST-MODIFIED:20251217T200648Z
UID:16368-1769079600-1769083200@wayneseniorcenter.org
SUMMARY:Sit\, Move\, Stretch
DESCRIPTION:This class offers seated or standing: cardio movement\, strengthening\, deep breathing\, and stretching. In-Person fees – free for WSC members\, $3 for non-members.
URL:https://wayneseniorcenter.org/event/sit-move-stretch-121/
END:VEVENT
BEGIN:VEVENT
DTSTART;TZID=UTC:20260122T120000
DTEND;TZID=UTC:20260122T130000
DTSTAMP:20260424T080511
CREATED:20251217T200648Z
LAST-MODIFIED:20251217T200648Z
UID:16367-1769083200-1769086800@wayneseniorcenter.org
SUMMARY:Men's Group
DESCRIPTION:Catch up with friends over lunch and discuss topics related to men’s lives – hobbies\, family stories\, retirement\, career reflections\, mental & physical health\, or whatever else is on your mind. Call to reserve a Center lunch\, bring your own\, or just stop by to chat.
URL:https://wayneseniorcenter.org/event/mens-group-12/
END:VEVENT
END:VCALENDAR