BEGIN:VCALENDAR
VERSION:2.0
PRODID:-//Wayne Senior Center - ECPv6.15.20//NONSGML v1.0//EN
CALSCALE:GREGORIAN
METHOD:PUBLISH
X-WR-CALNAME:Wayne Senior Center
X-ORIGINAL-URL:https://wayneseniorcenter.org
X-WR-CALDESC:Events for Wayne Senior Center
REFRESH-INTERVAL;VALUE=DURATION:PT1H
X-Robots-Tag:noindex
X-PUBLISHED-TTL:PT1H
BEGIN:VTIMEZONE
TZID:UTC
BEGIN:STANDARD
TZOFFSETFROM:+0000
TZOFFSETTO:+0000
TZNAME:UTC
DTSTART:20250101T000000
END:STANDARD
END:VTIMEZONE
BEGIN:VEVENT
DTSTART;TZID=UTC:20260128T123000
DTEND;TZID=UTC:20260128T133000
DTSTAMP:20260424T074739
CREATED:20251217T200734Z
LAST-MODIFIED:20251217T200734Z
UID:16384-1769603400-1769607000@wayneseniorcenter.org
SUMMARY:Silver Sneakers Classic
DESCRIPTION:Focus on strengthening muscles and increasing range of motion using light weights\, stretch bands\, and exercise balls.
URL:https://wayneseniorcenter.org/event/silver-sneakers-classic-123/
END:VEVENT
BEGIN:VEVENT
DTSTART;TZID=UTC:20260128T140000
DTEND;TZID=UTC:20260128T140000
DTSTAMP:20260424T074739
CREATED:20251217T200747Z
LAST-MODIFIED:20251217T200747Z
UID:16386-1769608800-1769608800@wayneseniorcenter.org
SUMMARY:Tai Chi
DESCRIPTION:Tai Chi is a gentle form of exercise involving a series of graceful movements performed in a slow\, focused manner and accompanied by deep breathing. Excellent for strengthening balance and promoting stress reduction. In-Person fees – $5 for WSC members\, $10 for non-members.
URL:https://wayneseniorcenter.org/event/tai-chi-74/
END:VEVENT
BEGIN:VEVENT
DTSTART;TZID=UTC:20260129T100000
DTEND;TZID=UTC:20260129T110000
DTSTAMP:20260424T074739
CREATED:20251217T200800Z
LAST-MODIFIED:20251217T200800Z
UID:16390-1769680800-1769684400@wayneseniorcenter.org
SUMMARY:Winter Wellness Workshop 6: DIY Aromatherapy Room Spray
DESCRIPTION:Learn about the benefits of essential oils and create your own all-natural aromatherapy room spray to take home. Cost is $3. Call or visit the Center to sign-up!
URL:https://wayneseniorcenter.org/event/winter-wellness-workshop-6-diy-aromatherapy-room-spray/
END:VEVENT
BEGIN:VEVENT
DTSTART;TZID=UTC:20260129T110000
DTEND;TZID=UTC:20260129T120000
DTSTAMP:20260424T074739
CREATED:20251217T200750Z
LAST-MODIFIED:20251217T200750Z
UID:16389-1769684400-1769688000@wayneseniorcenter.org
SUMMARY:Sit\, Move\, Stretch
DESCRIPTION:This class offers seated or standing: cardio movement\, strengthening\, deep breathing\, and stretching. In-Person fees – free for WSC members\, $3 for non-members.
URL:https://wayneseniorcenter.org/event/sit-move-stretch-123/
END:VEVENT
BEGIN:VEVENT
DTSTART;TZID=UTC:20260129T123000
DTEND;TZID=UTC:20260129T140000
DTSTAMP:20260424T074739
CREATED:20251217T200749Z
LAST-MODIFIED:20251217T200749Z
UID:16388-1769689800-1769695200@wayneseniorcenter.org
SUMMARY:Cards and Games: Open Play
DESCRIPTION:Join us for an afternoon playing games of your choice- Poker\, gin rummy\, pinochle\, mahjong etc. Meet a new friend and start a game of your own. Mahjong teachers/leaders feel free to bring your game set!
URL:https://wayneseniorcenter.org/event/cards-and-games-open-play-65/
END:VEVENT
BEGIN:VEVENT
DTSTART;TZID=UTC:20260130T093000
DTEND;TZID=UTC:20260130T103000
DTSTAMP:20260424T074739
CREATED:20251217T200802Z
LAST-MODIFIED:20251217T200802Z
UID:16392-1769765400-1769769000@wayneseniorcenter.org
SUMMARY:Senior Circuit
DESCRIPTION:Join us for a dynamic strength-building\, full-body workout utilizing bands\, weights\, and balls as we cycle through various stations.
URL:https://wayneseniorcenter.org/event/senior-circuit-62/
END:VEVENT
BEGIN:VEVENT
DTSTART;TZID=UTC:20260130T103000
DTEND;TZID=UTC:20260130T113000
DTSTAMP:20260424T074739
CREATED:20251217T200801Z
LAST-MODIFIED:20251217T200801Z
UID:16391-1769769000-1769772600@wayneseniorcenter.org
SUMMARY:Chair Yoga
DESCRIPTION:A well-rounded class that will help with balance\, strengthening\, and relaxation. Have a sturdy chair available. All abilities welcome. In-Person fees – $3 for WSC members\, $6 for non-members.
URL:https://wayneseniorcenter.org/event/chair-yoga-64/
END:VEVENT
BEGIN:VEVENT
DTSTART;TZID=UTC:20260202T100000
DTEND;TZID=UTC:20260202T110000
DTSTAMP:20260424T074739
CREATED:20260123T220456Z
LAST-MODIFIED:20260123T220456Z
UID:16424-1770026400-1770030000@wayneseniorcenter.org
SUMMARY:Silver Sneakers Classic
DESCRIPTION:Focus on strengthening muscles and increasing range of motion using light weights\, stretch bands\, and exercise balls.
URL:https://wayneseniorcenter.org/event/silver-sneakers-classic-124/
END:VEVENT
BEGIN:VEVENT
DTSTART;TZID=UTC:20260202T100000
DTEND;TZID=UTC:20260202T120000
DTSTAMP:20260424T074739
CREATED:20260123T220454Z
LAST-MODIFIED:20260123T220454Z
UID:16423-1770026400-1770033600@wayneseniorcenter.org
SUMMARY:Refresher Bridge
DESCRIPTION:Brush up on your bridge skills with friends. Must have previous bridge experience.
URL:https://wayneseniorcenter.org/event/refresher-bridge-63/
END:VEVENT
BEGIN:VEVENT
DTSTART;TZID=UTC:20260202T100000
DTEND;TZID=UTC:20260202T120000
DTSTAMP:20260424T074739
CREATED:20260123T220501Z
LAST-MODIFIED:20260123T220501Z
UID:16426-1770026400-1770033600@wayneseniorcenter.org
SUMMARY:WSC Quilters
DESCRIPTION:WSC quiliting club. All skill levels Welcome.
URL:https://wayneseniorcenter.org/event/wsc-quilters-63/
END:VEVENT
BEGIN:VEVENT
DTSTART;TZID=UTC:20260202T110000
DTEND;TZID=UTC:20260202T120000
DTSTAMP:20260424T074739
CREATED:20260123T220458Z
LAST-MODIFIED:20260123T220458Z
UID:16425-1770030000-1770033600@wayneseniorcenter.org
SUMMARY:Soul Line Dancing
DESCRIPTION:Kenny James will get you moving and grooving in a fun\, easy to learn dance class. No experience necessary – all can join. $3 members / $6 non-members.
URL:https://wayneseniorcenter.org/event/soul-line-dancing-103/
END:VEVENT
BEGIN:VEVENT
DTSTART;TZID=UTC:20260203T090000
DTEND;TZID=UTC:20260203T110000
DTSTAMP:20260424T074739
CREATED:20260123T220513Z
LAST-MODIFIED:20260123T220513Z
UID:16429-1770109200-1770116400@wayneseniorcenter.org
SUMMARY:Tech Tuesday
DESCRIPTION:Stop by during this time with your tech questions or email Francis at francis@wayneseniorcenter.org to make an appointment. Some Tuesdays will feature a workshop on a certain topic starting at 10am.
URL:https://wayneseniorcenter.org/event/tech-tuesday-48/
END:VEVENT
BEGIN:VEVENT
DTSTART;TZID=UTC:20260203T100000
DTEND;TZID=UTC:20260203T110000
DTSTAMP:20260424T074739
CREATED:20260123T220518Z
LAST-MODIFIED:20260123T222551Z
UID:16431-1770112800-1770116400@wayneseniorcenter.org
SUMMARY:Valentine Wreath Craft Part 1
DESCRIPTION:Celebrate the season of love with our two-part Valentine Wreath craft. You’ll design a festive wreath featuring colorful ribbons and layered details. $5\, call to sign up today!
URL:https://wayneseniorcenter.org/event/valentine-wreath-craft-part-1/
ATTACH;FMTTYPE=image/png:https://wayneseniorcenter.org/wp-content/uploads/2026/01/0210-Valentines-Wreath.png
END:VEVENT
BEGIN:VEVENT
DTSTART;TZID=UTC:20260203T110000
DTEND;TZID=UTC:20260203T120000
DTSTAMP:20260424T074739
CREATED:20260123T220511Z
LAST-MODIFIED:20260123T220511Z
UID:16428-1770116400-1770120000@wayneseniorcenter.org
SUMMARY:Sit\, Move\, Stretch
DESCRIPTION:This class offers seated or standing: cardio movement\, strengthening\, deep breathing\, and stretching. In-Person fees – free for WSC members\, $3 for non-members.
URL:https://wayneseniorcenter.org/event/sit-move-stretch-124/
END:VEVENT
BEGIN:VEVENT
DTSTART;TZID=UTC:20260203T120000
DTEND;TZID=UTC:20260203T130000
DTSTAMP:20260424T074739
CREATED:20260123T220516Z
LAST-MODIFIED:20260123T220516Z
UID:16430-1770120000-1770123600@wayneseniorcenter.org
SUMMARY:The Inside Scoop
DESCRIPTION:Join us at the start of each month for a quick\, upbeat\, rundown of what’s happening at the center. We’ll highlight upcoming programs\, special events\, and anything you’ll want to sign up for early. It’s the easiest and most fun way to stay in the know!
URL:https://wayneseniorcenter.org/event/the-inside-scoop-3/
END:VEVENT
BEGIN:VEVENT
DTSTART;TZID=UTC:20260203T123000
DTEND;TZID=UTC:20260203T133000
DTSTAMP:20260424T074739
CREATED:20260123T220503Z
LAST-MODIFIED:20260123T220503Z
UID:16427-1770121800-1770125400@wayneseniorcenter.org
SUMMARY:Mindfulness
DESCRIPTION:Practicing mindfulness provides countless benefits to our overall well-being. Join instructor Liz for an hour of virtual mindfulness.
URL:https://wayneseniorcenter.org/event/mindfulness-64/
END:VEVENT
BEGIN:VEVENT
DTSTART;TZID=UTC:20260204T100000
DTEND;TZID=UTC:20260204T110000
DTSTAMP:20260424T074739
CREATED:20260123T220526Z
LAST-MODIFIED:20260123T220526Z
UID:16433-1770199200-1770202800@wayneseniorcenter.org
SUMMARY:Scrabble
DESCRIPTION:Join us for classic word-building fun! Whether you’re a seasoned player or trying Scrabble for the first time\, come test your vocabulary\, challenge your mind\, and enjoy great company! All skill levels welcome!
URL:https://wayneseniorcenter.org/event/scrabble-3/
END:VEVENT
BEGIN:VEVENT
DTSTART;TZID=UTC:20260204T111500
DTEND;TZID=UTC:20260204T120000
DTSTAMP:20260424T074739
CREATED:20260123T220531Z
LAST-MODIFIED:20260123T222514Z
UID:16435-1770203700-1770206400@wayneseniorcenter.org
SUMMARY:Soul Line Dance Party & Lunch!
DESCRIPTION:Get ready to move at our Soul Line Dance Party! Enjoy great music\, easy-to-follow dance moves\, and lots of fun. Afterwards\, join us for a delicious lunch and good company. $8 for members\, $12 for non-members. RSVP & pay by February 2nd!
URL:https://wayneseniorcenter.org/event/soul-line-dance-party-lunch/
ATTACH;FMTTYPE=image/png:https://wayneseniorcenter.org/wp-content/uploads/2026/01/0204-Soul-Line-Dancing.png
END:VEVENT
BEGIN:VEVENT
DTSTART;TZID=UTC:20260204T123000
DTEND;TZID=UTC:20260204T133000
DTSTAMP:20260424T074739
CREATED:20260123T220520Z
LAST-MODIFIED:20260123T220520Z
UID:16432-1770208200-1770211800@wayneseniorcenter.org
SUMMARY:Fooling with Ukes
DESCRIPTION:Dust off your ukes and join Barbara Van Clief (Barley) for a few practice sessions. Learn to play various popular songs with a group of individuals who share your passion for music!
URL:https://wayneseniorcenter.org/event/fooling-with-ukes-51/
END:VEVENT
BEGIN:VEVENT
DTSTART;TZID=UTC:20260204T123000
DTEND;TZID=UTC:20260204T133000
DTSTAMP:20260424T074739
CREATED:20260123T220528Z
LAST-MODIFIED:20260123T220528Z
UID:16434-1770208200-1770211800@wayneseniorcenter.org
SUMMARY:Silver Sneakers Classic
DESCRIPTION:Focus on strengthening muscles and increasing range of motion using light weights\, stretch bands\, and exercise balls.
URL:https://wayneseniorcenter.org/event/silver-sneakers-classic-125/
END:VEVENT
BEGIN:VEVENT
DTSTART;TZID=UTC:20260204T140000
DTEND;TZID=UTC:20260204T140000
DTSTAMP:20260424T074739
CREATED:20260123T220532Z
LAST-MODIFIED:20260123T220532Z
UID:16436-1770213600-1770213600@wayneseniorcenter.org
SUMMARY:Tai Chi
DESCRIPTION:Tai Chi is a gentle form of exercise involving a series of graceful movements performed in a slow\, focused manner and accompanied by deep breathing. Excellent for strengthening balance and promoting stress reduction. In-Person fees – $5 for WSC members\, $10 for non-members.
URL:https://wayneseniorcenter.org/event/tai-chi-75/
END:VEVENT
BEGIN:VEVENT
DTSTART;TZID=UTC:20260205T100000
DTEND;TZID=UTC:20260205T110000
DTSTAMP:20260424T074739
CREATED:20260123T220547Z
LAST-MODIFIED:20260123T220547Z
UID:16441-1770285600-1770289200@wayneseniorcenter.org
SUMMARY:Black History Month Trivia
DESCRIPTION:Join us for this fun opportunity to learn about iconic black figures including athletes\, actors\, artists\, and more!
URL:https://wayneseniorcenter.org/event/black-history-month-trivia/
END:VEVENT
BEGIN:VEVENT
DTSTART;TZID=UTC:20260205T110000
DTEND;TZID=UTC:20260205T120000
DTSTAMP:20260424T074739
CREATED:20260123T220545Z
LAST-MODIFIED:20260123T220545Z
UID:16440-1770289200-1770292800@wayneseniorcenter.org
SUMMARY:Sit\, Move\, Stretch
DESCRIPTION:This class offers seated or standing: cardio movement\, strengthening\, deep breathing\, and stretching. In-Person fees – free for WSC members\, $3 for non-members.
URL:https://wayneseniorcenter.org/event/sit-move-stretch-125/
END:VEVENT
BEGIN:VEVENT
DTSTART;TZID=UTC:20260205T110000
DTEND;TZID=UTC:20260205T130000
DTSTAMP:20260424T074739
CREATED:20260123T220543Z
LAST-MODIFIED:20260123T220543Z
UID:16439-1770289200-1770296400@wayneseniorcenter.org
SUMMARY:Septa Key Card Renewals
DESCRIPTION:Join us on the first Thursday of each month for Septa Key Cardapplications and renewals and other constituent services with a representative from Sen. AmandaCappelletti’s office. The representative is here 11:00AM to 1:00PM\, no need to RSVP.
URL:https://wayneseniorcenter.org/event/septa-key-card-renewals-17/
END:VEVENT
BEGIN:VEVENT
DTSTART;TZID=UTC:20260205T120000
DTEND;TZID=UTC:20260205T130000
DTSTAMP:20260424T074739
CREATED:20260123T220541Z
LAST-MODIFIED:20260123T220541Z
UID:16438-1770292800-1770296400@wayneseniorcenter.org
SUMMARY:Men's Group
DESCRIPTION:Catch up with friends over lunch and discuss topics related to men’s lives – hobbies\, family stories\, retirement\, career reflections\, mental & physical health\, or whatever else is on your mind. Call to reserve a Center lunch\, bring your own\, or just stop by to chat.
URL:https://wayneseniorcenter.org/event/mens-group-13/
END:VEVENT
BEGIN:VEVENT
DTSTART;TZID=UTC:20260205T123000
DTEND;TZID=UTC:20260205T140000
DTSTAMP:20260424T074739
CREATED:20260123T220535Z
LAST-MODIFIED:20260123T220535Z
UID:16437-1770294600-1770300000@wayneseniorcenter.org
SUMMARY:Cards and Games: Open Play
DESCRIPTION:Join us for an afternoon playing games of your choice- Poker\, gin rummy\, pinochle\, mahjong etc. Meet a new friend and start a game of your own. Mahjong teachers/leaders feel free to bring your game set!
URL:https://wayneseniorcenter.org/event/cards-and-games-open-play-66/
END:VEVENT
BEGIN:VEVENT
DTSTART;TZID=UTC:20260206T093000
DTEND;TZID=UTC:20260206T103000
DTSTAMP:20260424T074740
CREATED:20260123T220556Z
LAST-MODIFIED:20260123T220556Z
UID:16443-1770370200-1770373800@wayneseniorcenter.org
SUMMARY:Senior Circuit
DESCRIPTION:Join us for a dynamic strength-building\, full-body workout utilizing bands\, weights\, and balls as we cycle through various stations.
URL:https://wayneseniorcenter.org/event/senior-circuit-63/
END:VEVENT
BEGIN:VEVENT
DTSTART;TZID=UTC:20260206T103000
DTEND;TZID=UTC:20260206T113000
DTSTAMP:20260424T074740
CREATED:20260123T220549Z
LAST-MODIFIED:20260123T220549Z
UID:16442-1770373800-1770377400@wayneseniorcenter.org
SUMMARY:Chair Yoga
DESCRIPTION:A well-rounded class that will help with balance\, strengthening\, and relaxation. Have a sturdy chair available. All abilities welcome. In-Person fees – $3 for WSC members\, $6 for non-members.
URL:https://wayneseniorcenter.org/event/chair-yoga-65/
END:VEVENT
BEGIN:VEVENT
DTSTART;TZID=UTC:20260209T100000
DTEND;TZID=UTC:20260209T110000
DTSTAMP:20260424T074740
CREATED:20260123T220601Z
LAST-MODIFIED:20260123T220601Z
UID:16445-1770631200-1770634800@wayneseniorcenter.org
SUMMARY:Silver Sneakers Classic
DESCRIPTION:Focus on strengthening muscles and increasing range of motion using light weights\, stretch bands\, and exercise balls.
URL:https://wayneseniorcenter.org/event/silver-sneakers-classic-126/
END:VEVENT
BEGIN:VEVENT
DTSTART;TZID=UTC:20260209T100000
DTEND;TZID=UTC:20260209T120000
DTSTAMP:20260424T074740
CREATED:20260123T220558Z
LAST-MODIFIED:20260123T220558Z
UID:16444-1770631200-1770638400@wayneseniorcenter.org
SUMMARY:Refresher Bridge
DESCRIPTION:Brush up on your bridge skills with friends. Must have previous bridge experience.
URL:https://wayneseniorcenter.org/event/refresher-bridge-64/
END:VEVENT
END:VCALENDAR