BEGIN:VCALENDAR
VERSION:2.0
PRODID:-//Wayne Senior Center - ECPv6.15.20//NONSGML v1.0//EN
CALSCALE:GREGORIAN
METHOD:PUBLISH
X-ORIGINAL-URL:https://wayneseniorcenter.org
X-WR-CALDESC:Events for Wayne Senior Center
REFRESH-INTERVAL;VALUE=DURATION:PT1H
X-Robots-Tag:noindex
X-PUBLISHED-TTL:PT1H
BEGIN:VTIMEZONE
TZID:UTC
BEGIN:STANDARD
TZOFFSETFROM:+0000
TZOFFSETTO:+0000
TZNAME:UTC
DTSTART:20240101T000000
END:STANDARD
END:VTIMEZONE
BEGIN:VEVENT
DTSTART;TZID=UTC:20250410T100000
DTEND;TZID=UTC:20250410T113000
DTSTAMP:20260421T203334
CREATED:20250327T191303Z
LAST-MODIFIED:20250327T191303Z
UID:15016-1744279200-1744284600@wayneseniorcenter.org
SUMMARY:Drop-in Tech Help
DESCRIPTION:Drop in to chat with WSC Tech Tutor volunteers. Get acquainted with your phone\, bring specific questions about your computer\, or stop by to learn something new. Bring your device and any relevant account information / passwords.
URL:https://wayneseniorcenter.org/event/drop-in-tech-help/
END:VEVENT
BEGIN:VEVENT
DTSTART;TZID=UTC:20250410T110000
DTEND;TZID=UTC:20250410T120000
DTSTAMP:20260421T203334
CREATED:20250327T191302Z
LAST-MODIFIED:20250327T191302Z
UID:15014-1744282800-1744286400@wayneseniorcenter.org
SUMMARY:Sit\, Move\, Stretch
DESCRIPTION:This class offers seated or standing: cardio movement\, strengthening\, deep breathing\, and stretching. In-Person fees – free for WSC members\, $3 for non-members.
URL:https://wayneseniorcenter.org/event/sit-move-stretch-49/
END:VEVENT
BEGIN:VEVENT
DTSTART;TZID=UTC:20250410T120000
DTEND;TZID=UTC:20250410T130000
DTSTAMP:20260421T203334
CREATED:20250327T191303Z
LAST-MODIFIED:20250327T191303Z
UID:15017-1744286400-1744290000@wayneseniorcenter.org
SUMMARY:Lunch and Sweet Farewell to Hannah and Annie
DESCRIPTION:Stop in for a special lunch and to say goodbye to our Widenern OT student friends Hannah and Annie!
URL:https://wayneseniorcenter.org/event/lunch-and-sweet-farewell-to-hannah-and-annie/
END:VEVENT
BEGIN:VEVENT
DTSTART;TZID=UTC:20250410T130000
DTEND;TZID=UTC:20250410T150000
DTSTAMP:20260421T203334
CREATED:20250327T191249Z
LAST-MODIFIED:20250327T191249Z
UID:15013-1744290000-1744297200@wayneseniorcenter.org
SUMMARY:Cards and Games: Open Play
DESCRIPTION:Join us for an afternoon playing games of your choice- Poker\, gin rummy\, pinochle\, mahjong etc. Meet a new friend and start a game of your own. Mahjong teachers/leaders feel free to bring your game set!
URL:https://wayneseniorcenter.org/event/cards-and-games-open-play-26/
END:VEVENT
BEGIN:VEVENT
DTSTART;TZID=UTC:20250411T093000
DTEND;TZID=UTC:20250411T103000
DTSTAMP:20260421T203334
CREATED:20250327T191317Z
LAST-MODIFIED:20250327T191317Z
UID:15019-1744363800-1744367400@wayneseniorcenter.org
SUMMARY:Senior Circuit
DESCRIPTION:Join us for a dynamic strength-building\, full-body workout utilizing bands\, weights\, and balls as we cycle through various stations.
URL:https://wayneseniorcenter.org/event/senior-circuit-25/
END:VEVENT
BEGIN:VEVENT
DTSTART;TZID=UTC:20250411T103000
DTEND;TZID=UTC:20250411T113000
DTSTAMP:20260421T203334
CREATED:20250327T191304Z
LAST-MODIFIED:20250327T191304Z
UID:15018-1744367400-1744371000@wayneseniorcenter.org
SUMMARY:Chair Yoga
DESCRIPTION:A well-rounded class that will help with balance\, strengthening\, and relaxation. Have a sturdy chair available. All abilities welcome. In-Person fees – $3 for WSC members\, $6 for non-members.
URL:https://wayneseniorcenter.org/event/chair-yoga-26/
END:VEVENT
BEGIN:VEVENT
DTSTART;TZID=UTC:20250414T100000
DTEND;TZID=UTC:20250414T110000
DTSTAMP:20260421T203334
CREATED:20250327T191318Z
LAST-MODIFIED:20250327T191318Z
UID:15022-1744624800-1744628400@wayneseniorcenter.org
SUMMARY:Silver Sneakers Classic
DESCRIPTION:Focus on strengthening muscles and increasing range of motion using light weights\, stretch bands\, and exercise balls.
URL:https://wayneseniorcenter.org/event/silver-sneakers-classic-47/
END:VEVENT
BEGIN:VEVENT
DTSTART;TZID=UTC:20250414T100000
DTEND;TZID=UTC:20250414T120000
DTSTAMP:20260421T203334
CREATED:20250327T191318Z
LAST-MODIFIED:20250327T191318Z
UID:15020-1744624800-1744632000@wayneseniorcenter.org
SUMMARY:Refresher Bridge
DESCRIPTION:Brush up on your bridge skills with Lawrie Stetson and Dave Heron. Must have previous bridge experience.
URL:https://wayneseniorcenter.org/event/refresher-bridge-25/
END:VEVENT
BEGIN:VEVENT
DTSTART;TZID=UTC:20250414T100000
DTEND;TZID=UTC:20250414T120000
DTSTAMP:20260421T203334
CREATED:20250327T191332Z
LAST-MODIFIED:20250327T191332Z
UID:15024-1744624800-1744632000@wayneseniorcenter.org
SUMMARY:WSC Quilters
DESCRIPTION:WSC quiliting club. All skill levels Welcome. Come by or RSVP by calling the center – (610) 688-6246
URL:https://wayneseniorcenter.org/event/wsc-quilters-25/
END:VEVENT
BEGIN:VEVENT
DTSTART;TZID=UTC:20250414T110000
DTEND;TZID=UTC:20250414T120000
DTSTAMP:20260421T203334
CREATED:20250327T191319Z
LAST-MODIFIED:20250327T191319Z
UID:15023-1744628400-1744632000@wayneseniorcenter.org
SUMMARY:Soul Line Dancing
DESCRIPTION:Kenny James will get you moving and grooving in a fun\, easy to learn dance class. No experience necessary – all can join. $3 members / $6 non-members.
URL:https://wayneseniorcenter.org/event/soul-line-dancing-25/
END:VEVENT
BEGIN:VEVENT
DTSTART;TZID=UTC:20250414T140000
DTEND;TZID=UTC:20250414T150000
DTSTAMP:20260421T203334
CREATED:20250327T191318Z
LAST-MODIFIED:20250327T191318Z
UID:15021-1744639200-1744642800@wayneseniorcenter.org
SUMMARY:Seasons Grief & Loss Group
DESCRIPTION:Join others in a safe space to listen\, share\, and heal in conversation about losses you have experienced. We will learn how grief can affect our everyday life and ways to manage the range of feelings and symptoms. Facilitated by Holisticare Hospice.
URL:https://wayneseniorcenter.org/event/seasons-grief-loss-group-6/
END:VEVENT
BEGIN:VEVENT
DTSTART;TZID=UTC:20250415T100000
DTEND;TZID=UTC:20250415T110000
DTSTAMP:20260421T203334
CREATED:20250327T191333Z
LAST-MODIFIED:20250327T191333Z
UID:15027-1744711200-1744714800@wayneseniorcenter.org
SUMMARY:Weekly Trivia
DESCRIPTION:Join Andrea for a fun and exciting challenge every Tuesday. Show off your smarts across a range of trivia categories and have a blast with friends!
URL:https://wayneseniorcenter.org/event/weekly-trivia-2/
END:VEVENT
BEGIN:VEVENT
DTSTART;TZID=UTC:20250415T110000
DTEND;TZID=UTC:20250415T120000
DTSTAMP:20260421T203334
CREATED:20250327T191333Z
LAST-MODIFIED:20250327T191333Z
UID:15026-1744714800-1744718400@wayneseniorcenter.org
SUMMARY:Sit\, Move\, Stretch
DESCRIPTION:This class offers seated or standing: cardio movement\, strengthening\, deep breathing\, and stretching. In-Person fees – free for WSC members\, $3 for non-members.
URL:https://wayneseniorcenter.org/event/sit-move-stretch-50/
END:VEVENT
BEGIN:VEVENT
DTSTART;TZID=UTC:20250415T123000
DTEND;TZID=UTC:20250415T133000
DTSTAMP:20260421T203334
CREATED:20250327T191333Z
LAST-MODIFIED:20250327T191333Z
UID:15025-1744720200-1744723800@wayneseniorcenter.org
SUMMARY:Mindfulness
DESCRIPTION:Practicing mindfulness provides countless benefits to our overall well-being. Join instructor Liz for an hour of virtual mindfulness.
URL:https://wayneseniorcenter.org/event/mindfulness-26/
END:VEVENT
BEGIN:VEVENT
DTSTART;TZID=UTC:20250416T100000
DTEND;TZID=UTC:20250416T110000
DTSTAMP:20260421T203334
CREATED:20250327T191349Z
LAST-MODIFIED:20250327T191349Z
UID:15033-1744797600-1744801200@wayneseniorcenter.org
SUMMARY:Armchair Travel
DESCRIPTION:Join Andrea for an exciting armchair travel experience to Brazil! Explore the vibrant culture\, stunning landscapes\, and rich history of this fascinating country\, all from the comfort of your seat. Don’t miss this virtual adventure to one of South America’s most dynamic destinations!
URL:https://wayneseniorcenter.org/event/armchair-travel/
END:VEVENT
BEGIN:VEVENT
DTSTART;TZID=UTC:20250416T110000
DTEND;TZID=UTC:20250416T120000
DTSTAMP:20260421T203334
CREATED:20250327T191347Z
LAST-MODIFIED:20250327T191347Z
UID:15029-1744801200-1744804800@wayneseniorcenter.org
SUMMARY:Pageturner's Bookclub
DESCRIPTION:Enjoy lively book conversation with a Radnor Memorial Library librarian. All are welcome! This month we will be discussing “Night Watch” by Jayne Anne Phillips. In 1874\, in the wake of the Civil War\, 12-year-old ConaLee and her mother Eliza who hasn’t spoken in more than a year\, seek refuge in a West Virginia mental asylum where they get swept up in the life of the facility – and the mystery behind the man they call the Night Watch. Call for more info – (610)688-6246
URL:https://wayneseniorcenter.org/event/pageturners-bookclub-7/
END:VEVENT
BEGIN:VEVENT
DTSTART;TZID=UTC:20250416T111500
DTEND;TZID=UTC:20250416T120000
DTSTAMP:20260421T203334
CREATED:20250327T191348Z
LAST-MODIFIED:20250327T191348Z
UID:15031-1744802100-1744804800@wayneseniorcenter.org
SUMMARY:Soul Line Dancing
DESCRIPTION:Kenny James will get you moving and grooving in a fun\, easy to learn dance class. No experience necessary – all can join. $3 members / $6 non-members.
URL:https://wayneseniorcenter.org/event/soul-line-dancing-26/
END:VEVENT
BEGIN:VEVENT
DTSTART;TZID=UTC:20250416T123000
DTEND;TZID=UTC:20250416T133000
DTSTAMP:20260421T203334
CREATED:20250327T191334Z
LAST-MODIFIED:20250327T191334Z
UID:15028-1744806600-1744810200@wayneseniorcenter.org
SUMMARY:Fooling with Ukes
DESCRIPTION:Dust off your ukes and join Barbara Van Clief (Barley) for a few practice sessions. Learn to play various popular songs with a group of individuals who share your passion for music!
URL:https://wayneseniorcenter.org/event/fooling-with-ukes-19/
END:VEVENT
BEGIN:VEVENT
DTSTART;TZID=UTC:20250416T123000
DTEND;TZID=UTC:20250416T133000
DTSTAMP:20260421T203334
CREATED:20250327T191348Z
LAST-MODIFIED:20250327T191348Z
UID:15030-1744806600-1744810200@wayneseniorcenter.org
SUMMARY:Silver Sneakers Classic
DESCRIPTION:Focus on strengthening muscles and increasing range of motion using light weights\, stretch bands\, and exercise balls.
URL:https://wayneseniorcenter.org/event/silver-sneakers-classic-48/
END:VEVENT
BEGIN:VEVENT
DTSTART;TZID=UTC:20250416T140000
DTEND;TZID=UTC:20250416T150000
DTSTAMP:20260421T203334
CREATED:20250327T191348Z
LAST-MODIFIED:20250327T191348Z
UID:15032-1744812000-1744815600@wayneseniorcenter.org
SUMMARY:Tai Chi
DESCRIPTION:Tai Chi is a gentle form of exercise involving a series of graceful movements performed in a slow\, focused manner and accompanied by deep breathing. Excellent for strengthening balance and promoting stress reduction. In-Person fees – $5 for WSC members\, $10 for non-members.
URL:https://wayneseniorcenter.org/event/tai-chi-37/
END:VEVENT
BEGIN:VEVENT
DTSTART;TZID=UTC:20250417T100000
DTEND;TZID=UTC:20250417T110000
DTSTAMP:20260421T203334
CREATED:20250327T191405Z
LAST-MODIFIED:20250327T191405Z
UID:15038-1744884000-1744887600@wayneseniorcenter.org
SUMMARY:DIY Spring Wreath
DESCRIPTION:Get creative with us and make your own spring wreath! This wreath is pretty and so easy to make using a hoop\, some twine\, hot glue\, and flowers! It’s the perfect spring décor. Cost is $3 for both members and non-members.
URL:https://wayneseniorcenter.org/event/diy-spring-wreath/
END:VEVENT
BEGIN:VEVENT
DTSTART;TZID=UTC:20250417T110000
DTEND;TZID=UTC:20250417T120000
DTSTAMP:20260421T203334
CREATED:20250327T191404Z
LAST-MODIFIED:20250327T191404Z
UID:15036-1744887600-1744891200@wayneseniorcenter.org
SUMMARY:Sit\, Move\, Stretch
DESCRIPTION:This class offers seated or standing: cardio movement\, strengthening\, deep breathing\, and stretching. In-Person fees – free for WSC members\, $3 for non-members.
URL:https://wayneseniorcenter.org/event/sit-move-stretch-51/
END:VEVENT
BEGIN:VEVENT
DTSTART;TZID=UTC:20250417T120000
DTEND;TZID=UTC:20250417T130000
DTSTAMP:20260421T203334
CREATED:20250327T191404Z
LAST-MODIFIED:20250327T191404Z
UID:15037-1744891200-1744894800@wayneseniorcenter.org
SUMMARY:The Men's Group
DESCRIPTION:Catch up with friends over lunch and discuss topics related to men’s lives – hobbies\, family stories\, retirement\, career reflections\, mental & physical health\, or whatever else is on your mind. Call to reserve a Center lunch\, bring your own\, or just stop by to chat.
URL:https://wayneseniorcenter.org/event/the-mens-group-11/
END:VEVENT
BEGIN:VEVENT
DTSTART;TZID=UTC:20250417T123000
DTEND;TZID=UTC:20250417T143000
DTSTAMP:20260421T203334
CREATED:20250327T191404Z
LAST-MODIFIED:20250327T191404Z
UID:15035-1744893000-1744900200@wayneseniorcenter.org
SUMMARY:Dessert and a Movie: A Complete Unknown
DESCRIPTION:Join us for a viewing of the film A Complete Unknown (2024). In the early 1960’s\, 19-year-old Bob Dylan arrives in New York with his guitar and a revolutionary talent\, destined to change the course of American music. Forming his most intimate relationships during his rise to fame\, he grows restless with the folk movement\, making a controversial choice that reverberates worldwide.
URL:https://wayneseniorcenter.org/event/dessert-and-a-movie-a-complete-unknown/
END:VEVENT
BEGIN:VEVENT
DTSTART;TZID=UTC:20250417T130000
DTEND;TZID=UTC:20250417T150000
DTSTAMP:20260421T203334
CREATED:20250327T191403Z
LAST-MODIFIED:20250327T191403Z
UID:15034-1744894800-1744902000@wayneseniorcenter.org
SUMMARY:Cards and Games: Open Play
DESCRIPTION:Join us for an afternoon playing games of your choice- Poker\, gin rummy\, pinochle\, mahjong etc. Meet a new friend and start a game of your own. Mahjong teachers/leaders feel free to bring your game set!
URL:https://wayneseniorcenter.org/event/cards-and-games-open-play-27/
END:VEVENT
BEGIN:VEVENT
DTSTART;TZID=UTC:20250421T100000
DTEND;TZID=UTC:20250421T110000
DTSTAMP:20260421T203334
CREATED:20250327T191418Z
LAST-MODIFIED:20250327T191418Z
UID:15040-1745229600-1745233200@wayneseniorcenter.org
SUMMARY:Silver Sneakers Classic
DESCRIPTION:Focus on strengthening muscles and increasing range of motion using light weights\, stretch bands\, and exercise balls.
URL:https://wayneseniorcenter.org/event/silver-sneakers-classic-49/
END:VEVENT
BEGIN:VEVENT
DTSTART;TZID=UTC:20250421T100000
DTEND;TZID=UTC:20250421T120000
DTSTAMP:20260421T203334
CREATED:20250327T191417Z
LAST-MODIFIED:20250327T191417Z
UID:15039-1745229600-1745236800@wayneseniorcenter.org
SUMMARY:Refresher Bridge
DESCRIPTION:Brush up on your bridge skills with Lawrie Stetson and Dave Heron. Must have previous bridge experience.
URL:https://wayneseniorcenter.org/event/refresher-bridge-26/
END:VEVENT
BEGIN:VEVENT
DTSTART;TZID=UTC:20250421T100000
DTEND;TZID=UTC:20250421T120000
DTSTAMP:20260421T203334
CREATED:20250327T191419Z
LAST-MODIFIED:20250327T191419Z
UID:15042-1745229600-1745236800@wayneseniorcenter.org
SUMMARY:WSC Quilters
DESCRIPTION:WSC quiliting club. All skill levels Welcome. Come by or RSVP by calling the center – (610) 688-6246
URL:https://wayneseniorcenter.org/event/wsc-quilters-26/
END:VEVENT
BEGIN:VEVENT
DTSTART;TZID=UTC:20250421T110000
DTEND;TZID=UTC:20250421T120000
DTSTAMP:20260421T203334
CREATED:20250327T191418Z
LAST-MODIFIED:20250327T191418Z
UID:15041-1745233200-1745236800@wayneseniorcenter.org
SUMMARY:Soul Line Dancing
DESCRIPTION:Kenny James will get you moving and grooving in a fun\, easy to learn dance class. No experience necessary – all can join. $3 members / $6 non-members.
URL:https://wayneseniorcenter.org/event/soul-line-dancing-27/
END:VEVENT
BEGIN:VEVENT
DTSTART;TZID=UTC:20250422T093000
DTEND;TZID=UTC:20250422T103000
DTSTAMP:20260421T203334
CREATED:20250327T191434Z
LAST-MODIFIED:20250327T191434Z
UID:15047-1745314200-1745317800@wayneseniorcenter.org
SUMMARY:Walking Club
DESCRIPTION:It’s back! Join Margo and Andrea and some WSC friends for a walk on the Radnor trail – weather permitting. Walkers meet at the trail parking lot (520 Conestoga Rd). All  abilities welcome. Wear comfortable walking shoes and bring a bottle of water.
URL:https://wayneseniorcenter.org/event/walking-club/
END:VEVENT
END:VCALENDAR