BEGIN:VCALENDAR
VERSION:2.0
PRODID:-//Wayne Senior Center - ECPv6.15.20//NONSGML v1.0//EN
CALSCALE:GREGORIAN
METHOD:PUBLISH
X-ORIGINAL-URL:https://wayneseniorcenter.org
X-WR-CALDESC:Events for Wayne Senior Center
REFRESH-INTERVAL;VALUE=DURATION:PT1H
X-Robots-Tag:noindex
X-PUBLISHED-TTL:PT1H
BEGIN:VTIMEZONE
TZID:UTC
BEGIN:STANDARD
TZOFFSETFROM:+0000
TZOFFSETTO:+0000
TZNAME:UTC
DTSTART:20230101T000000
END:STANDARD
END:VTIMEZONE
BEGIN:VEVENT
DTSTART;TZID=UTC:20241126T120000
DTEND;TZID=UTC:20241126T130000
DTSTAMP:20260421T100713
CREATED:20241022T190114Z
LAST-MODIFIED:20241022T190114Z
UID:14417-1732622400-1732626000@wayneseniorcenter.org
SUMMARY:Let's Do Lunch!
DESCRIPTION:Let’s do lunch together! Please see the menu in the newsletter for details on each meal. $5 members / $8 non-members. RSVP required\, in-center dining only.
URL:https://wayneseniorcenter.org/event/lets-do-lunch-5/
END:VEVENT
BEGIN:VEVENT
DTSTART;TZID=UTC:20241126T123000
DTEND;TZID=UTC:20241126T133000
DTSTAMP:20260421T100713
CREATED:20241022T190114Z
LAST-MODIFIED:20241022T190114Z
UID:14418-1732624200-1732627800@wayneseniorcenter.org
SUMMARY:Mindfulness
DESCRIPTION:Practicing mindfulness provides countless benefits to our overall well-being. Join instructor Liz for an hour of virtual mindfulness.
URL:https://wayneseniorcenter.org/event/mindfulness-8/
END:VEVENT
BEGIN:VEVENT
DTSTART;TZID=UTC:20241127T101500
DTEND;TZID=UTC:20241127T110000
DTSTAMP:20260421T100713
CREATED:20241022T190143Z
LAST-MODIFIED:20241022T190143Z
UID:14426-1732702500-1732705200@wayneseniorcenter.org
SUMMARY:Large Jenga Game
DESCRIPTION:Test your Jenga skills by trying to remove one block at a time without making the tower fall over!
URL:https://wayneseniorcenter.org/event/large-jenga-game-2/
END:VEVENT
BEGIN:VEVENT
DTSTART;TZID=UTC:20241127T110000
DTEND;TZID=UTC:20241127T120000
DTSTAMP:20260421T100713
CREATED:20241022T190143Z
LAST-MODIFIED:20241022T190143Z
UID:14425-1732705200-1732708800@wayneseniorcenter.org
SUMMARY:Tai Chi
DESCRIPTION:Tai Chi is a gentle form of exercise involving a series of graceful movements performed in a slow\, focused manner and accompanied by deep breathing. Excellent for strengthening balance and promoting stress reduction. In-Person fees – $5 for WSC members\, $10 for non-members.
URL:https://wayneseniorcenter.org/event/tai-chi-18/
END:VEVENT
BEGIN:VEVENT
DTSTART;TZID=UTC:20241127T113000
DTEND;TZID=UTC:20241127T123000
DTSTAMP:20260421T100713
CREATED:20241022T190129Z
LAST-MODIFIED:20241022T190129Z
UID:14423-1732707000-1732710600@wayneseniorcenter.org
SUMMARY:Fitness Trainer Help
DESCRIPTION:Do you need assistance with the fitness center equipment? Stop by to see fitness trainer Kenny to get help with the equipment and ask questions about your fitness routine. You must be a fitness center member.
URL:https://wayneseniorcenter.org/event/fitness-trainer-help-8/
END:VEVENT
BEGIN:VEVENT
DTSTART;TZID=UTC:20241127T123000
DTEND;TZID=UTC:20241127T133000
DTSTAMP:20260421T100713
CREATED:20241022T190130Z
LAST-MODIFIED:20241022T190130Z
UID:14424-1732710600-1732714200@wayneseniorcenter.org
SUMMARY:Silver Sneakers Classic
DESCRIPTION:Focus on strengthening muscles and increasing range of motion using light weights\, stretch bands\, and exercise balls.
URL:https://wayneseniorcenter.org/event/silver-sneakers-classic-14/
END:VEVENT
BEGIN:VEVENT
DTSTART;TZID=UTC:20241202T100000
DTEND;TZID=UTC:20241202T110000
DTSTAMP:20260421T100713
CREATED:20241122T215139Z
LAST-MODIFIED:20241122T215139Z
UID:14467-1733133600-1733137200@wayneseniorcenter.org
SUMMARY:Silver Sneakers Classic
DESCRIPTION:Focus on strengthening muscles and increasing range of motion using light weights\, stretch bands\, and exercise balls.
URL:https://wayneseniorcenter.org/event/silver-sneakers-classic-15/
END:VEVENT
BEGIN:VEVENT
DTSTART;TZID=UTC:20241202T100000
DTEND;TZID=UTC:20241202T120000
DTSTAMP:20260421T100713
CREATED:20241122T215128Z
LAST-MODIFIED:20241122T215128Z
UID:14466-1733133600-1733140800@wayneseniorcenter.org
SUMMARY:Refresher Bridge
DESCRIPTION:Brush up on your bridge skills with Lawrie Stetson and Dave Heron. Must have previous bridge experience.
URL:https://wayneseniorcenter.org/event/refresher-bridge-9/
END:VEVENT
BEGIN:VEVENT
DTSTART;TZID=UTC:20241202T100000
DTEND;TZID=UTC:20241202T120000
DTSTAMP:20260421T100713
CREATED:20241122T215141Z
LAST-MODIFIED:20241122T215141Z
UID:14470-1733133600-1733140800@wayneseniorcenter.org
SUMMARY:WSC Quilters
DESCRIPTION:WSC quiliting club. All skill levels Welcome. Come by or RSVP by calling the center – (610) 688-6246
URL:https://wayneseniorcenter.org/event/wsc-quilters-9/
END:VEVENT
BEGIN:VEVENT
DTSTART;TZID=UTC:20241202T110000
DTEND;TZID=UTC:20241202T120000
DTSTAMP:20260421T100713
CREATED:20241122T215139Z
LAST-MODIFIED:20241122T215139Z
UID:14468-1733137200-1733140800@wayneseniorcenter.org
SUMMARY:Soul Line Dance
DESCRIPTION:Kenny James will get you moving and grooving in a fun\, easy to learn dance class. No experience necessary – all can join. $3 members / $6 non-members.
URL:https://wayneseniorcenter.org/event/soul-line-dance-8/
END:VEVENT
BEGIN:VEVENT
DTSTART;TZID=UTC:20241202T123000
DTEND;TZID=UTC:20241202T133000
DTSTAMP:20260421T100713
CREATED:20241122T215140Z
LAST-MODIFIED:20241122T215140Z
UID:14469-1733142600-1733146200@wayneseniorcenter.org
SUMMARY:Tai Chi
DESCRIPTION:Tai Chi is a gentle form of exercise involving a series of graceful movements performed in a slow\, focused manner and accompanied by deep breathing. Excellent for strengthening balance and promoting stress reduction. In-Person fees – $5 for WSC members\, $10 for non-members.
URL:https://wayneseniorcenter.org/event/tai-chi-19/
END:VEVENT
BEGIN:VEVENT
DTSTART;TZID=UTC:20241203T090000
DTEND;TZID=UTC:20241203T100000
DTSTAMP:20260421T100713
CREATED:20241122T215148Z
LAST-MODIFIED:20241122T215148Z
UID:14475-1733216400-1733220000@wayneseniorcenter.org
SUMMARY:Tech Tuesday
DESCRIPTION:Stop by during this time with your tech questions or email Francis at francis@wayneseniorcenter.org to make an appointment. Some Tuesdays will feature a workshop on a certain topic starting at 10am.
URL:https://wayneseniorcenter.org/event/tech-tuesday-8/
END:VEVENT
BEGIN:VEVENT
DTSTART;TZID=UTC:20241203T093000
DTEND;TZID=UTC:20241203T103000
DTSTAMP:20260421T100713
CREATED:20241122T215144Z
LAST-MODIFIED:20241122T215144Z
UID:14471-1733218200-1733221800@wayneseniorcenter.org
SUMMARY:Brain Fit
DESCRIPTION:Join Andrea as we exercise our brain with fun word puzzles and brain teasers!
URL:https://wayneseniorcenter.org/event/brain-fit-8/
END:VEVENT
BEGIN:VEVENT
DTSTART;TZID=UTC:20241203T100000
DTEND;TZID=UTC:20241203T110000
DTSTAMP:20260421T100713
CREATED:20241122T215200Z
LAST-MODIFIED:20241122T215200Z
UID:14477-1733220000-1733223600@wayneseniorcenter.org
SUMMARY:iPhone Photos: Camera\, Albums\, Sharing\, iCloud
DESCRIPTION:Brush up on your iPhone photos knowledge in time for the holiday season. In this workshop we’ll cover the camera app\, organizing photos\, sharing\, iCloud\, and more. Bring any questions and your phone to follow along.
URL:https://wayneseniorcenter.org/event/iphone-photos-camera-albums-sharing-icloud/
END:VEVENT
BEGIN:VEVENT
DTSTART;TZID=UTC:20241203T101500
DTEND;TZID=UTC:20241203T110000
DTSTAMP:20260421T100713
CREATED:20241122T215201Z
LAST-MODIFIED:20241122T215201Z
UID:14478-1733220900-1733223600@wayneseniorcenter.org
SUMMARY:Holiday Card Making
DESCRIPTION:Looking to add a personal touch to your holiday cards this year? Come create a few custom cards and spread some extra holiday cheer!
URL:https://wayneseniorcenter.org/event/holiday-card-making/
END:VEVENT
BEGIN:VEVENT
DTSTART;TZID=UTC:20241203T110000
DTEND;TZID=UTC:20241203T120000
DTSTAMP:20260421T100713
CREATED:20241122T215147Z
LAST-MODIFIED:20241122T215147Z
UID:14474-1733223600-1733227200@wayneseniorcenter.org
SUMMARY:Sit\, Move\, Stretch
DESCRIPTION:This class offers seated or standing: cardio movement\, strengthening\, deep breathing\, and stretching. In-Person fees – free for WSC members\, $3 for non-members.
URL:https://wayneseniorcenter.org/event/sit-move-stretch-15/
END:VEVENT
BEGIN:VEVENT
DTSTART;TZID=UTC:20241203T120000
DTEND;TZID=UTC:20241203T130000
DTSTAMP:20260421T100713
CREATED:20241122T215145Z
LAST-MODIFIED:20241122T215145Z
UID:14472-1733227200-1733230800@wayneseniorcenter.org
SUMMARY:Let's Do Lunch!
DESCRIPTION:Let’s do lunch together! Please see the menu in the newsletter for details on each meal. $5 members / $8 non-members. RSVP required\, in-center dining only.
URL:https://wayneseniorcenter.org/event/lets-do-lunch-6/
END:VEVENT
BEGIN:VEVENT
DTSTART;TZID=UTC:20241203T123000
DTEND;TZID=UTC:20241203T133000
DTSTAMP:20260421T100713
CREATED:20241122T215146Z
LAST-MODIFIED:20241122T215146Z
UID:14473-1733229000-1733232600@wayneseniorcenter.org
SUMMARY:Mindfulness
DESCRIPTION:Practicing mindfulness provides countless benefits to our overall well-being. Join instructor Liz for an hour of virtual mindfulness.
URL:https://wayneseniorcenter.org/event/mindfulness-9/
END:VEVENT
BEGIN:VEVENT
DTSTART;TZID=UTC:20241204T101500
DTEND;TZID=UTC:20241204T110000
DTSTAMP:20260421T100713
CREATED:20241122T215202Z
LAST-MODIFIED:20241122T215202Z
UID:14479-1733307300-1733310000@wayneseniorcenter.org
SUMMARY:Cornhole Game
DESCRIPTION:Loosen up your throwing arm for a friendly competition of Cornhole.
URL:https://wayneseniorcenter.org/event/cornhole-game-2/
END:VEVENT
BEGIN:VEVENT
DTSTART;TZID=UTC:20241204T110000
DTEND;TZID=UTC:20241204T120000
DTSTAMP:20260421T100713
CREATED:20241122T215216Z
LAST-MODIFIED:20241122T215216Z
UID:14482-1733310000-1733313600@wayneseniorcenter.org
SUMMARY:Tai Chi
DESCRIPTION:Tai Chi is a gentle form of exercise involving a series of graceful movements performed in a slow\, focused manner and accompanied by deep breathing. Excellent for strengthening balance and promoting stress reduction. In-Person fees – $5 for WSC members\, $10 for non-members.
URL:https://wayneseniorcenter.org/event/tai-chi-20/
END:VEVENT
BEGIN:VEVENT
DTSTART;TZID=UTC:20241204T113000
DTEND;TZID=UTC:20241204T123000
DTSTAMP:20260421T100713
CREATED:20241122T215203Z
LAST-MODIFIED:20241122T215203Z
UID:14480-1733311800-1733315400@wayneseniorcenter.org
SUMMARY:Fitness Trainer Help
DESCRIPTION:Do you need assistance with the fitness center equipment? Stop by to see fitness trainer Kenny to get help with the equipment and ask questions about your fitness routine. You must be a fitness center member.
URL:https://wayneseniorcenter.org/event/fitness-trainer-help-9/
END:VEVENT
BEGIN:VEVENT
DTSTART;TZID=UTC:20241204T123000
DTEND;TZID=UTC:20241204T133000
DTSTAMP:20260421T100713
CREATED:20241122T215215Z
LAST-MODIFIED:20241122T215215Z
UID:14481-1733315400-1733319000@wayneseniorcenter.org
SUMMARY:Silver Sneakers Classic
DESCRIPTION:Focus on strengthening muscles and increasing range of motion using light weights\, stretch bands\, and exercise balls.
URL:https://wayneseniorcenter.org/event/silver-sneakers-classic-16/
END:VEVENT
BEGIN:VEVENT
DTSTART;TZID=UTC:20241205T090000
DTEND;TZID=UTC:20241205T110000
DTSTAMP:20260421T100713
CREATED:20241122T215216Z
LAST-MODIFIED:20241122T215216Z
UID:14483-1733389200-1733396400@wayneseniorcenter.org
SUMMARY:Blood Pressure Screenings
DESCRIPTION:Are you trying to keep track of your blood pressure readings? Have questions about a medication or just need a listening ear? Stop by and speak 1:1 with a nurse.
URL:https://wayneseniorcenter.org/event/blood-pressure-screenings-5/
END:VEVENT
BEGIN:VEVENT
DTSTART;TZID=UTC:20241205T093000
DTEND;TZID=UTC:20241205T103000
DTSTAMP:20260421T100713
CREATED:20241122T215231Z
LAST-MODIFIED:20241122T215231Z
UID:14488-1733391000-1733394600@wayneseniorcenter.org
SUMMARY:Christmas Song Quiz
DESCRIPTION:How well do you know your Christmas songs? Take our fun quiz and let’s go over the answers together!
URL:https://wayneseniorcenter.org/event/christmas-song-quiz/
END:VEVENT
BEGIN:VEVENT
DTSTART;TZID=UTC:20241205T100000
DTEND;TZID=UTC:20241205T110000
DTSTAMP:20260421T100713
CREATED:20241122T215230Z
LAST-MODIFIED:20241122T215230Z
UID:14487-1733392800-1733396400@wayneseniorcenter.org
SUMMARY:Zumba Gold
DESCRIPTION:Keep your body moving\, enjoy lively music\, and have fun dancing your cares away. $3 members / $6 non-members
URL:https://wayneseniorcenter.org/event/zumba-gold-8/
END:VEVENT
BEGIN:VEVENT
DTSTART;TZID=UTC:20241205T100000
DTEND;TZID=UTC:20241205T110000
DTSTAMP:20260421T100713
CREATED:20241122T215232Z
LAST-MODIFIED:20241122T215232Z
UID:14489-1733392800-1733396400@wayneseniorcenter.org
SUMMARY:Trim the Tree at WSC!
DESCRIPTION:How well do you know your Christmas songs? Take our fun quiz and let’s go over the answers together!
URL:https://wayneseniorcenter.org/event/trim-the-tree-at-wsc/
END:VEVENT
BEGIN:VEVENT
DTSTART;TZID=UTC:20241205T110000
DTEND;TZID=UTC:20241205T120000
DTSTAMP:20260421T100713
CREATED:20241122T215230Z
LAST-MODIFIED:20241122T215230Z
UID:14486-1733396400-1733400000@wayneseniorcenter.org
SUMMARY:Sit\, Move\, Stretch
DESCRIPTION:This class offers seated or standing: cardio movement\, strengthening\, deep breathing\, and stretching. In-Person fees – free for WSC members\, $3 for non-members.
URL:https://wayneseniorcenter.org/event/sit-move-stretch-16/
END:VEVENT
BEGIN:VEVENT
DTSTART;TZID=UTC:20241205T110000
DTEND;TZID=UTC:20241205T130000
DTSTAMP:20260421T100713
CREATED:20241122T215218Z
LAST-MODIFIED:20241122T215218Z
UID:14485-1733396400-1733403600@wayneseniorcenter.org
SUMMARY:Septa Key Card Renewals
DESCRIPTION:Join us on the first Thursday of each month for Septa Key Cardapplications and renewals and other constituent services with a representative from Sen. AmandaCappelletti’s office. The representative is here 11:00AM to 1:00PM\, no need to RSVP.
URL:https://wayneseniorcenter.org/event/septa-key-card-renewals-3/
END:VEVENT
BEGIN:VEVENT
DTSTART;TZID=UTC:20241205T130000
DTEND;TZID=UTC:20241205T150000
DTSTAMP:20260421T100713
CREATED:20241122T215218Z
LAST-MODIFIED:20241122T215218Z
UID:14484-1733403600-1733410800@wayneseniorcenter.org
SUMMARY:Cards and Games: Open Play
DESCRIPTION:Join us for an afternoon playing games of your choice- Poker\, gin rummy\, pinochle\, mahjong etc. Meet a new friend and start a game of your own. Mahjong teachers/leaders feel free to bring your game set!
URL:https://wayneseniorcenter.org/event/cards-and-games-open-play-9/
END:VEVENT
BEGIN:VEVENT
DTSTART;TZID=UTC:20241206T093000
DTEND;TZID=UTC:20241206T103000
DTSTAMP:20260421T100713
CREATED:20241122T215244Z
LAST-MODIFIED:20241122T215244Z
UID:14491-1733477400-1733481000@wayneseniorcenter.org
SUMMARY:Senior Circuit
DESCRIPTION:Join us for a dynamic strength-building\, full-body workout utilizing bands\, weights\, and balls as we cycle through various stations.
URL:https://wayneseniorcenter.org/event/senior-circuit-9/
END:VEVENT
END:VCALENDAR