BEGIN:VCALENDAR
VERSION:2.0
PRODID:-//Wayne Senior Center - ECPv6.15.20//NONSGML v1.0//EN
CALSCALE:GREGORIAN
METHOD:PUBLISH
X-WR-CALNAME:Wayne Senior Center
X-ORIGINAL-URL:https://wayneseniorcenter.org
X-WR-CALDESC:Events for Wayne Senior Center
REFRESH-INTERVAL;VALUE=DURATION:PT1H
X-Robots-Tag:noindex
X-PUBLISHED-TTL:PT1H
BEGIN:VTIMEZONE
TZID:UTC
BEGIN:STANDARD
TZOFFSETFROM:+0000
TZOFFSETTO:+0000
TZNAME:UTC
DTSTART:20220101T000000
END:STANDARD
END:VTIMEZONE
BEGIN:VEVENT
DTSTART;TZID=UTC:20231221T130000
DTEND;TZID=UTC:20231221T140000
DTSTAMP:20260421T172259
CREATED:20231128T203905Z
LAST-MODIFIED:20231128T204726Z
UID:12834-1703163600-1703167200@wayneseniorcenter.org
SUMMARY:Secret Santa - Gift Exchange! (In Center)
DESCRIPTION:The Wayne Senior Center will be hosting a Secret Santa game! Participants will be randomly assigned to a person whom they will present a gift\, or leave at the center to be picked up. You will complete a brief questionaire so that your secret Santa will learn a little more about you! Please visit or call the center to sign up!
URL:https://wayneseniorcenter.org/event/secret-santa-gift-exchange-in-center/
CATEGORIES:Social
ATTACH;FMTTYPE=image/png:https://wayneseniorcenter.org/wp-content/uploads/2023/11/1221-Secret-Santa.png
END:VEVENT
BEGIN:VEVENT
DTSTART;TZID=UTC:20231221T120000
DTEND;TZID=UTC:20231221T130000
DTSTAMP:20260421T172259
CREATED:20231128T203851Z
LAST-MODIFIED:20231128T204828Z
UID:12831-1703160000-1703163600@wayneseniorcenter.org
SUMMARY:December Birthday Lunch! (In Center)
DESCRIPTION:Join us to celebrate members who have birthdays this month! We will exchange cards\, sing songs\, and eat cake!
URL:https://wayneseniorcenter.org/event/december-birthday-lunch-in-center/
CATEGORIES:Social
END:VEVENT
BEGIN:VEVENT
DTSTART;TZID=UTC:20231221T110000
DTEND;TZID=UTC:20231221T120000
DTSTAMP:20260421T172259
CREATED:20231128T203851Z
LAST-MODIFIED:20231128T203851Z
UID:12832-1703156400-1703160000@wayneseniorcenter.org
SUMMARY:Sit\, Move\, Stretch (In Center)
DESCRIPTION:Gentle Movement\, stretching\, and relaxation. Free for WSC members\, $3 for non-members. RSVP by calling the center – (610) 688-6246
URL:https://wayneseniorcenter.org/event/sit-move-stretch-in-center-11/
CATEGORIES:Fitness
END:VEVENT
BEGIN:VEVENT
DTSTART;TZID=UTC:20231221T093000
DTEND;TZID=UTC:20231221T103000
DTSTAMP:20260421T172259
CREATED:20231128T203905Z
LAST-MODIFIED:20231128T203905Z
UID:12833-1703151000-1703154600@wayneseniorcenter.org
SUMMARY:Zumba Gold (In Center)
DESCRIPTION:Keep your body moving\, enjoy lively music\, and have fun dancing your cares away. $3 members / $6 non-members
URL:https://wayneseniorcenter.org/event/zumba-gold-in-center-11/
CATEGORIES:Fitness
END:VEVENT
BEGIN:VEVENT
DTSTART;TZID=UTC:20231221T090000
DTEND;TZID=UTC:20231221T110000
DTSTAMP:20260421T172259
CREATED:20231128T203850Z
LAST-MODIFIED:20231128T203850Z
UID:12829-1703149200-1703156400@wayneseniorcenter.org
SUMMARY:Blood Pressure Screenings (In Center)
DESCRIPTION:Are you trying to keep track of your blood pressure readings? Have questions about a medication or just need a listening ear? Stop by and speak 1:1 with a nurse.
URL:https://wayneseniorcenter.org/event/blood-pressure-screenings-in-center-7/
CATEGORIES:Life Enrichment
END:VEVENT
BEGIN:VEVENT
DTSTART;TZID=UTC:20231220T150000
DTEND;TZID=UTC:20231220T160000
DTSTAMP:20260421T172259
CREATED:20231128T203835Z
LAST-MODIFIED:20231128T203835Z
UID:12824-1703084400-1703088000@wayneseniorcenter.org
SUMMARY:Memoir Writing (Virtual)
DESCRIPTION:Join Sara Wenger\, MFA for a memoir writing workshop. Sara will share memoir excerpts as well as writing exercises to help you write your unique life experiences so they can be passed on to children\, grandchildren\, friends and others. No prior writing experience is necessary! The class is appropriate for both novice and seasoned writers
URL:https://wayneseniorcenter.org/event/memoir-writing-virtual-3/
CATEGORIES:Life Enrichment
END:VEVENT
BEGIN:VEVENT
DTSTART;TZID=UTC:20231220T120000
DTEND;TZID=UTC:20231220T140000
DTSTAMP:20260421T172259
CREATED:20231128T203836Z
LAST-MODIFIED:20231128T204744Z
UID:12826-1703073600-1703080800@wayneseniorcenter.org
SUMMARY:Pizza and a Movie: The Burial (In Center)
DESCRIPTION:Join us for a viewing of the film\, The Burial (2023)\, an American legal drama. It is loosely based on the true story of Willie E. Gary and his client Jeremiah Joseph O’Keefe’s lawsuit against Loewen funeral company\, as documented in the popular 1999 New Yorker article. $3 for WSC members\, $6 for non-members.
URL:https://wayneseniorcenter.org/event/pizza-and-a-movie-the-burial-in-center/
CATEGORIES:Social
ATTACH;FMTTYPE=image/png:https://wayneseniorcenter.org/wp-content/uploads/2023/11/1220-Pizza-Movie.png
END:VEVENT
BEGIN:VEVENT
DTSTART;TZID=UTC:20231220T110000
DTEND;TZID=UTC:20231220T120000
DTSTAMP:20260421T172259
CREATED:20231128T203850Z
LAST-MODIFIED:20231128T203850Z
UID:12828-1703070000-1703073600@wayneseniorcenter.org
SUMMARY:Tai Chi (In Center and Virtual)
DESCRIPTION:Tai Chi is a gentle form of exercise involving a series of graceful movements performed in a slow\, focused manner and accompanied by deep breathing. Excellent for strengthening balance and promoting stress reduction. In-Person fees – $5 for WSC members\, $10 for non-members.
URL:https://wayneseniorcenter.org/event/tai-chi-in-center-and-virtual-12/
CATEGORIES:Fitness
END:VEVENT
BEGIN:VEVENT
DTSTART;TZID=UTC:20231220T110000
DTEND;TZID=UTC:20231220T120000
DTSTAMP:20260421T172259
CREATED:20231128T203836Z
LAST-MODIFIED:20231128T203836Z
UID:12825-1703070000-1703073600@wayneseniorcenter.org
SUMMARY:Pageturners Bookclub (In Center)
DESCRIPTION:Book club returns! This month’s selection is “The Last Thing He Told Me” by Laura Dave. Enjoy lively book conversation with a Radnor Memorial Library librarian. All are welcome! Call for more info – (610)688-6246
URL:https://wayneseniorcenter.org/event/pageturners-bookclub-in-center-3/
CATEGORIES:Life Enrichment
END:VEVENT
BEGIN:VEVENT
DTSTART;TZID=UTC:20231220T100000
DTEND;TZID=UTC:20231220T110000
DTSTAMP:20260421T172259
CREATED:20231128T203836Z
LAST-MODIFIED:20231128T203836Z
UID:12827-1703066400-1703070000@wayneseniorcenter.org
SUMMARY:Strength and Cardio (Virtual)
DESCRIPTION:Move\, stretch\, and tone both seated and standing along with instructor Cathi from home. All abilities welcome!
URL:https://wayneseniorcenter.org/event/strength-and-cardio-virtual-12/
CATEGORIES:Fitness
END:VEVENT
BEGIN:VEVENT
DTSTART;TZID=UTC:20231220T100000
DTEND;TZID=UTC:20231220T110000
DTSTAMP:20260421T172259
CREATED:20231128T203835Z
LAST-MODIFIED:20231128T203835Z
UID:12823-1703066400-1703070000@wayneseniorcenter.org
SUMMARY:Coffee with Chaplains (In Center)
DESCRIPTION:Enjoy coffee\, pastries\, and meaningful discussion with a visiting Radnor Police Chaplain.
URL:https://wayneseniorcenter.org/event/coffee-with-chaplains-in-center-3/
CATEGORIES:Life Enrichment
END:VEVENT
BEGIN:VEVENT
DTSTART;TZID=UTC:20231219T130000
DTEND;TZID=UTC:20231219T143000
DTSTAMP:20260421T172259
CREATED:20231128T203821Z
LAST-MODIFIED:20231128T204819Z
UID:12822-1702990800-1702996200@wayneseniorcenter.org
SUMMARY:Holiday Travel - Google Maps (In Center)
DESCRIPTION:No matter your mode of transport\, prepare yourself for holiday travel in these two December tech workshops at WSC. Each session will include a workshop centered on that week’s topic and open time to discuss\, ask questions\, or help finalize your trip planning. Topics of further discussion can include\, but are certainly not limited to: accessing e-tickets\, using plane or train company apps\, booking hotel rooms\, finding fun things to do in a new place\, and more. \n12/12 Tue 1-230pm – Hail a Ride! (Lyft\, Uber\, etc)\nTips and tricks for using a ride-hailing service like Lyft or Uber. Book a ride on demand\, plan a ride ahead of time\, get rates without committing to booking a ride\, and more. \n12/19 Tue 1-230pm – Google Maps\nPlan your route using Google Maps and explore the various features and functions to customize your journey – add a stop along the way\, save important destinations to re-use later\, download a map to use without cell service\, and more.
URL:https://wayneseniorcenter.org/event/holiday-travel-google-maps-in-center/
CATEGORIES:Life Enrichment
ATTACH;FMTTYPE=image/png:https://wayneseniorcenter.org/wp-content/uploads/2023/11/1219-Google-Maps.png
END:VEVENT
BEGIN:VEVENT
DTSTART;TZID=UTC:20231219T123000
DTEND;TZID=UTC:20231219T130000
DTSTAMP:20260421T172259
CREATED:20231128T203821Z
LAST-MODIFIED:20231128T203821Z
UID:12820-1702989000-1702990800@wayneseniorcenter.org
SUMMARY:Mindfulness (In Center)
DESCRIPTION:Practicing mindfulness provides countless benefits to our overall well-being. Join instructor Liz for an hour of virtual mindfulness.
URL:https://wayneseniorcenter.org/event/mindfulness-in-center-4/
CATEGORIES:Health and Wellness
END:VEVENT
BEGIN:VEVENT
DTSTART;TZID=UTC:20231219T120000
DTEND;TZID=UTC:20231219T130000
DTSTAMP:20260421T172259
CREATED:20231128T203820Z
LAST-MODIFIED:20231128T203820Z
UID:12819-1702987200-1702990800@wayneseniorcenter.org
SUMMARY:Let's Do Lunch! -Wrap it up! (In Center)
DESCRIPTION:Let’s do lunch together in the Center! Continuing with the principles of the Blue Zone\, we enjoy the bounty of the season this month with roasted soups\, roasted and toasted salads (featuring a different great grain each week)\, and a sweet treat from The Blue Zone Cookbook. Enjoy an additional healthy crafter option from our very own kitchen. The menu will change weekly. $5 for members\, $8 for non-members. Call for more information and to reserve a meal\, limited servings available – (610)688-6246
URL:https://wayneseniorcenter.org/event/lets-do-lunch-wrap-it-up-in-center-2/
CATEGORIES:Social
END:VEVENT
BEGIN:VEVENT
DTSTART;TZID=UTC:20231219T110000
DTEND;TZID=UTC:20231219T130000
DTSTAMP:20260421T172259
CREATED:20231128T203821Z
LAST-MODIFIED:20231128T203821Z
UID:12821-1702983600-1702990800@wayneseniorcenter.org
SUMMARY:Tech Tuesday (In Center)
DESCRIPTION:Tuesdays from 11am – 1pm stop in to chat Technology. Stop by between programs\, after grabbing some lunch\, or whenever is convenient for you. Bring specific questions about your device or come in to explore Wayne Senior Center iPads in a no-pressure environment. Or\, come by to share recent accomplishments or knowledge you’d like to share with others\, or just stop in to say hi and learn something new. Stop by during this time or email Francis at francis@wayneseniorcenter.org to make an appointment.
URL:https://wayneseniorcenter.org/event/tech-tuesday-in-center-10/
CATEGORIES:Life Enrichment
END:VEVENT
BEGIN:VEVENT
DTSTART;TZID=UTC:20231219T110000
DTEND;TZID=UTC:20231219T120000
DTSTAMP:20260421T172259
CREATED:20231128T203820Z
LAST-MODIFIED:20231128T203820Z
UID:12818-1702983600-1702987200@wayneseniorcenter.org
SUMMARY:Sit\, Move\, Stretch (In Center and Virtual)
DESCRIPTION:This class offers seated or standing: cardio movement\, strengthening\, deep breathing\, and stretching. In-Person fees – free for WSC members\, $3 for non-members.
URL:https://wayneseniorcenter.org/event/sit-move-stretch-in-center-and-virtual-10/
CATEGORIES:Fitness
END:VEVENT
BEGIN:VEVENT
DTSTART;TZID=UTC:20231218T130000
DTEND;TZID=UTC:20231218T140000
DTSTAMP:20260421T172259
CREATED:20231128T203725Z
LAST-MODIFIED:20231128T203725Z
UID:12815-1702904400-1702908000@wayneseniorcenter.org
SUMMARY:Strength and Balance (Virtual)
DESCRIPTION:Move\, stretch\, and improve your balance\, both seated and standing\, along with instructor Cathi from home. All abilities welcome!
URL:https://wayneseniorcenter.org/event/strength-and-balance-virtual-12/
CATEGORIES:Fitness
END:VEVENT
BEGIN:VEVENT
DTSTART;TZID=UTC:20231218T130000
DTEND;TZID=UTC:20231218T140000
DTSTAMP:20260421T172259
CREATED:20231128T203725Z
LAST-MODIFIED:20231128T203725Z
UID:12817-1702904400-1702908000@wayneseniorcenter.org
SUMMARY:Holiday Photo Craft (In Center)
DESCRIPTION:Use a variety of craft materials to create your own photo scrapbook or picture frame for the holidays! You may bring your own photos or letters to adorn\, or find some here with us!
URL:https://wayneseniorcenter.org/event/holiday-photo-craft-in-center/
CATEGORIES:Life Enrichment
END:VEVENT
BEGIN:VEVENT
DTSTART;TZID=UTC:20231218T100000
DTEND;TZID=UTC:20231218T120000
DTSTAMP:20260421T172259
CREATED:20231128T203725Z
LAST-MODIFIED:20231128T203725Z
UID:12814-1702893600-1702900800@wayneseniorcenter.org
SUMMARY:Refresher Bridge (In Center)
DESCRIPTION:Brush up on your bridge skills with Lawrie Stetson and Dave Heron. Must have previous bridge experience.
URL:https://wayneseniorcenter.org/event/refresher-bridge-in-center-12/
CATEGORIES:Social
END:VEVENT
BEGIN:VEVENT
DTSTART;TZID=UTC:20231218T100000
DTEND;TZID=UTC:20231218T120000
DTSTAMP:20260421T172259
CREATED:20231128T203725Z
LAST-MODIFIED:20231128T203725Z
UID:12816-1702893600-1702900800@wayneseniorcenter.org
SUMMARY:WSC Quilters (In Center)
DESCRIPTION:WSC quiliting club. All skill levels Welcome. Come by or RSVP by calling the center – (610) 688-6246
URL:https://wayneseniorcenter.org/event/wsc-quilters-in-center-12/
CATEGORIES:Social
END:VEVENT
BEGIN:VEVENT
DTSTART;TZID=UTC:20231218T100000
DTEND;TZID=UTC:20231218T110000
DTSTAMP:20260421T172259
CREATED:20231128T203724Z
LAST-MODIFIED:20231128T203724Z
UID:12813-1702893600-1702897200@wayneseniorcenter.org
SUMMARY:Brain Games (In Center)
DESCRIPTION:Exercise your brain and work through word games\, word scrambles and brain teasers.
URL:https://wayneseniorcenter.org/event/brain-games-in-center-12/
CATEGORIES:Life Enrichment
END:VEVENT
BEGIN:VEVENT
DTSTART;TZID=UTC:20231215T113000
DTEND;TZID=UTC:20231215T123000
DTSTAMP:20260421T172259
CREATED:20231128T203710Z
LAST-MODIFIED:20231128T203710Z
UID:12812-1702639800-1702643400@wayneseniorcenter.org
SUMMARY:Trivia (Virtual)
DESCRIPTION:Test your knowledge through general trivia questions and puzzles.
URL:https://wayneseniorcenter.org/event/trivia-virtual-2/
CATEGORIES:Life Enrichment
END:VEVENT
BEGIN:VEVENT
DTSTART;TZID=UTC:20231215T103000
DTEND;TZID=UTC:20231215T113000
DTSTAMP:20260421T172259
CREATED:20231128T203710Z
LAST-MODIFIED:20231128T203710Z
UID:12811-1702636200-1702639800@wayneseniorcenter.org
SUMMARY:Chair Yoga (In Person and Virtual)
DESCRIPTION:A well-rounded class that will help with balance\, strengthening\, and relaxation. Have a sturdy chair available. All abilities welcome. In-Person fees – $3 for WSC members\, $6 for non-members.
URL:https://wayneseniorcenter.org/event/chair-yoga-in-person-and-virtual-6/
CATEGORIES:Fitness
END:VEVENT
BEGIN:VEVENT
DTSTART;TZID=UTC:20231214T130000
DTEND;TZID=UTC:20231214T150000
DTSTAMP:20260421T172259
CREATED:20231128T203519Z
LAST-MODIFIED:20231128T203519Z
UID:12806-1702558800-1702566000@wayneseniorcenter.org
SUMMARY:Cards and Games: Open Play (In Center)
DESCRIPTION:Join us for an afternoon playing games of your choice- Poker\, gin rummy\, pinochle\, mahjong etc. Meet a new friend and start a game of your own. Mahjong teachers/leaders feel free to bring your game set!
URL:https://wayneseniorcenter.org/event/cards-and-games-open-play-in-center-10/
CATEGORIES:Social
END:VEVENT
BEGIN:VEVENT
DTSTART;TZID=UTC:20231214T120000
DTEND;TZID=UTC:20231214T130000
DTSTAMP:20260421T172259
CREATED:20231128T203709Z
LAST-MODIFIED:20231128T203709Z
UID:12809-1702555200-1702558800@wayneseniorcenter.org
SUMMARY:The Men's Group (In Center)
DESCRIPTION:From family stories\, thoughts on retirement\, to the news and a good joke\, come enjoy the company of other men! This men’s only meeting is an opportunity to chat about whatever is on your mind. You may enjoy the Center lunch or bring your own if you wish. Drinks and dessert will be provided.
URL:https://wayneseniorcenter.org/event/the-mens-group-in-center-2/
CATEGORIES:Social
END:VEVENT
BEGIN:VEVENT
DTSTART;TZID=UTC:20231214T110000
DTEND;TZID=UTC:20231214T120000
DTSTAMP:20260421T172259
CREATED:20231128T203519Z
LAST-MODIFIED:20231128T203519Z
UID:12807-1702551600-1702555200@wayneseniorcenter.org
SUMMARY:Sit\, Move\, Stretch (In Center)
DESCRIPTION:Gentle Movement\, stretching\, and relaxation. Free for WSC members\, $3 for non-members. RSVP by calling the center – (610) 688-6246
URL:https://wayneseniorcenter.org/event/sit-move-stretch-in-center-10/
CATEGORIES:Fitness
END:VEVENT
BEGIN:VEVENT
DTSTART;TZID=UTC:20231214T101500
DTEND;TZID=UTC:20231214T110000
DTSTAMP:20260421T172259
CREATED:20231128T203709Z
LAST-MODIFIED:20231128T203709Z
UID:12808-1702548900-1702551600@wayneseniorcenter.org
SUMMARY:Holiday Trivia (In Center)
DESCRIPTION:Join us for some friendly competition with some holiday-themed trivia. We will cover a variety of topics including fun facts about winter customs both here and around the world!
URL:https://wayneseniorcenter.org/event/holiday-trivia-in-center/
CATEGORIES:Life Enrichment
END:VEVENT
BEGIN:VEVENT
DTSTART;TZID=UTC:20231214T093000
DTEND;TZID=UTC:20231214T103000
DTSTAMP:20260421T172259
CREATED:20231128T203709Z
LAST-MODIFIED:20231128T203709Z
UID:12810-1702546200-1702549800@wayneseniorcenter.org
SUMMARY:Zumba Gold (In Center)
DESCRIPTION:Keep your body moving\, enjoy lively music\, and have fun dancing your cares away. $3 members / $6 non-members
URL:https://wayneseniorcenter.org/event/zumba-gold-in-center-10/
CATEGORIES:Fitness
END:VEVENT
BEGIN:VEVENT
DTSTART;TZID=UTC:20231213T120000
DTEND;TZID=UTC:20231213T130000
DTSTAMP:20260421T172259
CREATED:20231128T203519Z
LAST-MODIFIED:20231128T205148Z
UID:12805-1702468800-1702472400@wayneseniorcenter.org
SUMMARY:Holiday Lunch & Concert (In Center)
DESCRIPTION:The luncheon will include a delicious dinner with mixed greens salad\, stuffed shells\, pasta with broccoli\, dessert\, and sparkling apple cider. We are thrilled that this special meal will be served by the Valley Forge military cadets. The lunch will be followed by live entertainment featuring a piano and vocal performance. $6 for members\, $10 for non-members. RSVP by December 7th
URL:https://wayneseniorcenter.org/event/holiday-lunch-in-center/
CATEGORIES:Social
ATTACH;FMTTYPE=image/png:https://wayneseniorcenter.org/wp-content/uploads/2023/11/1213-Holiday-Party.png
END:VEVENT
BEGIN:VEVENT
DTSTART;TZID=UTC:20231213T110000
DTEND;TZID=UTC:20231213T120000
DTSTAMP:20260421T172259
CREATED:20231128T203518Z
LAST-MODIFIED:20231128T203518Z
UID:12804-1702465200-1702468800@wayneseniorcenter.org
SUMMARY:Tai Chi (In Center and Virtual)
DESCRIPTION:Tai Chi is a gentle form of exercise involving a series of graceful movements performed in a slow\, focused manner and accompanied by deep breathing. Excellent for strengthening balance and promoting stress reduction. In-Person fees – $5 for WSC members\, $10 for non-members.
URL:https://wayneseniorcenter.org/event/tai-chi-in-center-and-virtual-11/
CATEGORIES:Fitness
END:VEVENT
END:VCALENDAR