BEGIN:VCALENDAR
VERSION:2.0
PRODID:-//Wayne Senior Center - ECPv6.15.20//NONSGML v1.0//EN
CALSCALE:GREGORIAN
METHOD:PUBLISH
X-ORIGINAL-URL:https://wayneseniorcenter.org
X-WR-CALDESC:Events for Wayne Senior Center
REFRESH-INTERVAL;VALUE=DURATION:PT1H
X-Robots-Tag:noindex
X-PUBLISHED-TTL:PT1H
BEGIN:VTIMEZONE
TZID:UTC
BEGIN:STANDARD
TZOFFSETFROM:+0000
TZOFFSETTO:+0000
TZNAME:UTC
DTSTART:20240101T000000
END:STANDARD
END:VTIMEZONE
BEGIN:VEVENT
DTSTART;TZID=UTC:20251216T123000
DTEND;TZID=UTC:20251216T133000
DTSTAMP:20260423T230619
CREATED:20251126T193340Z
LAST-MODIFIED:20251126T193340Z
UID:16247-1765888200-1765891800@wayneseniorcenter.org
SUMMARY:Mindfulness
DESCRIPTION:Practicing mindfulness provides countless benefits to our overall well-being. Join instructor Liz for an hour of virtual mindfulness.
URL:https://wayneseniorcenter.org/event/mindfulness-58/
END:VEVENT
BEGIN:VEVENT
DTSTART;TZID=UTC:20251217T100000
DTEND;TZID=UTC:20251217T110000
DTSTAMP:20260423T230619
CREATED:20251126T193405Z
LAST-MODIFIED:20251126T193405Z
UID:16253-1765965600-1765969200@wayneseniorcenter.org
SUMMARY:Podcast and Discussion
DESCRIPTION:Join us as we listen to a short\, thought-provoking podcast together\, followed by a friendly group discussion. The podcast we will be listening to is Cabinet of Curiosities. This is a great way to learn something new and share your thoughts in good company!
URL:https://wayneseniorcenter.org/event/podcast-and-discussion-3/
END:VEVENT
BEGIN:VEVENT
DTSTART;TZID=UTC:20251217T100000
DTEND;TZID=UTC:20251217T110000
DTSTAMP:20260423T230619
CREATED:20251126T193408Z
LAST-MODIFIED:20251126T194720Z
UID:16254-1765965600-1765969200@wayneseniorcenter.org
SUMMARY:Holiday Lunch with Live Music
DESCRIPTION:Celebrate the season with us! Enjoy a festive\, delicious meal and enjoy live entertainment by Billy and Kat as they fill the room with your favorite holiday melodies and more. $8 members\, $12 non-members. RSVP and pay by December 12th
URL:https://wayneseniorcenter.org/event/holiday-lunch-with-live-music/
ATTACH;FMTTYPE=image/png:https://wayneseniorcenter.org/wp-content/uploads/2025/11/1217-Holiday-Lunch.png
END:VEVENT
BEGIN:VEVENT
DTSTART;TZID=UTC:20251217T110000
DTEND;TZID=UTC:20251217T120000
DTSTAMP:20260423T230619
CREATED:20251126T193358Z
LAST-MODIFIED:20251126T193358Z
UID:16251-1765969200-1765972800@wayneseniorcenter.org
SUMMARY:Pageturner's Bookclub
DESCRIPTION:Enjoy lively book conversation with a Radnor Memorial Library librarian. All are welcome! We will be discussing The Safekeep by Yael van der Wouden. In 1961\, in the Dutch countryside\, Isabel lives by routine and discipline until her brother leaves his graceless girlfriend Eva on her doorstep. As Eva disresprects her house\, Isabel develops a fury-fueled obsession giving way to infatuation\, leading to a discovery that unravels as she has ever known.
URL:https://wayneseniorcenter.org/event/pageturners-bookclub-15/
END:VEVENT
BEGIN:VEVENT
DTSTART;TZID=UTC:20251217T140000
DTEND;TZID=UTC:20251217T140000
DTSTAMP:20260423T230619
CREATED:20251126T193401Z
LAST-MODIFIED:20251126T193401Z
UID:16252-1765980000-1765980000@wayneseniorcenter.org
SUMMARY:Tai Chi
DESCRIPTION:Tai Chi is a gentle form of exercise involving a series of graceful movements performed in a slow\, focused manner and accompanied by deep breathing. Excellent for strengthening balance and promoting stress reduction. In-Person fees – $5 for WSC members\, $10 for non-members.
URL:https://wayneseniorcenter.org/event/tai-chi-70/
END:VEVENT
BEGIN:VEVENT
DTSTART;TZID=UTC:20251218T100000
DTEND;TZID=UTC:20251218T110000
DTSTAMP:20260423T230619
CREATED:20251126T193535Z
LAST-MODIFIED:20251126T193535Z
UID:16258-1766052000-1766055600@wayneseniorcenter.org
SUMMARY:True or False Holiday Trivia
DESCRIPTION:Test your seasonal smarts with a fun round of true-or-false holiday trivia! Enjoy friendly competition\, festives facts\, and plenty of laughs as we celebrate the season together.
URL:https://wayneseniorcenter.org/event/true-or-false-holiday-trivia/
END:VEVENT
BEGIN:VEVENT
DTSTART;TZID=UTC:20251218T110000
DTEND;TZID=UTC:20251218T120000
DTSTAMP:20260423T230619
CREATED:20251126T193532Z
LAST-MODIFIED:20251126T193532Z
UID:16257-1766055600-1766059200@wayneseniorcenter.org
SUMMARY:Sit\, Move\, Stretch
DESCRIPTION:This class offers seated or standing: cardio movement\, strengthening\, deep breathing\, and stretching. In-Person fees – free for WSC members\, $3 for non-members.
URL:https://wayneseniorcenter.org/event/sit-move-stretch-114/
END:VEVENT
BEGIN:VEVENT
DTSTART;TZID=UTC:20251218T120000
DTEND;TZID=UTC:20251218T130000
DTSTAMP:20260423T230619
CREATED:20251126T193529Z
LAST-MODIFIED:20251126T193529Z
UID:16256-1766059200-1766062800@wayneseniorcenter.org
SUMMARY:Men's Group
DESCRIPTION:Catch up with friends over lunch and discuss topics related to men’s lives – hobbies\, family stories\, retirement\, career reflections\, mental & physical health\, or whatever else is on your mind. Call to reserve a Center lunch\, bring your own\, or just stop by to chat.
URL:https://wayneseniorcenter.org/event/mens-group-10/
END:VEVENT
BEGIN:VEVENT
DTSTART;TZID=UTC:20251218T123000
DTEND;TZID=UTC:20251218T140000
DTSTAMP:20260423T230619
CREATED:20251126T193525Z
LAST-MODIFIED:20251126T193525Z
UID:16255-1766061000-1766066400@wayneseniorcenter.org
SUMMARY:Cards and Games: Open Play
DESCRIPTION:Join us for an afternoon playing games of your choice- Poker\, gin rummy\, pinochle\, mahjong etc. Meet a new friend and start a game of your own. Mahjong teachers/leaders feel free to bring your game set!
URL:https://wayneseniorcenter.org/event/cards-and-games-open-play-61/
END:VEVENT
BEGIN:VEVENT
DTSTART;TZID=UTC:20251218T123000
DTEND;TZID=UTC:20251218T140000
DTSTAMP:20260423T230619
CREATED:20251126T193537Z
LAST-MODIFIED:20251126T194533Z
UID:16259-1766061000-1766066400@wayneseniorcenter.org
SUMMARY:Holiday Classic Movie and Cookies
DESCRIPTION:Join us for cookies and Home Alone!
URL:https://wayneseniorcenter.org/event/holiday-classic-movie-and-cookies/
ATTACH;FMTTYPE=image/png:https://wayneseniorcenter.org/wp-content/uploads/2025/11/1218-Classic-Movie.png
END:VEVENT
BEGIN:VEVENT
DTSTART;TZID=UTC:20251219T093000
DTEND;TZID=UTC:20251219T103000
DTSTAMP:20260423T230619
CREATED:20251126T193550Z
LAST-MODIFIED:20251126T193550Z
UID:16261-1766136600-1766140200@wayneseniorcenter.org
SUMMARY:Senior Circuit
DESCRIPTION:Join us for a dynamic strength-building\, full-body workout utilizing bands\, weights\, and balls as we cycle through various stations.
URL:https://wayneseniorcenter.org/event/senior-circuit-57/
END:VEVENT
BEGIN:VEVENT
DTSTART;TZID=UTC:20251219T103000
DTEND;TZID=UTC:20251219T113000
DTSTAMP:20260423T230619
CREATED:20251126T193546Z
LAST-MODIFIED:20251126T193546Z
UID:16260-1766140200-1766143800@wayneseniorcenter.org
SUMMARY:Chair Yoga
DESCRIPTION:A well-rounded class that will help with balance\, strengthening\, and relaxation. Have a sturdy chair available. All abilities welcome. In-Person fees – $3 for WSC members\, $6 for non-members.
URL:https://wayneseniorcenter.org/event/chair-yoga-59/
END:VEVENT
BEGIN:VEVENT
DTSTART;TZID=UTC:20251222T100000
DTEND;TZID=UTC:20251222T110000
DTSTAMP:20260423T230619
CREATED:20251126T193555Z
LAST-MODIFIED:20251126T193555Z
UID:16263-1766397600-1766401200@wayneseniorcenter.org
SUMMARY:Silver Sneakers Classic
DESCRIPTION:Focus on strengthening muscles and increasing range of motion using light weights\, stretch bands\, and exercise balls.
URL:https://wayneseniorcenter.org/event/silver-sneakers-classic-116/
END:VEVENT
BEGIN:VEVENT
DTSTART;TZID=UTC:20251222T100000
DTEND;TZID=UTC:20251222T120000
DTSTAMP:20260423T230619
CREATED:20251126T193553Z
LAST-MODIFIED:20251126T193553Z
UID:16262-1766397600-1766404800@wayneseniorcenter.org
SUMMARY:Refresher Bridge
DESCRIPTION:Brush up on your bridge skills with friends. Must have previous bridge experience.
URL:https://wayneseniorcenter.org/event/refresher-bridge-59/
END:VEVENT
BEGIN:VEVENT
DTSTART;TZID=UTC:20251222T100000
DTEND;TZID=UTC:20251222T120000
DTSTAMP:20260423T230619
CREATED:20251126T193606Z
LAST-MODIFIED:20251126T193606Z
UID:16265-1766397600-1766404800@wayneseniorcenter.org
SUMMARY:WSC Quilters
DESCRIPTION:WSC quiliting club. All skill levels Welcome. Come by or RSVP by calling the center – (610) 688-6246
URL:https://wayneseniorcenter.org/event/wsc-quilters-59/
END:VEVENT
BEGIN:VEVENT
DTSTART;TZID=UTC:20251222T110000
DTEND;TZID=UTC:20251222T120000
DTSTAMP:20260423T230619
CREATED:20251126T193558Z
LAST-MODIFIED:20251126T193558Z
UID:16264-1766401200-1766404800@wayneseniorcenter.org
SUMMARY:Soul Line Dancing
DESCRIPTION:Kenny James will get you moving and grooving in a fun\, easy to learn dance class. No experience necessary – all can join. $3 members / $6 non-members.
URL:https://wayneseniorcenter.org/event/soul-line-dancing-94/
END:VEVENT
BEGIN:VEVENT
DTSTART;TZID=UTC:20251222T130000
DTEND;TZID=UTC:20251222T160000
DTSTAMP:20260423T230619
CREATED:20251126T193608Z
LAST-MODIFIED:20251126T193608Z
UID:16266-1766408400-1766419200@wayneseniorcenter.org
SUMMARY:CENTER CLOSED AT 1:00PM!
DESCRIPTION:Center closed today at 1:00pm!
URL:https://wayneseniorcenter.org/event/center-closed-at-100pm/
END:VEVENT
BEGIN:VEVENT
DTSTART;TZID=UTC:20251223T090000
DTEND;TZID=UTC:20251223T110000
DTSTAMP:20260423T230619
CREATED:20251126T193616Z
LAST-MODIFIED:20251126T193616Z
UID:16269-1766480400-1766487600@wayneseniorcenter.org
SUMMARY:Tech Tuesday
DESCRIPTION:Stop by during this time with your tech questions or email Francis at francis@wayneseniorcenter.org to make an appointment. Some Tuesdays will feature a workshop on a certain topic starting at 10am.
URL:https://wayneseniorcenter.org/event/tech-tuesday-43/
END:VEVENT
BEGIN:VEVENT
DTSTART;TZID=UTC:20251223T101500
DTEND;TZID=UTC:20251223T110000
DTSTAMP:20260423T230619
CREATED:20251126T193624Z
LAST-MODIFIED:20251126T193624Z
UID:16270-1766484900-1766487600@wayneseniorcenter.org
SUMMARY:Live Holiday Music with Bach to Rock
DESCRIPTION:Celebrate the season with Bach to Rock’s live music! A quick\, joyful\, performance to get everyone feeling festive and ready for the holidays.
URL:https://wayneseniorcenter.org/event/live-holiday-music-with-bach-to-rock/
END:VEVENT
BEGIN:VEVENT
DTSTART;TZID=UTC:20251223T110000
DTEND;TZID=UTC:20251223T120000
DTSTAMP:20260423T230619
CREATED:20251126T193613Z
LAST-MODIFIED:20251126T193613Z
UID:16268-1766487600-1766491200@wayneseniorcenter.org
SUMMARY:Sit\, Move\, Stretch
DESCRIPTION:This class offers seated or standing: cardio movement\, strengthening\, deep breathing\, and stretching. In-Person fees – free for WSC members\, $3 for non-members.
URL:https://wayneseniorcenter.org/event/sit-move-stretch-115/
END:VEVENT
BEGIN:VEVENT
DTSTART;TZID=UTC:20251223T123000
DTEND;TZID=UTC:20251223T133000
DTSTAMP:20260423T230619
CREATED:20251126T193611Z
LAST-MODIFIED:20251126T193611Z
UID:16267-1766493000-1766496600@wayneseniorcenter.org
SUMMARY:Mindfulness
DESCRIPTION:Practicing mindfulness provides countless benefits to our overall well-being. Join instructor Liz for an hour of virtual mindfulness.
URL:https://wayneseniorcenter.org/event/mindfulness-59/
END:VEVENT
BEGIN:VEVENT
DTSTART;TZID=UTC:20251224T100000
DTEND;TZID=UTC:20251224T110000
DTSTAMP:20260423T230619
CREATED:20251126T193627Z
LAST-MODIFIED:20251126T193627Z
UID:16271-1766570400-1766574000@wayneseniorcenter.org
SUMMARY:Coffee Talk with Radnor Police Chaplain
DESCRIPTION:Enjoy coffee\, pastries\, and meaningful discussion with a visiting Radnor Police Chaplain.
URL:https://wayneseniorcenter.org/event/coffee-talk-with-radnor-police-chaplain-15/
END:VEVENT
BEGIN:VEVENT
DTSTART;TZID=UTC:20251224T111500
DTEND;TZID=UTC:20251224T120000
DTSTAMP:20260423T230619
CREATED:20251126T193630Z
LAST-MODIFIED:20251126T193630Z
UID:16272-1766574900-1766577600@wayneseniorcenter.org
SUMMARY:Soul Line Dancing
DESCRIPTION:Kenny James will get you moving and grooving in a fun\, easy to learn dance class. No experience necessary – all can join. $3 members / $6 non-members.
URL:https://wayneseniorcenter.org/event/soul-line-dancing-95/
END:VEVENT
BEGIN:VEVENT
DTSTART;TZID=UTC:20251224T130000
DTEND;TZID=UTC:20251224T160000
DTSTAMP:20260423T230619
CREATED:20251126T193633Z
LAST-MODIFIED:20251126T194618Z
UID:16273-1766581200-1766592000@wayneseniorcenter.org
SUMMARY:CENTER CLOSED AT 1:00PM!
DESCRIPTION:Center closed today at 1:00pm!
URL:https://wayneseniorcenter.org/event/center-closed-at-100pm-2/
ATTACH;FMTTYPE=image/png:https://wayneseniorcenter.org/wp-content/uploads/2025/11/1225-Holiday-Closure.png
END:VEVENT
BEGIN:VEVENT
DTSTART;TZID=UTC:20260102T093000
DTEND;TZID=UTC:20260102T103000
DTSTAMP:20260423T230619
CREATED:20251217T200403Z
LAST-MODIFIED:20251217T200403Z
UID:16311-1767346200-1767349800@wayneseniorcenter.org
SUMMARY:Senior Circuit
DESCRIPTION:Join us for a dynamic strength-building\, full-body workout utilizing bands\, weights\, and balls as we cycle through various stations.
URL:https://wayneseniorcenter.org/event/senior-circuit-58/
END:VEVENT
BEGIN:VEVENT
DTSTART;TZID=UTC:20260102T103000
DTEND;TZID=UTC:20260102T113000
DTSTAMP:20260423T230619
CREATED:20251217T200401Z
LAST-MODIFIED:20251217T200401Z
UID:16310-1767349800-1767353400@wayneseniorcenter.org
SUMMARY:Chair Yoga
DESCRIPTION:A well-rounded class that will help with balance\, strengthening\, and relaxation. Have a sturdy chair available. All abilities welcome. In-Person fees – $3 for WSC members\, $6 for non-members.
URL:https://wayneseniorcenter.org/event/chair-yoga-60/
END:VEVENT
BEGIN:VEVENT
DTSTART;TZID=UTC:20260105T100000
DTEND;TZID=UTC:20260105T110000
DTSTAMP:20260423T230619
CREATED:20251217T200405Z
LAST-MODIFIED:20251217T200405Z
UID:16313-1767607200-1767610800@wayneseniorcenter.org
SUMMARY:Silver Sneakers Classic
DESCRIPTION:Focus on strengthening muscles and increasing range of motion using light weights\, stretch bands\, and exercise balls.
URL:https://wayneseniorcenter.org/event/silver-sneakers-classic-117/
END:VEVENT
BEGIN:VEVENT
DTSTART;TZID=UTC:20260105T100000
DTEND;TZID=UTC:20260105T120000
DTSTAMP:20260423T230619
CREATED:20251217T200404Z
LAST-MODIFIED:20251217T200404Z
UID:16312-1767607200-1767614400@wayneseniorcenter.org
SUMMARY:Refresher Bridge
DESCRIPTION:Brush up on your bridge skills with friends. Must have previous bridge experience.
URL:https://wayneseniorcenter.org/event/refresher-bridge-60/
END:VEVENT
BEGIN:VEVENT
DTSTART;TZID=UTC:20260105T100000
DTEND;TZID=UTC:20260105T120000
DTSTAMP:20260423T230619
CREATED:20251217T200414Z
LAST-MODIFIED:20251217T200414Z
UID:16315-1767607200-1767614400@wayneseniorcenter.org
SUMMARY:WSC Quilters
DESCRIPTION:WSC quiliting club. All skill levels Welcome. Come by or RSVP by calling the center – (610) 688-6246
URL:https://wayneseniorcenter.org/event/wsc-quilters-60/
END:VEVENT
BEGIN:VEVENT
DTSTART;TZID=UTC:20260105T110000
DTEND;TZID=UTC:20260105T120000
DTSTAMP:20260423T230619
CREATED:20251217T200407Z
LAST-MODIFIED:20251217T200407Z
UID:16314-1767610800-1767614400@wayneseniorcenter.org
SUMMARY:Soul Line Dancing
DESCRIPTION:Kenny James will get you moving and grooving in a fun\, easy to learn dance class. No experience necessary – all can join. $3 members / $6 non-members.
URL:https://wayneseniorcenter.org/event/soul-line-dancing-96/
END:VEVENT
END:VCALENDAR