BEGIN:VCALENDAR
VERSION:2.0
PRODID:-//Wayne Senior Center - ECPv6.15.20//NONSGML v1.0//EN
CALSCALE:GREGORIAN
METHOD:PUBLISH
X-WR-CALNAME:Wayne Senior Center
X-ORIGINAL-URL:https://wayneseniorcenter.org
X-WR-CALDESC:Events for Wayne Senior Center
REFRESH-INTERVAL;VALUE=DURATION:PT1H
X-Robots-Tag:noindex
X-PUBLISHED-TTL:PT1H
BEGIN:VTIMEZONE
TZID:UTC
BEGIN:STANDARD
TZOFFSETFROM:+0000
TZOFFSETTO:+0000
TZNAME:UTC
DTSTART:20240101T000000
END:STANDARD
END:VTIMEZONE
BEGIN:VEVENT
DTSTART;TZID=UTC:20251120T093000
DTEND;TZID=UTC:20251120T104500
DTSTAMP:20260423T230224
CREATED:20251029T125711Z
LAST-MODIFIED:20251029T125711Z
UID:16156-1763631000-1763635500@wayneseniorcenter.org
SUMMARY:Fresh Start
DESCRIPTION:Join us for Fresh Start—our new\, nutritious and delicious breakfast program! Breakfast will be served every Tuesday and Thursdayfrom 9:30 AM to 10:45 AM. Cost is $3.\nMeals are available on a first-come\, first-served basis\, so be sure to arrive early!\n Please note: the menu is subject to change.
URL:https://wayneseniorcenter.org/event/fresh-start-44/
END:VEVENT
BEGIN:VEVENT
DTSTART;TZID=UTC:20251120T101500
DTEND;TZID=UTC:20251120T110000
DTSTAMP:20260423T230224
CREATED:20251029T125709Z
LAST-MODIFIED:20251029T125709Z
UID:16155-1763633700-1763636400@wayneseniorcenter.org
SUMMARY:DIY Craft: Pressed Fall Leaves Bookmark
DESCRIPTION:Create a touch of Autumn beauty with our DIY pressed fall leaves bookmark craft! A fun\, easy project that captures the colors of the season.
URL:https://wayneseniorcenter.org/event/diy-craft-pressed-fall-leaves-bookmark/
END:VEVENT
BEGIN:VEVENT
DTSTART;TZID=UTC:20251120T110000
DTEND;TZID=UTC:20251120T120000
DTSTAMP:20260423T230224
CREATED:20251029T125713Z
LAST-MODIFIED:20251029T125713Z
UID:16157-1763636400-1763640000@wayneseniorcenter.org
SUMMARY:Sit\, Move\, Stretch
DESCRIPTION:This class offers seated or standing: cardio movement\, strengthening\, deep breathing\, and stretching. In-Person fees – free for WSC members\, $3 for non-members.
URL:https://wayneseniorcenter.org/event/sit-move-stretch-107/
END:VEVENT
BEGIN:VEVENT
DTSTART;TZID=UTC:20251120T130000
DTEND;TZID=UTC:20251120T150000
DTSTAMP:20260423T230224
CREATED:20251029T125701Z
LAST-MODIFIED:20251029T125701Z
UID:16154-1763643600-1763650800@wayneseniorcenter.org
SUMMARY:Cards and Games: Open Play
DESCRIPTION:Join us for an afternoon playing games of your choice- Poker\, gin rummy\, pinochle\, mahjong etc. Meet a new friend and start a game of your own. Mahjong teachers/leaders feel free to bring your game set!
URL:https://wayneseniorcenter.org/event/cards-and-games-open-play-58/
END:VEVENT
BEGIN:VEVENT
DTSTART;TZID=UTC:20251121T093000
DTEND;TZID=UTC:20251121T103000
DTSTAMP:20260423T230224
CREATED:20251029T125716Z
LAST-MODIFIED:20251029T125716Z
UID:16159-1763717400-1763721000@wayneseniorcenter.org
SUMMARY:Senior Circuit
DESCRIPTION:Join us for a dynamic strength-building\, full-body workout utilizing bands\, weights\, and balls as we cycle through various stations.
URL:https://wayneseniorcenter.org/event/senior-circuit-54/
END:VEVENT
BEGIN:VEVENT
DTSTART;TZID=UTC:20251121T103000
DTEND;TZID=UTC:20251121T113000
DTSTAMP:20260423T230224
CREATED:20251029T125714Z
LAST-MODIFIED:20251029T125714Z
UID:16158-1763721000-1763724600@wayneseniorcenter.org
SUMMARY:Chair Yoga
DESCRIPTION:A well-rounded class that will help with balance\, strengthening\, and relaxation. Have a sturdy chair available. All abilities welcome. In-Person fees – $3 for WSC members\, $6 for non-members.
URL:https://wayneseniorcenter.org/event/chair-yoga-56/
END:VEVENT
BEGIN:VEVENT
DTSTART;TZID=UTC:20251124T100000
DTEND;TZID=UTC:20251124T110000
DTSTAMP:20260423T230224
CREATED:20251029T125726Z
LAST-MODIFIED:20251029T125726Z
UID:16161-1763978400-1763982000@wayneseniorcenter.org
SUMMARY:Silver Sneakers Classic
DESCRIPTION:Focus on strengthening muscles and increasing range of motion using light weights\, stretch bands\, and exercise balls.
URL:https://wayneseniorcenter.org/event/silver-sneakers-classic-109/
END:VEVENT
BEGIN:VEVENT
DTSTART;TZID=UTC:20251124T100000
DTEND;TZID=UTC:20251124T120000
DTSTAMP:20260423T230224
CREATED:20251029T125724Z
LAST-MODIFIED:20251029T125724Z
UID:16160-1763978400-1763985600@wayneseniorcenter.org
SUMMARY:Refresher Bridge
DESCRIPTION:Brush up on your bridge skills with friends. Must have previous bridge experience.
URL:https://wayneseniorcenter.org/event/refresher-bridge-55/
END:VEVENT
BEGIN:VEVENT
DTSTART;TZID=UTC:20251124T100000
DTEND;TZID=UTC:20251124T120000
DTSTAMP:20260423T230224
CREATED:20251029T125729Z
LAST-MODIFIED:20251029T125729Z
UID:16163-1763978400-1763985600@wayneseniorcenter.org
SUMMARY:WSC Quilters
DESCRIPTION:WSC quiliting club. All skill levels Welcome. Come by or RSVP by calling the center – (610) 688-6246
URL:https://wayneseniorcenter.org/event/wsc-quilters-55/
END:VEVENT
BEGIN:VEVENT
DTSTART;TZID=UTC:20251124T110000
DTEND;TZID=UTC:20251124T120000
DTSTAMP:20260423T230224
CREATED:20251029T125728Z
LAST-MODIFIED:20251029T125728Z
UID:16162-1763982000-1763985600@wayneseniorcenter.org
SUMMARY:Soul Line Dancing
DESCRIPTION:Kenny James will get you moving and grooving in a fun\, easy to learn dance class. No experience necessary – all can join. $3 members / $6 non-members.
URL:https://wayneseniorcenter.org/event/soul-line-dancing-87/
END:VEVENT
BEGIN:VEVENT
DTSTART;TZID=UTC:20251125T090000
DTEND;TZID=UTC:20251125T110000
DTSTAMP:20260423T230224
CREATED:20251029T125745Z
LAST-MODIFIED:20251029T125745Z
UID:16169-1764061200-1764068400@wayneseniorcenter.org
SUMMARY:Tech Tuesday
DESCRIPTION:Stop by during this time with your tech questions or email Francis at francis@wayneseniorcenter.org to make an appointment. Some Tuesdays will feature a workshop on a certain topic starting at 10am.
URL:https://wayneseniorcenter.org/event/tech-tuesday-39/
END:VEVENT
BEGIN:VEVENT
DTSTART;TZID=UTC:20251125T093000
DTEND;TZID=UTC:20251125T104500
DTSTAMP:20260423T230224
CREATED:20251029T125739Z
LAST-MODIFIED:20251029T125739Z
UID:16165-1764063000-1764067500@wayneseniorcenter.org
SUMMARY:Fresh Start
DESCRIPTION:Join us for Fresh Start—our new\, nutritious and delicious breakfast program! Breakfast will be served every Tuesday and Thursdayfrom 9:30 AM to 10:45 AM. Cost is $3.\nMeals are available on a first-come\, first-served basis\, so be sure to arrive early!\n Please note: the menu is subject to change.
URL:https://wayneseniorcenter.org/event/fresh-start-45/
END:VEVENT
BEGIN:VEVENT
DTSTART;TZID=UTC:20251125T100000
DTEND;TZID=UTC:20251125T110000
DTSTAMP:20260423T230224
CREATED:20251029T125731Z
LAST-MODIFIED:20251029T132131Z
UID:16164-1764064800-1764068400@wayneseniorcenter.org
SUMMARY:Cardio Drumming with Andrea
DESCRIPTION:Join Andrea once a month for a fun\, rhythmic\, seated exercise class that gets you moving and grooving. Each month will have a fun theme! $3 for members\, $6 non-members
URL:https://wayneseniorcenter.org/event/cardio-drumming-with-andrea-13/
ATTACH;FMTTYPE=image/png:https://wayneseniorcenter.org/wp-content/uploads/2025/10/1125-Cardio-Drumming.png
END:VEVENT
BEGIN:VEVENT
DTSTART;TZID=UTC:20251125T110000
DTEND;TZID=UTC:20251125T120000
DTSTAMP:20260423T230224
CREATED:20251029T125744Z
LAST-MODIFIED:20251029T125744Z
UID:16168-1764068400-1764072000@wayneseniorcenter.org
SUMMARY:Sit\, Move\, Stretch
DESCRIPTION:This class offers seated or standing: cardio movement\, strengthening\, deep breathing\, and stretching. In-Person fees – free for WSC members\, $3 for non-members.
URL:https://wayneseniorcenter.org/event/sit-move-stretch-108/
END:VEVENT
BEGIN:VEVENT
DTSTART;TZID=UTC:20251125T120000
DTEND;TZID=UTC:20251125T130000
DTSTAMP:20260423T230224
CREATED:20251029T125743Z
LAST-MODIFIED:20251029T125743Z
UID:16167-1764072000-1764075600@wayneseniorcenter.org
SUMMARY:November Birthday Celebration!
DESCRIPTION:Join to celebrate members who have birthdays in November!
URL:https://wayneseniorcenter.org/event/november-birthday-celebration/
END:VEVENT
BEGIN:VEVENT
DTSTART;TZID=UTC:20251125T123000
DTEND;TZID=UTC:20251125T133000
DTSTAMP:20260423T230224
CREATED:20251029T125741Z
LAST-MODIFIED:20251029T125741Z
UID:16166-1764073800-1764077400@wayneseniorcenter.org
SUMMARY:Mindfulness
DESCRIPTION:Practicing mindfulness provides countless benefits to our overall well-being. Join instructor Liz for an hour of virtual mindfulness.
URL:https://wayneseniorcenter.org/event/mindfulness-55/
END:VEVENT
BEGIN:VEVENT
DTSTART;TZID=UTC:20251126T100000
DTEND;TZID=UTC:20251126T110000
DTSTAMP:20260423T230224
CREATED:20251029T125754Z
LAST-MODIFIED:20251029T125754Z
UID:16170-1764151200-1764154800@wayneseniorcenter.org
SUMMARY:Coffee Talk with Radnor Police Chaplain
DESCRIPTION:Enjoy coffee\, pastries\, and meaningful discussion with a visiting Radnor Police Chaplain.
URL:https://wayneseniorcenter.org/event/coffee-talk-with-radnor-police-chaplain-14/
END:VEVENT
BEGIN:VEVENT
DTSTART;TZID=UTC:20251126T101500
DTEND;TZID=UTC:20251126T110000
DTSTAMP:20260423T230224
CREATED:20251029T125757Z
LAST-MODIFIED:20251029T125757Z
UID:16172-1764152100-1764154800@wayneseniorcenter.org
SUMMARY:Large Jenga
DESCRIPTION:Join us for a fun game of large jenga!
URL:https://wayneseniorcenter.org/event/large-jenga-2/
END:VEVENT
BEGIN:VEVENT
DTSTART;TZID=UTC:20251126T111500
DTEND;TZID=UTC:20251126T120000
DTSTAMP:20260423T230224
CREATED:20251029T125801Z
LAST-MODIFIED:20251029T125801Z
UID:16174-1764155700-1764158400@wayneseniorcenter.org
SUMMARY:Soul Line Dancing
DESCRIPTION:Kenny James will get you moving and grooving in a fun\, easy to learn dance class. No experience necessary – all can join. $3 members / $6 non-members.
URL:https://wayneseniorcenter.org/event/soul-line-dancing-88/
END:VEVENT
BEGIN:VEVENT
DTSTART;TZID=UTC:20251126T123000
DTEND;TZID=UTC:20251126T133000
DTSTAMP:20260423T230224
CREATED:20251029T125756Z
LAST-MODIFIED:20251029T125756Z
UID:16171-1764160200-1764163800@wayneseniorcenter.org
SUMMARY:Fooling with Ukes
DESCRIPTION:Dust off your ukes and join Barbara Van Clief (Barley) for a few practice sessions. Learn to play various popular songs with a group of individuals who share your passion for music!
URL:https://wayneseniorcenter.org/event/fooling-with-ukes-44/
END:VEVENT
BEGIN:VEVENT
DTSTART;TZID=UTC:20251126T123000
DTEND;TZID=UTC:20251126T133000
DTSTAMP:20260423T230224
CREATED:20251029T125759Z
LAST-MODIFIED:20251029T125759Z
UID:16173-1764160200-1764163800@wayneseniorcenter.org
SUMMARY:Silver Sneakers Classic
DESCRIPTION:Focus on strengthening muscles and increasing range of motion using light weights\, stretch bands\, and exercise balls.
URL:https://wayneseniorcenter.org/event/silver-sneakers-classic-110/
END:VEVENT
BEGIN:VEVENT
DTSTART;TZID=UTC:20251126T140000
DTEND;TZID=UTC:20251126T140000
DTSTAMP:20260423T230224
CREATED:20251029T125809Z
LAST-MODIFIED:20251029T125809Z
UID:16175-1764165600-1764165600@wayneseniorcenter.org
SUMMARY:Tai Chi
DESCRIPTION:Tai Chi is a gentle form of exercise involving a series of graceful movements performed in a slow\, focused manner and accompanied by deep breathing. Excellent for strengthening balance and promoting stress reduction. In-Person fees – $5 for WSC members\, $10 for non-members.
URL:https://wayneseniorcenter.org/event/tai-chi-67/
END:VEVENT
BEGIN:VEVENT
DTSTART;TZID=UTC:20251201T100000
DTEND;TZID=UTC:20251201T110000
DTSTAMP:20260423T230224
CREATED:20251126T193035Z
LAST-MODIFIED:20251126T193035Z
UID:16201-1764583200-1764586800@wayneseniorcenter.org
SUMMARY:Silver Sneakers Classic
DESCRIPTION:Focus on strengthening muscles and increasing range of motion using light weights\, stretch bands\, and exercise balls.
URL:https://wayneseniorcenter.org/event/silver-sneakers-classic-111/
END:VEVENT
BEGIN:VEVENT
DTSTART;TZID=UTC:20251201T100000
DTEND;TZID=UTC:20251201T120000
DTSTAMP:20260423T230224
CREATED:20251126T193031Z
LAST-MODIFIED:20251126T193031Z
UID:16200-1764583200-1764590400@wayneseniorcenter.org
SUMMARY:Refresher Bridge
DESCRIPTION:Brush up on your bridge skills with friends. Must have previous bridge experience.
URL:https://wayneseniorcenter.org/event/refresher-bridge-56/
END:VEVENT
BEGIN:VEVENT
DTSTART;TZID=UTC:20251201T100000
DTEND;TZID=UTC:20251201T120000
DTSTAMP:20260423T230224
CREATED:20251126T193041Z
LAST-MODIFIED:20251126T193041Z
UID:16203-1764583200-1764590400@wayneseniorcenter.org
SUMMARY:WSC Quilters
DESCRIPTION:WSC quiliting club. All skill levels Welcome. Come by or RSVP by calling the center – (610) 688-6246
URL:https://wayneseniorcenter.org/event/wsc-quilters-56/
END:VEVENT
BEGIN:VEVENT
DTSTART;TZID=UTC:20251201T110000
DTEND;TZID=UTC:20251201T120000
DTSTAMP:20260423T230224
CREATED:20251126T193038Z
LAST-MODIFIED:20251126T193038Z
UID:16202-1764586800-1764590400@wayneseniorcenter.org
SUMMARY:Soul Line Dancing
DESCRIPTION:Kenny James will get you moving and grooving in a fun\, easy to learn dance class. No experience necessary – all can join. $3 members / $6 non-members.
URL:https://wayneseniorcenter.org/event/soul-line-dancing-89/
END:VEVENT
BEGIN:VEVENT
DTSTART;TZID=UTC:20251202T090000
DTEND;TZID=UTC:20251202T110000
DTSTAMP:20260423T230224
CREATED:20251126T193103Z
LAST-MODIFIED:20251126T193103Z
UID:16207-1764666000-1764673200@wayneseniorcenter.org
SUMMARY:Tech Tuesday
DESCRIPTION:Stop by during this time with your tech questions or email Francis at francis@wayneseniorcenter.org to make an appointment. Some Tuesdays will feature a workshop on a certain topic starting at 10am.
URL:https://wayneseniorcenter.org/event/tech-tuesday-40/
END:VEVENT
BEGIN:VEVENT
DTSTART;TZID=UTC:20251202T100000
DTEND;TZID=UTC:20251202T110000
DTSTAMP:20260423T230224
CREATED:20251126T193106Z
LAST-MODIFIED:20251126T194454Z
UID:16208-1764669600-1764673200@wayneseniorcenter.org
SUMMARY:Engaging Memory - Theater Workshop
DESCRIPTION:Enjoy simple theatre exercises\, improvisation\, music\, and storytelling designed to connect participants with memories from the past. Come spark creativity and memories! Attendees are invited to the FREE matinee performance of Little Women at Hedgerow Theater on Friday Decemeber 12th at 2:00pm.
URL:https://wayneseniorcenter.org/event/engaging-memory-theater-workshop/
ATTACH;FMTTYPE=image/png:https://wayneseniorcenter.org/wp-content/uploads/2025/11/1211-Theater-Workshop.png
END:VEVENT
BEGIN:VEVENT
DTSTART;TZID=UTC:20251202T110000
DTEND;TZID=UTC:20251202T120000
DTSTAMP:20260423T230224
CREATED:20251126T193059Z
LAST-MODIFIED:20251126T193059Z
UID:16206-1764673200-1764676800@wayneseniorcenter.org
SUMMARY:Sit\, Move\, Stretch
DESCRIPTION:This class offers seated or standing: cardio movement\, strengthening\, deep breathing\, and stretching. In-Person fees – free for WSC members\, $3 for non-members.
URL:https://wayneseniorcenter.org/event/sit-move-stretch-109/
END:VEVENT
BEGIN:VEVENT
DTSTART;TZID=UTC:20251202T120000
DTEND;TZID=UTC:20251202T130000
DTSTAMP:20260423T230224
CREATED:20251126T193109Z
LAST-MODIFIED:20251126T193109Z
UID:16209-1764676800-1764680400@wayneseniorcenter.org
SUMMARY:The Inside Scoop
DESCRIPTION:Introducing The Inside Scoop! Join us at the start of each month for a quick\, upbeat\, rundown of what’s happening at the center. We’ll highlight upcoming programs\, special events\, and anything you’ll want to sign up for early. It’s the easiest and most fun way to stay in the know!
URL:https://wayneseniorcenter.org/event/the-inside-scoop/
END:VEVENT
END:VCALENDAR