BEGIN:VCALENDAR
VERSION:2.0
PRODID:-//Wayne Senior Center - ECPv6.15.20//NONSGML v1.0//EN
CALSCALE:GREGORIAN
METHOD:PUBLISH
X-WR-CALNAME:Wayne Senior Center
X-ORIGINAL-URL:https://wayneseniorcenter.org
X-WR-CALDESC:Events for Wayne Senior Center
REFRESH-INTERVAL;VALUE=DURATION:PT1H
X-Robots-Tag:noindex
X-PUBLISHED-TTL:PT1H
BEGIN:VTIMEZONE
TZID:UTC
BEGIN:STANDARD
TZOFFSETFROM:+0000
TZOFFSETTO:+0000
TZNAME:UTC
DTSTART:20240101T000000
END:STANDARD
END:VTIMEZONE
BEGIN:VEVENT
DTSTART;TZID=UTC:20251114T093000
DTEND;TZID=UTC:20251114T103000
DTSTAMP:20260423T213901
CREATED:20251029T125540Z
LAST-MODIFIED:20251029T125540Z
UID:16135-1763112600-1763116200@wayneseniorcenter.org
SUMMARY:Senior Circuit
DESCRIPTION:Join us for a dynamic strength-building\, full-body workout utilizing bands\, weights\, and balls as we cycle through various stations.
URL:https://wayneseniorcenter.org/event/senior-circuit-53/
END:VEVENT
BEGIN:VEVENT
DTSTART;TZID=UTC:20251114T103000
DTEND;TZID=UTC:20251114T113000
DTSTAMP:20260423T213901
CREATED:20251028T174905Z
LAST-MODIFIED:20251028T174905Z
UID:16132-1763116200-1763119800@wayneseniorcenter.org
SUMMARY:Chair Yoga
DESCRIPTION:A well-rounded class that will help with balance\, strengthening\, and relaxation. Have a sturdy chair available. All abilities welcome. In-Person fees – $3 for WSC members\, $6 for non-members.
URL:https://wayneseniorcenter.org/event/chair-yoga-55/
END:VEVENT
BEGIN:VEVENT
DTSTART;TZID=UTC:20251117T100000
DTEND;TZID=UTC:20251117T110000
DTSTAMP:20260423T213901
CREATED:20251029T125543Z
LAST-MODIFIED:20251029T125543Z
UID:16137-1763373600-1763377200@wayneseniorcenter.org
SUMMARY:Silver Sneakers Classic
DESCRIPTION:Focus on strengthening muscles and increasing range of motion using light weights\, stretch bands\, and exercise balls.
URL:https://wayneseniorcenter.org/event/silver-sneakers-classic-107/
END:VEVENT
BEGIN:VEVENT
DTSTART;TZID=UTC:20251117T100000
DTEND;TZID=UTC:20251117T120000
DTSTAMP:20260423T213901
CREATED:20251029T125541Z
LAST-MODIFIED:20251029T125541Z
UID:16136-1763373600-1763380800@wayneseniorcenter.org
SUMMARY:Refresher Bridge
DESCRIPTION:Brush up on your bridge skills with friends. Must have previous bridge experience.
URL:https://wayneseniorcenter.org/event/refresher-bridge-54/
END:VEVENT
BEGIN:VEVENT
DTSTART;TZID=UTC:20251117T100000
DTEND;TZID=UTC:20251117T120000
DTSTAMP:20260423T213901
CREATED:20251029T125546Z
LAST-MODIFIED:20251029T125546Z
UID:16139-1763373600-1763380800@wayneseniorcenter.org
SUMMARY:WSC Quilters
DESCRIPTION:WSC quiliting club. All skill levels Welcome. Come by or RSVP by calling the center – (610) 688-6246
URL:https://wayneseniorcenter.org/event/wsc-quilters-54/
END:VEVENT
BEGIN:VEVENT
DTSTART;TZID=UTC:20251117T110000
DTEND;TZID=UTC:20251117T120000
DTSTAMP:20260423T213901
CREATED:20251029T125545Z
LAST-MODIFIED:20251029T125545Z
UID:16138-1763377200-1763380800@wayneseniorcenter.org
SUMMARY:Soul Line Dancing
DESCRIPTION:Kenny James will get you moving and grooving in a fun\, easy to learn dance class. No experience necessary – all can join. $3 members / $6 non-members.
URL:https://wayneseniorcenter.org/event/soul-line-dancing-85/
END:VEVENT
BEGIN:VEVENT
DTSTART;TZID=UTC:20251118T090000
DTEND;TZID=UTC:20251118T110000
DTSTAMP:20260423T213901
CREATED:20251029T125639Z
LAST-MODIFIED:20251029T125639Z
UID:16145-1763456400-1763463600@wayneseniorcenter.org
SUMMARY:Tech Tuesday
DESCRIPTION:Stop by during this time with your tech questions or email Francis at francis@wayneseniorcenter.org to make an appointment. Some Tuesdays will feature a workshop on a certain topic starting at 10am.
URL:https://wayneseniorcenter.org/event/tech-tuesday-38/
END:VEVENT
BEGIN:VEVENT
DTSTART;TZID=UTC:20251118T093000
DTEND;TZID=UTC:20251118T104500
DTSTAMP:20260423T213901
CREATED:20251029T125552Z
LAST-MODIFIED:20251029T125552Z
UID:16140-1763458200-1763462700@wayneseniorcenter.org
SUMMARY:Fresh Start
DESCRIPTION:Join us for Fresh Start—our new\, nutritious and delicious breakfast program! Breakfast will be served every Tuesday and Thursdayfrom 9:30 AM to 10:45 AM. Cost is $3.\nMeals are available on a first-come\, first-served basis\, so be sure to arrive early!\n Please note: the menu is subject to change.
URL:https://wayneseniorcenter.org/event/fresh-start-43/
END:VEVENT
BEGIN:VEVENT
DTSTART;TZID=UTC:20251118T101500
DTEND;TZID=UTC:20251118T110000
DTSTAMP:20260423T213901
CREATED:20251029T125641Z
LAST-MODIFIED:20251029T125641Z
UID:16146-1763460900-1763463600@wayneseniorcenter.org
SUMMARY:Thanksgiving Trivia Feud
DESCRIPTION:Test your holiday knowledge in our Thanksgiving Trivia Feud! Join the fun as we face off to see who knows the most about all things turkey\, traditions\, and Thanksgiving fun.
URL:https://wayneseniorcenter.org/event/thanksgiving-trivia-feud/
END:VEVENT
BEGIN:VEVENT
DTSTART;TZID=UTC:20251118T110000
DTEND;TZID=UTC:20251118T120000
DTSTAMP:20260423T213901
CREATED:20251029T125559Z
LAST-MODIFIED:20251029T125559Z
UID:16144-1763463600-1763467200@wayneseniorcenter.org
SUMMARY:Sit\, Move\, Stretch
DESCRIPTION:This class offers seated or standing: cardio movement\, strengthening\, deep breathing\, and stretching. In-Person fees – free for WSC members\, $3 for non-members.
URL:https://wayneseniorcenter.org/event/sit-move-stretch-106/
END:VEVENT
BEGIN:VEVENT
DTSTART;TZID=UTC:20251118T120000
DTEND;TZID=UTC:20251118T130000
DTSTAMP:20260423T213901
CREATED:20251029T125554Z
LAST-MODIFIED:20251029T125554Z
UID:16141-1763467200-1763470800@wayneseniorcenter.org
SUMMARY:Let's Do Lunch!
DESCRIPTION:Let’s do lunch together! Please see the menu in the newsletter for details on each meal. $5 members / $8 non-members. RSVP required\, in-center dining only.
URL:https://wayneseniorcenter.org/event/lets-do-lunch-19/
END:VEVENT
BEGIN:VEVENT
DTSTART;TZID=UTC:20251118T123000
DTEND;TZID=UTC:20251118T133000
DTSTAMP:20260423T213901
CREATED:20251029T125557Z
LAST-MODIFIED:20251029T125557Z
UID:16143-1763469000-1763472600@wayneseniorcenter.org
SUMMARY:Mindfulness
DESCRIPTION:Practicing mindfulness provides countless benefits to our overall well-being. Join instructor Liz for an hour of virtual mindfulness.
URL:https://wayneseniorcenter.org/event/mindfulness-54/
END:VEVENT
BEGIN:VEVENT
DTSTART;TZID=UTC:20251118T150000
DTEND;TZID=UTC:20251118T160000
DTSTAMP:20260423T213901
CREATED:20251029T125555Z
LAST-MODIFIED:20251029T125555Z
UID:16142-1763478000-1763481600@wayneseniorcenter.org
SUMMARY:Memoir Writing (Virtual)
DESCRIPTION:Join Sara Wenger\, MFA for a memoir writing workshop. Sara will share memoir excerpts as well as writing exercises to help you write your unique life experiences so they can be passed on to children\, grandchildren\, friends and others. No prior writing experience is necessary! The class is appropriate for both novice and seasoned writers
URL:https://wayneseniorcenter.org/event/memoir-writing-virtual-25/
END:VEVENT
BEGIN:VEVENT
DTSTART;TZID=UTC:20251119T101500
DTEND;TZID=UTC:20251119T110000
DTSTAMP:20260423T213901
CREATED:20251029T125658Z
LAST-MODIFIED:20251029T125658Z
UID:16152-1763547300-1763550000@wayneseniorcenter.org
SUMMARY:Word Games
DESCRIPTION:Join us for fun and enlivening word games!
URL:https://wayneseniorcenter.org/event/word-games-3/
END:VEVENT
BEGIN:VEVENT
DTSTART;TZID=UTC:20251119T110000
DTEND;TZID=UTC:20251119T120000
DTSTAMP:20260423T213901
CREATED:20251029T125644Z
LAST-MODIFIED:20251029T125644Z
UID:16148-1763550000-1763553600@wayneseniorcenter.org
SUMMARY:Pageturner's Bookclub
DESCRIPTION:Enjoy lively book conversation with a Radnor Memorial Library librarian. All are welcome! We will be discussing That Summer\, by Lauren Willig. Inheriting a London house from an unknown relative\, Julia begins work on the house at the side of an alluring antiques dealer before discovering an old painting that reveals the house’s shrouded history and the story of a mid-19th century woman trapped in a loveless marriage.
URL:https://wayneseniorcenter.org/event/pageturners-bookclub-14/
END:VEVENT
BEGIN:VEVENT
DTSTART;TZID=UTC:20251119T111500
DTEND;TZID=UTC:20251119T120000
DTSTAMP:20260423T213901
CREATED:20251029T125655Z
LAST-MODIFIED:20251029T125655Z
UID:16150-1763550900-1763553600@wayneseniorcenter.org
SUMMARY:Soul Line Dancing
DESCRIPTION:Kenny James will get you moving and grooving in a fun\, easy to learn dance class. No experience necessary – all can join. $3 members / $6 non-members.
URL:https://wayneseniorcenter.org/event/soul-line-dancing-86/
END:VEVENT
BEGIN:VEVENT
DTSTART;TZID=UTC:20251119T123000
DTEND;TZID=UTC:20251119T133000
DTSTAMP:20260423T213901
CREATED:20251029T125643Z
LAST-MODIFIED:20251029T125643Z
UID:16147-1763555400-1763559000@wayneseniorcenter.org
SUMMARY:Fooling with Ukes
DESCRIPTION:Dust off your ukes and join Barbara Van Clief (Barley) for a few practice sessions. Learn to play various popular songs with a group of individuals who share your passion for music!
URL:https://wayneseniorcenter.org/event/fooling-with-ukes-43/
END:VEVENT
BEGIN:VEVENT
DTSTART;TZID=UTC:20251119T123000
DTEND;TZID=UTC:20251119T133000
DTSTAMP:20260423T213901
CREATED:20251029T125646Z
LAST-MODIFIED:20251029T125646Z
UID:16149-1763555400-1763559000@wayneseniorcenter.org
SUMMARY:Silver Sneakers Classic
DESCRIPTION:Focus on strengthening muscles and increasing range of motion using light weights\, stretch bands\, and exercise balls.
URL:https://wayneseniorcenter.org/event/silver-sneakers-classic-108/
END:VEVENT
BEGIN:VEVENT
DTSTART;TZID=UTC:20251119T140000
DTEND;TZID=UTC:20251119T140000
DTSTAMP:20260423T213901
CREATED:20251029T125656Z
LAST-MODIFIED:20251029T125656Z
UID:16151-1763560800-1763560800@wayneseniorcenter.org
SUMMARY:Tai Chi
DESCRIPTION:Tai Chi is a gentle form of exercise involving a series of graceful movements performed in a slow\, focused manner and accompanied by deep breathing. Excellent for strengthening balance and promoting stress reduction. In-Person fees – $5 for WSC members\, $10 for non-members.
URL:https://wayneseniorcenter.org/event/tai-chi-66/
END:VEVENT
BEGIN:VEVENT
DTSTART;TZID=UTC:20251120T090000
DTEND;TZID=UTC:20251120T110000
DTSTAMP:20260423T213901
CREATED:20251029T125700Z
LAST-MODIFIED:20251029T125700Z
UID:16153-1763629200-1763636400@wayneseniorcenter.org
SUMMARY:Blood Pressure Screenings
DESCRIPTION:Are you trying to keep track of your blood pressure readings? Have questions about a medication or just need a listening ear? Stop by and speak 1:1 with a nurse.
URL:https://wayneseniorcenter.org/event/blood-pressure-screenings-28/
END:VEVENT
BEGIN:VEVENT
DTSTART;TZID=UTC:20251120T093000
DTEND;TZID=UTC:20251120T104500
DTSTAMP:20260423T213901
CREATED:20251029T125711Z
LAST-MODIFIED:20251029T125711Z
UID:16156-1763631000-1763635500@wayneseniorcenter.org
SUMMARY:Fresh Start
DESCRIPTION:Join us for Fresh Start—our new\, nutritious and delicious breakfast program! Breakfast will be served every Tuesday and Thursdayfrom 9:30 AM to 10:45 AM. Cost is $3.\nMeals are available on a first-come\, first-served basis\, so be sure to arrive early!\n Please note: the menu is subject to change.
URL:https://wayneseniorcenter.org/event/fresh-start-44/
END:VEVENT
BEGIN:VEVENT
DTSTART;TZID=UTC:20251120T101500
DTEND;TZID=UTC:20251120T110000
DTSTAMP:20260423T213901
CREATED:20251029T125709Z
LAST-MODIFIED:20251029T125709Z
UID:16155-1763633700-1763636400@wayneseniorcenter.org
SUMMARY:DIY Craft: Pressed Fall Leaves Bookmark
DESCRIPTION:Create a touch of Autumn beauty with our DIY pressed fall leaves bookmark craft! A fun\, easy project that captures the colors of the season.
URL:https://wayneseniorcenter.org/event/diy-craft-pressed-fall-leaves-bookmark/
END:VEVENT
BEGIN:VEVENT
DTSTART;TZID=UTC:20251120T110000
DTEND;TZID=UTC:20251120T120000
DTSTAMP:20260423T213901
CREATED:20251029T125713Z
LAST-MODIFIED:20251029T125713Z
UID:16157-1763636400-1763640000@wayneseniorcenter.org
SUMMARY:Sit\, Move\, Stretch
DESCRIPTION:This class offers seated or standing: cardio movement\, strengthening\, deep breathing\, and stretching. In-Person fees – free for WSC members\, $3 for non-members.
URL:https://wayneseniorcenter.org/event/sit-move-stretch-107/
END:VEVENT
BEGIN:VEVENT
DTSTART;TZID=UTC:20251120T130000
DTEND;TZID=UTC:20251120T150000
DTSTAMP:20260423T213901
CREATED:20251029T125701Z
LAST-MODIFIED:20251029T125701Z
UID:16154-1763643600-1763650800@wayneseniorcenter.org
SUMMARY:Cards and Games: Open Play
DESCRIPTION:Join us for an afternoon playing games of your choice- Poker\, gin rummy\, pinochle\, mahjong etc. Meet a new friend and start a game of your own. Mahjong teachers/leaders feel free to bring your game set!
URL:https://wayneseniorcenter.org/event/cards-and-games-open-play-58/
END:VEVENT
BEGIN:VEVENT
DTSTART;TZID=UTC:20251121T093000
DTEND;TZID=UTC:20251121T103000
DTSTAMP:20260423T213901
CREATED:20251029T125716Z
LAST-MODIFIED:20251029T125716Z
UID:16159-1763717400-1763721000@wayneseniorcenter.org
SUMMARY:Senior Circuit
DESCRIPTION:Join us for a dynamic strength-building\, full-body workout utilizing bands\, weights\, and balls as we cycle through various stations.
URL:https://wayneseniorcenter.org/event/senior-circuit-54/
END:VEVENT
BEGIN:VEVENT
DTSTART;TZID=UTC:20251121T103000
DTEND;TZID=UTC:20251121T113000
DTSTAMP:20260423T213901
CREATED:20251029T125714Z
LAST-MODIFIED:20251029T125714Z
UID:16158-1763721000-1763724600@wayneseniorcenter.org
SUMMARY:Chair Yoga
DESCRIPTION:A well-rounded class that will help with balance\, strengthening\, and relaxation. Have a sturdy chair available. All abilities welcome. In-Person fees – $3 for WSC members\, $6 for non-members.
URL:https://wayneseniorcenter.org/event/chair-yoga-56/
END:VEVENT
BEGIN:VEVENT
DTSTART;TZID=UTC:20251124T100000
DTEND;TZID=UTC:20251124T110000
DTSTAMP:20260423T213901
CREATED:20251029T125726Z
LAST-MODIFIED:20251029T125726Z
UID:16161-1763978400-1763982000@wayneseniorcenter.org
SUMMARY:Silver Sneakers Classic
DESCRIPTION:Focus on strengthening muscles and increasing range of motion using light weights\, stretch bands\, and exercise balls.
URL:https://wayneseniorcenter.org/event/silver-sneakers-classic-109/
END:VEVENT
BEGIN:VEVENT
DTSTART;TZID=UTC:20251124T100000
DTEND;TZID=UTC:20251124T120000
DTSTAMP:20260423T213901
CREATED:20251029T125724Z
LAST-MODIFIED:20251029T125724Z
UID:16160-1763978400-1763985600@wayneseniorcenter.org
SUMMARY:Refresher Bridge
DESCRIPTION:Brush up on your bridge skills with friends. Must have previous bridge experience.
URL:https://wayneseniorcenter.org/event/refresher-bridge-55/
END:VEVENT
BEGIN:VEVENT
DTSTART;TZID=UTC:20251124T100000
DTEND;TZID=UTC:20251124T120000
DTSTAMP:20260423T213901
CREATED:20251029T125729Z
LAST-MODIFIED:20251029T125729Z
UID:16163-1763978400-1763985600@wayneseniorcenter.org
SUMMARY:WSC Quilters
DESCRIPTION:WSC quiliting club. All skill levels Welcome. Come by or RSVP by calling the center – (610) 688-6246
URL:https://wayneseniorcenter.org/event/wsc-quilters-55/
END:VEVENT
BEGIN:VEVENT
DTSTART;TZID=UTC:20251124T110000
DTEND;TZID=UTC:20251124T120000
DTSTAMP:20260423T213901
CREATED:20251029T125728Z
LAST-MODIFIED:20251029T125728Z
UID:16162-1763982000-1763985600@wayneseniorcenter.org
SUMMARY:Soul Line Dancing
DESCRIPTION:Kenny James will get you moving and grooving in a fun\, easy to learn dance class. No experience necessary – all can join. $3 members / $6 non-members.
URL:https://wayneseniorcenter.org/event/soul-line-dancing-87/
END:VEVENT
END:VCALENDAR