BEGIN:VCALENDAR
VERSION:2.0
PRODID:-//Wayne Senior Center - ECPv6.15.20//NONSGML v1.0//EN
CALSCALE:GREGORIAN
METHOD:PUBLISH
X-ORIGINAL-URL:https://wayneseniorcenter.org
X-WR-CALDESC:Events for Wayne Senior Center
REFRESH-INTERVAL;VALUE=DURATION:PT1H
X-Robots-Tag:noindex
X-PUBLISHED-TTL:PT1H
BEGIN:VTIMEZONE
TZID:UTC
BEGIN:STANDARD
TZOFFSETFROM:+0000
TZOFFSETTO:+0000
TZNAME:UTC
DTSTART:20240101T000000
END:STANDARD
END:VTIMEZONE
BEGIN:VEVENT
DTSTART;TZID=UTC:20251105T123000
DTEND;TZID=UTC:20251105T133000
DTSTAMP:20260423T215619
CREATED:20251028T174604Z
LAST-MODIFIED:20251028T174604Z
UID:16102-1762345800-1762349400@wayneseniorcenter.org
SUMMARY:Fooling with Ukes
DESCRIPTION:Dust off your ukes and join Barbara Van Clief (Barley) for a few practice sessions. Learn to play various popular songs with a group of individuals who share your passion for music!
URL:https://wayneseniorcenter.org/event/fooling-with-ukes-41/
END:VEVENT
BEGIN:VEVENT
DTSTART;TZID=UTC:20251105T123000
DTEND;TZID=UTC:20251105T133000
DTSTAMP:20260423T215619
CREATED:20251028T174609Z
LAST-MODIFIED:20251028T174609Z
UID:16103-1762345800-1762349400@wayneseniorcenter.org
SUMMARY:Silver Sneakers Classic
DESCRIPTION:Focus on strengthening muscles and increasing range of motion using light weights\, stretch bands\, and exercise balls.
URL:https://wayneseniorcenter.org/event/silver-sneakers-classic-104/
END:VEVENT
BEGIN:VEVENT
DTSTART;TZID=UTC:20251105T140000
DTEND;TZID=UTC:20251105T140000
DTSTAMP:20260423T215619
CREATED:20251028T174612Z
LAST-MODIFIED:20251028T174612Z
UID:16105-1762351200-1762351200@wayneseniorcenter.org
SUMMARY:Tai Chi
DESCRIPTION:Tai Chi is a gentle form of exercise involving a series of graceful movements performed in a slow\, focused manner and accompanied by deep breathing. Excellent for strengthening balance and promoting stress reduction. In-Person fees – $5 for WSC members\, $10 for non-members.
URL:https://wayneseniorcenter.org/event/tai-chi-65/
END:VEVENT
BEGIN:VEVENT
DTSTART;TZID=UTC:20251106T090000
DTEND;TZID=UTC:20251106T110000
DTSTAMP:20260423T215619
CREATED:20251028T174613Z
LAST-MODIFIED:20251028T174613Z
UID:16106-1762419600-1762426800@wayneseniorcenter.org
SUMMARY:Blood Pressure Screenings
DESCRIPTION:Are you trying to keep track of your blood pressure readings? Have questions about a medication or just need a listening ear? Stop by and speak 1:1 with a nurse.
URL:https://wayneseniorcenter.org/event/blood-pressure-screenings-27/
END:VEVENT
BEGIN:VEVENT
DTSTART;TZID=UTC:20251106T093000
DTEND;TZID=UTC:20251106T104500
DTSTAMP:20260423T215619
CREATED:20251028T174620Z
LAST-MODIFIED:20251028T174620Z
UID:16109-1762421400-1762425900@wayneseniorcenter.org
SUMMARY:Fresh Start
DESCRIPTION:Join us for Fresh Start—our new\, nutritious and delicious breakfast program! Breakfast will be served every Tuesday and Thursdayfrom 9:30 AM to 10:45 AM. Cost is $3.\nMeals are available on a first-come\, first-served basis\, so be sure to arrive early!\n Please note: the menu is subject to change.
URL:https://wayneseniorcenter.org/event/fresh-start-41/
END:VEVENT
BEGIN:VEVENT
DTSTART;TZID=UTC:20251106T101500
DTEND;TZID=UTC:20251106T110000
DTSTAMP:20260423T215619
CREATED:20251028T174619Z
LAST-MODIFIED:20251028T174619Z
UID:16108-1762424100-1762426800@wayneseniorcenter.org
SUMMARY:Drum Circle with Negar Jahanbin
DESCRIPTION:Negar Jahanbin from Synergy Homecare will lead a fun and interactive drumming workshop for all. Drum circles can reduce tension\, anxiety\, and help you to feel calm and relaxed. It can also incite laughter and humor while generating positive energy. Join us for a fun time!
URL:https://wayneseniorcenter.org/event/drum-circle-with-negar-jahanbin/
END:VEVENT
BEGIN:VEVENT
DTSTART;TZID=UTC:20251106T110000
DTEND;TZID=UTC:20251106T120000
DTSTAMP:20260423T215619
CREATED:20251028T174623Z
LAST-MODIFIED:20251028T174623Z
UID:16111-1762426800-1762430400@wayneseniorcenter.org
SUMMARY:Sit\, Move\, Stretch
DESCRIPTION:This class offers seated or standing: cardio movement\, strengthening\, deep breathing\, and stretching. In-Person fees – free for WSC members\, $3 for non-members.
URL:https://wayneseniorcenter.org/event/sit-move-stretch-104/
END:VEVENT
BEGIN:VEVENT
DTSTART;TZID=UTC:20251106T110000
DTEND;TZID=UTC:20251106T130000
DTSTAMP:20260423T215619
CREATED:20251028T174622Z
LAST-MODIFIED:20251028T174622Z
UID:16110-1762426800-1762434000@wayneseniorcenter.org
SUMMARY:Septa Key Card Renewals
DESCRIPTION:Join us on the first Thursday of each month for Septa Key Cardapplications and renewals and other constituent services with a representative from Sen. AmandaCappelletti’s office. The representative is here 11:00AM to 1:00PM\, no need to RSVP.
URL:https://wayneseniorcenter.org/event/septa-key-card-renewals-14/
END:VEVENT
BEGIN:VEVENT
DTSTART;TZID=UTC:20251106T130000
DTEND;TZID=UTC:20251106T150000
DTSTAMP:20260423T215619
CREATED:20251028T174614Z
LAST-MODIFIED:20251028T174614Z
UID:16107-1762434000-1762441200@wayneseniorcenter.org
SUMMARY:Cards and Games: Open Play
DESCRIPTION:Join us for an afternoon playing games of your choice- Poker\, gin rummy\, pinochle\, mahjong etc. Meet a new friend and start a game of your own. Mahjong teachers/leaders feel free to bring your game set!
URL:https://wayneseniorcenter.org/event/cards-and-games-open-play-56/
END:VEVENT
BEGIN:VEVENT
DTSTART;TZID=UTC:20251107T093000
DTEND;TZID=UTC:20251107T103000
DTSTAMP:20260423T215619
CREATED:20251028T174633Z
LAST-MODIFIED:20251028T174633Z
UID:16113-1762507800-1762511400@wayneseniorcenter.org
SUMMARY:Senior Circuit
DESCRIPTION:Join us for a dynamic strength-building\, full-body workout utilizing bands\, weights\, and balls as we cycle through various stations.
URL:https://wayneseniorcenter.org/event/senior-circuit-52/
END:VEVENT
BEGIN:VEVENT
DTSTART;TZID=UTC:20251107T103000
DTEND;TZID=UTC:20251107T113000
DTSTAMP:20260423T215619
CREATED:20251028T174625Z
LAST-MODIFIED:20251028T174625Z
UID:16112-1762511400-1762515000@wayneseniorcenter.org
SUMMARY:Chair Yoga
DESCRIPTION:A well-rounded class that will help with balance\, strengthening\, and relaxation. Have a sturdy chair available. All abilities welcome. In-Person fees – $3 for WSC members\, $6 for non-members.
URL:https://wayneseniorcenter.org/event/chair-yoga-54/
END:VEVENT
BEGIN:VEVENT
DTSTART;TZID=UTC:20251110T100000
DTEND;TZID=UTC:20251110T110000
DTSTAMP:20260423T215619
CREATED:20251028T174636Z
LAST-MODIFIED:20251028T174636Z
UID:16115-1762768800-1762772400@wayneseniorcenter.org
SUMMARY:Silver Sneakers Classic
DESCRIPTION:Focus on strengthening muscles and increasing range of motion using light weights\, stretch bands\, and exercise balls.
URL:https://wayneseniorcenter.org/event/silver-sneakers-classic-105/
END:VEVENT
BEGIN:VEVENT
DTSTART;TZID=UTC:20251110T100000
DTEND;TZID=UTC:20251110T120000
DTSTAMP:20260423T215619
CREATED:20251028T174635Z
LAST-MODIFIED:20251028T174635Z
UID:16114-1762768800-1762776000@wayneseniorcenter.org
SUMMARY:Refresher Bridge
DESCRIPTION:Brush up on your bridge skills with friends. Must have previous bridge experience.
URL:https://wayneseniorcenter.org/event/refresher-bridge-53/
END:VEVENT
BEGIN:VEVENT
DTSTART;TZID=UTC:20251110T100000
DTEND;TZID=UTC:20251110T120000
DTSTAMP:20260423T215619
CREATED:20251028T174639Z
LAST-MODIFIED:20251028T174639Z
UID:16117-1762768800-1762776000@wayneseniorcenter.org
SUMMARY:WSC Quilters
DESCRIPTION:WSC quiliting club. All skill levels Welcome. Come by or RSVP by calling the center – (610) 688-6246
URL:https://wayneseniorcenter.org/event/wsc-quilters-53/
END:VEVENT
BEGIN:VEVENT
DTSTART;TZID=UTC:20251110T110000
DTEND;TZID=UTC:20251110T120000
DTSTAMP:20260423T215619
CREATED:20251028T174638Z
LAST-MODIFIED:20251028T174638Z
UID:16116-1762772400-1762776000@wayneseniorcenter.org
SUMMARY:Soul Line Dancing
DESCRIPTION:Kenny James will get you moving and grooving in a fun\, easy to learn dance class. No experience necessary – all can join. $3 members / $6 non-members.
URL:https://wayneseniorcenter.org/event/soul-line-dancing-83/
END:VEVENT
BEGIN:VEVENT
DTSTART;TZID=UTC:20251111T090000
DTEND;TZID=UTC:20251111T110000
DTSTAMP:20260423T215619
CREATED:20251028T174822Z
LAST-MODIFIED:20251028T174822Z
UID:16120-1762851600-1762858800@wayneseniorcenter.org
SUMMARY:Tech Tuesday
DESCRIPTION:Stop by during this time with your tech questions or email Francis at francis@wayneseniorcenter.org to make an appointment. Some Tuesdays will feature a workshop on a certain topic starting at 10am.
URL:https://wayneseniorcenter.org/event/tech-tuesday-37/
END:VEVENT
BEGIN:VEVENT
DTSTART;TZID=UTC:20251111T103000
DTEND;TZID=UTC:20251111T120000
DTSTAMP:20260423T215619
CREATED:20251028T174820Z
LAST-MODIFIED:20251028T174820Z
UID:16118-1762857000-1762862400@wayneseniorcenter.org
SUMMARY:Grateful Gathering with Central Nursery School
DESCRIPTION:Gather with us as we welcome the children from Central Nursery School. It’s a wonderful way to celebrate the season of grattitude across generations.
URL:https://wayneseniorcenter.org/event/grateful-gathering-with-central-nursery-school/
END:VEVENT
BEGIN:VEVENT
DTSTART;TZID=UTC:20251111T120000
DTEND;TZID=UTC:20251111T130000
DTSTAMP:20260423T215619
CREATED:20251028T174824Z
LAST-MODIFIED:20251029T132807Z
UID:16121-1762862400-1762866000@wayneseniorcenter.org
SUMMARY:Thanksgiving Lunch with Music by Joe Marchetti
DESCRIPTION:Join us for our annual Thanksgiving Luncheon with a musical performane by Joe Marchetti. Enjoy a delicious meal\, great company\, and lively music. $8 for members\, $12 for non-members. RSVP and pay by November 5th.
URL:https://wayneseniorcenter.org/event/thanksgiving-lunch-with-music-by-joe-marchetti/
ATTACH;FMTTYPE=image/png:https://wayneseniorcenter.org/wp-content/uploads/2025/10/1111-Thanksgiving.png
END:VEVENT
BEGIN:VEVENT
DTSTART;TZID=UTC:20251111T143000
DTEND;TZID=UTC:20251111T153000
DTSTAMP:20260423T215619
CREATED:20251028T174821Z
LAST-MODIFIED:20251028T174821Z
UID:16119-1762871400-1762875000@wayneseniorcenter.org
SUMMARY:PA MEDI Medicare 101 Presentation
DESCRIPTION:PA Medi of Delaware County presents: Medicare 101. This program will cover everything you need to know about Medicare\, when and how to sign up\, and more!
URL:https://wayneseniorcenter.org/event/pa-medi-medicare-101-presentation/
END:VEVENT
BEGIN:VEVENT
DTSTART;TZID=UTC:20251112T100000
DTEND;TZID=UTC:20251112T110000
DTSTAMP:20260423T215619
CREATED:20251028T174836Z
LAST-MODIFIED:20251028T174836Z
UID:16124-1762941600-1762945200@wayneseniorcenter.org
SUMMARY:Silver Linings Clinic Wellness Series
DESCRIPTION:Join us for a special Wellness Series led by a licensed therapist from Silver Linings Clinic. This program is designed for older adults seeking to enhance emotional well-being\, navigate life transitions\, and build meaningful social connections. Each session offers supportive conversation\, practical tools\, and a warm community atmosphere to help you thrive this summer. Free w/ Medicare. Call 610-688-6246 to register.
URL:https://wayneseniorcenter.org/event/silver-linings-clinic-wellness-series-3/
END:VEVENT
BEGIN:VEVENT
DTSTART;TZID=UTC:20251112T111500
DTEND;TZID=UTC:20251112T120000
DTSTAMP:20260423T215619
CREATED:20251028T174839Z
LAST-MODIFIED:20251028T174839Z
UID:16126-1762946100-1762948800@wayneseniorcenter.org
SUMMARY:Soul Line Dancing
DESCRIPTION:Kenny James will get you moving and grooving in a fun\, easy to learn dance class. No experience necessary – all can join. $3 members / $6 non-members.
URL:https://wayneseniorcenter.org/event/soul-line-dancing-84/
END:VEVENT
BEGIN:VEVENT
DTSTART;TZID=UTC:20251112T123000
DTEND;TZID=UTC:20251112T133000
DTSTAMP:20260423T215619
CREATED:20251028T174835Z
LAST-MODIFIED:20251028T174835Z
UID:16123-1762950600-1762954200@wayneseniorcenter.org
SUMMARY:Fooling with Ukes
DESCRIPTION:Dust off your ukes and join Barbara Van Clief (Barley) for a few practice sessions. Learn to play various popular songs with a group of individuals who share your passion for music!
URL:https://wayneseniorcenter.org/event/fooling-with-ukes-42/
END:VEVENT
BEGIN:VEVENT
DTSTART;TZID=UTC:20251112T123000
DTEND;TZID=UTC:20251112T133000
DTSTAMP:20260423T215619
CREATED:20251028T174837Z
LAST-MODIFIED:20251028T174837Z
UID:16125-1762950600-1762954200@wayneseniorcenter.org
SUMMARY:Silver Sneakers Classic
DESCRIPTION:Focus on strengthening muscles and increasing range of motion using light weights\, stretch bands\, and exercise balls.
URL:https://wayneseniorcenter.org/event/silver-sneakers-classic-106/
END:VEVENT
BEGIN:VEVENT
DTSTART;TZID=UTC:20251112T133000
DTEND;TZID=UTC:20251112T143000
DTSTAMP:20260423T215619
CREATED:20251028T174825Z
LAST-MODIFIED:20251029T132054Z
UID:16122-1762954200-1762957800@wayneseniorcenter.org
SUMMARY:Author Talk with Dr. Barry Jacobs and Dr Julia Mayer
DESCRIPTION:Dr. Barry Jacobs and Dr. Julia Mayer will share practical insights and strategies from their book\, Love and Meaning after 50. Light refreshments will be provided. A limited number of books will be available for sale. You must RSVP by November 7th.
URL:https://wayneseniorcenter.org/event/author-talk-with-dr-barry-jacobs-and-dr-julia-mayer-2/
ATTACH;FMTTYPE=image/png:https://wayneseniorcenter.org/wp-content/uploads/2025/10/1112-Author-Talk.png
END:VEVENT
BEGIN:VEVENT
DTSTART;TZID=UTC:20251113T093000
DTEND;TZID=UTC:20251113T104500
DTSTAMP:20260423T215619
CREATED:20251028T174859Z
LAST-MODIFIED:20251028T174859Z
UID:16128-1763026200-1763030700@wayneseniorcenter.org
SUMMARY:Fresh Start
DESCRIPTION:Join us for Fresh Start—our new\, nutritious and delicious breakfast program! Breakfast will be served every Tuesday and Thursdayfrom 9:30 AM to 10:45 AM. Cost is $3.\nMeals are available on a first-come\, first-served basis\, so be sure to arrive early!\n Please note: the menu is subject to change.
URL:https://wayneseniorcenter.org/event/fresh-start-42/
END:VEVENT
BEGIN:VEVENT
DTSTART;TZID=UTC:20251113T100000
DTEND;TZID=UTC:20251113T110000
DTSTAMP:20260423T215619
CREATED:20251028T174903Z
LAST-MODIFIED:20251029T132132Z
UID:16131-1763028000-1763031600@wayneseniorcenter.org
SUMMARY:Tech Tips: Podcasts
DESCRIPTION:Learn how to listen to podcasts on your phone or tablet. Bring your device and any relevant account information to follow along.
URL:https://wayneseniorcenter.org/event/tech-tips-podcasts/
ATTACH;FMTTYPE=image/png:https://wayneseniorcenter.org/wp-content/uploads/2025/10/1113-Podcasts.png
END:VEVENT
BEGIN:VEVENT
DTSTART;TZID=UTC:20251113T110000
DTEND;TZID=UTC:20251113T120000
DTSTAMP:20260423T215619
CREATED:20251028T174902Z
LAST-MODIFIED:20251028T174902Z
UID:16130-1763031600-1763035200@wayneseniorcenter.org
SUMMARY:Sit\, Move\, Stretch
DESCRIPTION:This class offers seated or standing: cardio movement\, strengthening\, deep breathing\, and stretching. In-Person fees – free for WSC members\, $3 for non-members.
URL:https://wayneseniorcenter.org/event/sit-move-stretch-105/
END:VEVENT
BEGIN:VEVENT
DTSTART;TZID=UTC:20251113T120000
DTEND;TZID=UTC:20251113T130000
DTSTAMP:20260423T215619
CREATED:20251028T174901Z
LAST-MODIFIED:20251028T174901Z
UID:16129-1763035200-1763038800@wayneseniorcenter.org
SUMMARY:Men's Group
DESCRIPTION:Catch up with friends over lunch and discuss topics related to men’s lives – hobbies\, family stories\, retirement\, career reflections\, mental & physical health\, or whatever else is on your mind. Call to reserve a Center lunch\, bring your own\, or just stop by to chat.
URL:https://wayneseniorcenter.org/event/mens-group-8/
END:VEVENT
BEGIN:VEVENT
DTSTART;TZID=UTC:20251113T130000
DTEND;TZID=UTC:20251113T150000
DTSTAMP:20260423T215619
CREATED:20251028T174840Z
LAST-MODIFIED:20251028T174840Z
UID:16127-1763038800-1763046000@wayneseniorcenter.org
SUMMARY:Cards and Games: Open Play
DESCRIPTION:Join us for an afternoon playing games of your choice- Poker\, gin rummy\, pinochle\, mahjong etc. Meet a new friend and start a game of your own. Mahjong teachers/leaders feel free to bring your game set!
URL:https://wayneseniorcenter.org/event/cards-and-games-open-play-57/
END:VEVENT
BEGIN:VEVENT
DTSTART;TZID=UTC:20251114T093000
DTEND;TZID=UTC:20251114T103000
DTSTAMP:20260423T215619
CREATED:20251029T125540Z
LAST-MODIFIED:20251029T125540Z
UID:16135-1763112600-1763116200@wayneseniorcenter.org
SUMMARY:Senior Circuit
DESCRIPTION:Join us for a dynamic strength-building\, full-body workout utilizing bands\, weights\, and balls as we cycle through various stations.
URL:https://wayneseniorcenter.org/event/senior-circuit-53/
END:VEVENT
END:VCALENDAR