BEGIN:VCALENDAR
VERSION:2.0
PRODID:-//Wayne Senior Center - ECPv6.15.20//NONSGML v1.0//EN
CALSCALE:GREGORIAN
METHOD:PUBLISH
X-WR-CALNAME:Wayne Senior Center
X-ORIGINAL-URL:https://wayneseniorcenter.org
X-WR-CALDESC:Events for Wayne Senior Center
REFRESH-INTERVAL;VALUE=DURATION:PT1H
X-Robots-Tag:noindex
X-PUBLISHED-TTL:PT1H
BEGIN:VTIMEZONE
TZID:UTC
BEGIN:STANDARD
TZOFFSETFROM:+0000
TZOFFSETTO:+0000
TZNAME:UTC
DTSTART:20230101T000000
END:STANDARD
END:VTIMEZONE
BEGIN:VEVENT
DTSTART;TZID=UTC:20240912T110000
DTEND;TZID=UTC:20240912T120000
DTSTAMP:20260423T120212
CREATED:20240822T135352Z
LAST-MODIFIED:20240822T135352Z
UID:14110-1726138800-1726142400@wayneseniorcenter.org
SUMMARY:Sit\, Move\, Stretch (In Center)
DESCRIPTION:Gentle Movement\, stretching\, and relaxation. Free for WSC members\, $3 for non-members. RSVP by calling the center – (610) 688-6246
URL:https://wayneseniorcenter.org/event/sit-move-stretch-in-center-46/
END:VEVENT
BEGIN:VEVENT
DTSTART;TZID=UTC:20240912T101500
DTEND;TZID=UTC:20240912T110000
DTSTAMP:20260423T120212
CREATED:20240822T135152Z
LAST-MODIFIED:20240822T135152Z
UID:14062-1726136100-1726138800@wayneseniorcenter.org
SUMMARY:Bonsai Demo with Flex (In Center)
DESCRIPTION:Join Flex for a presentation on the art of bonsai! Learn about the ancient techniques and meticulous care involved in cultivating these miniature masterpieces.
URL:https://wayneseniorcenter.org/event/bonsai-demo-with-flex-in-center/
END:VEVENT
BEGIN:VEVENT
DTSTART;TZID=UTC:20240912T093000
DTEND;TZID=UTC:20240912T103000
DTSTAMP:20260423T120212
CREATED:20240822T135536Z
LAST-MODIFIED:20240822T135536Z
UID:14144-1726133400-1726137000@wayneseniorcenter.org
SUMMARY:Zumba Gold (In Center)
DESCRIPTION:Keep your body moving\, enjoy lively music\, and have fun dancing your cares away. $3 members / $6 non-members
URL:https://wayneseniorcenter.org/event/zumba-gold-in-center-47/
END:VEVENT
BEGIN:VEVENT
DTSTART;TZID=UTC:20240911T123000
DTEND;TZID=UTC:20240911T133000
DTSTAMP:20260423T120212
CREATED:20240822T135506Z
LAST-MODIFIED:20240822T135506Z
UID:14134-1726057800-1726061400@wayneseniorcenter.org
SUMMARY:UNO (In Center)
DESCRIPTION:Play UNO with friends at the Center!
URL:https://wayneseniorcenter.org/event/uno-in-center/
END:VEVENT
BEGIN:VEVENT
DTSTART;TZID=UTC:20240911T110000
DTEND;TZID=UTC:20240911T120000
DTSTAMP:20260423T120212
CREATED:20240822T135422Z
LAST-MODIFIED:20240822T135422Z
UID:14121-1726052400-1726056000@wayneseniorcenter.org
SUMMARY:Tai Chi (In Center and Virtual)
DESCRIPTION:Tai Chi is a gentle form of exercise involving a series of graceful movements performed in a slow\, focused manner and accompanied by deep breathing. Excellent for strengthening balance and promoting stress reduction. In-Person fees – $5 for WSC members\, $10 for non-members.
URL:https://wayneseniorcenter.org/event/tai-chi-in-center-and-virtual-45/
END:VEVENT
BEGIN:VEVENT
DTSTART;TZID=UTC:20240911T100000
DTEND;TZID=UTC:20240911T110000
DTSTAMP:20260423T120212
CREATED:20240822T135142Z
LAST-MODIFIED:20240822T135142Z
UID:14058-1726048800-1726052400@wayneseniorcenter.org
SUMMARY:American Trivia (In Center)
DESCRIPTION:Join us for some friendly competition using a fun\, game-based learning platform called Kahoot!
URL:https://wayneseniorcenter.org/event/american-trivia-in-center/
END:VEVENT
BEGIN:VEVENT
DTSTART;TZID=UTC:20240911T093000
DTEND;TZID=UTC:20240911T103000
DTSTAMP:20260423T120212
CREATED:20240822T135406Z
LAST-MODIFIED:20240822T135406Z
UID:14113-1726047000-1726050600@wayneseniorcenter.org
SUMMARY:Slow Flow Yoga (In Center)
DESCRIPTION:Join Liz Seaden RYT for a challenging flow yoga class at WSC. This full-body workout incorporates both mat-based and standing poses.
URL:https://wayneseniorcenter.org/event/slow-flow-yoga-in-center-2/
END:VEVENT
BEGIN:VEVENT
DTSTART;TZID=UTC:20240910T123000
DTEND;TZID=UTC:20240910T143000
DTSTAMP:20260423T120212
CREATED:20240822T135306Z
LAST-MODIFIED:20240822T135306Z
UID:14094-1725971400-1725978600@wayneseniorcenter.org
SUMMARY:Patio Party with Senator Cappelletti (In Center)
DESCRIPTION:We’re excited to use our new patio and would love for you to join us! Come by on Tuesday\, September 10\, from 12:30pm to 2:30pm for fun\, snacks\, and raffles. Don’t miss the chance to say hello to Senator Cappelletti as well!
URL:https://wayneseniorcenter.org/event/patio-party-with-senator-cappelletti-in-center/
END:VEVENT
BEGIN:VEVENT
DTSTART;TZID=UTC:20240910T123000
DTEND;TZID=UTC:20240910T133000
DTSTAMP:20260423T120212
CREATED:20240822T135251Z
LAST-MODIFIED:20240822T135251Z
UID:14089-1725971400-1725975000@wayneseniorcenter.org
SUMMARY:Mindfulness (In Center)
DESCRIPTION:Practicing mindfulness provides countless benefits to our overall well-being. Join instructor Liz for an hour of virtual mindfulness.
URL:https://wayneseniorcenter.org/event/mindfulness-in-center-34/
END:VEVENT
BEGIN:VEVENT
DTSTART;TZID=UTC:20240910T120000
DTEND;TZID=UTC:20240910T130000
DTSTAMP:20260423T120212
CREATED:20240822T135236Z
LAST-MODIFIED:20240822T135236Z
UID:14084-1725969600-1725973200@wayneseniorcenter.org
SUMMARY:Let's Do Lunch! (In Center)
DESCRIPTION:Let’s do lunch together! Please see the menu in the newsletter for details on each meal. $5 members / $8 non-members. RSVP required\, in-center dining only.
URL:https://wayneseniorcenter.org/event/lets-do-lunch-in-center-13/
END:VEVENT
BEGIN:VEVENT
DTSTART;TZID=UTC:20240910T110000
DTEND;TZID=UTC:20240910T120000
DTSTAMP:20260423T120212
CREATED:20240822T135337Z
LAST-MODIFIED:20240822T135337Z
UID:14106-1725966000-1725969600@wayneseniorcenter.org
SUMMARY:Sit\, Move\, Stretch (In Center and Virtual)
DESCRIPTION:This class offers seated or standing: cardio movement\, strengthening\, deep breathing\, and stretching. In-Person fees – free for WSC members\, $3 for non-members.
URL:https://wayneseniorcenter.org/event/sit-move-stretch-in-center-and-virtual-45/
END:VEVENT
BEGIN:VEVENT
DTSTART;TZID=UTC:20240910T100000
DTEND;TZID=UTC:20240910T110000
DTSTAMP:20260423T120212
CREATED:20240822T135438Z
LAST-MODIFIED:20240822T140858Z
UID:14127-1725962400-1725966000@wayneseniorcenter.org
SUMMARY:Tech Tips: Bird & Plant Identification (In Center)
DESCRIPTION:Setup and learn how to use bird and plant identification apps. Bring your device and any relevant account information – AppleID password\, Google account on Android\, etc. We’ll take a look at the Merlin Bird ID and PlantNet apps\, if you’d like to download them ahead of time.
URL:https://wayneseniorcenter.org/event/tech-tips-bird-plant-identification-in-center/
END:VEVENT
BEGIN:VEVENT
DTSTART;TZID=UTC:20240910T090000
DTEND;TZID=UTC:20240910T100000
DTSTAMP:20260423T120212
CREATED:20240822T135507Z
LAST-MODIFIED:20240822T135507Z
UID:14136-1725958800-1725962400@wayneseniorcenter.org
SUMMARY:Walking Club (Off-Site)
DESCRIPTION:Join WSC friends for a walk on the Radnor trail – weather permitting. Walkers meet at the trail parking lot (520 Conestoga Road). All abilities welcome. Wear comfortable walking shoes.
URL:https://wayneseniorcenter.org/event/walking-club-off-site-19/
END:VEVENT
BEGIN:VEVENT
DTSTART;TZID=UTC:20240910T090000
DTEND;TZID=UTC:20240910T100000
DTSTAMP:20260423T120212
CREATED:20240822T135451Z
LAST-MODIFIED:20240822T135451Z
UID:14129-1725958800-1725962400@wayneseniorcenter.org
SUMMARY:Tech Tuesday (In Center)
DESCRIPTION:Stop by during this time with your tech questions or email Francis at francis@wayneseniorcenter.org to make an appointment. Some Tuesdays will feature a workshop on a certain topic starting at 10am.
URL:https://wayneseniorcenter.org/event/tech-tuesday-in-center-45/
END:VEVENT
BEGIN:VEVENT
DTSTART;TZID=UTC:20240909T140000
DTEND;TZID=UTC:20240909T150000
DTSTAMP:20260423T120212
CREATED:20240822T135322Z
LAST-MODIFIED:20240822T135322Z
UID:14100-1725890400-1725894000@wayneseniorcenter.org
SUMMARY:Seasons Grief & Loss Group (In Center)
DESCRIPTION:Join others in a safe space to listen\, share\, and heal in conversation about losses you have experienced. We will learn how grief can effect our everyday life and ways to manage the range of feelings and symptoms. Facilitated by Holiticare Hospice
URL:https://wayneseniorcenter.org/event/seasons-grief-loss-group-in-center-4/
END:VEVENT
BEGIN:VEVENT
DTSTART;TZID=UTC:20240909T110000
DTEND;TZID=UTC:20240909T120000
DTSTAMP:20260423T120212
CREATED:20240822T135407Z
LAST-MODIFIED:20240822T135407Z
UID:14116-1725879600-1725883200@wayneseniorcenter.org
SUMMARY:Soul Line Dance (In Center)
DESCRIPTION:Kenny James will get you moving and grooving in a fun\, easy to learn dance class. No experience necessary – all can join. $3 members / $6 non-members.
URL:https://wayneseniorcenter.org/event/soul-line-dance-in-center-22/
END:VEVENT
BEGIN:VEVENT
DTSTART;TZID=UTC:20240909T100000
DTEND;TZID=UTC:20240909T120000
DTSTAMP:20260423T120212
CREATED:20240822T135521Z
LAST-MODIFIED:20240822T135521Z
UID:14139-1725876000-1725883200@wayneseniorcenter.org
SUMMARY:WSC Quilters (In Center)
DESCRIPTION:WSC quiliting club. All skill levels Welcome. Come by or RSVP by calling the center – (610) 688-6246
URL:https://wayneseniorcenter.org/event/wsc-quilters-in-center-44/
END:VEVENT
BEGIN:VEVENT
DTSTART;TZID=UTC:20240909T100000
DTEND;TZID=UTC:20240909T120000
DTSTAMP:20260423T120212
CREATED:20240822T135307Z
LAST-MODIFIED:20240822T135307Z
UID:14096-1725876000-1725883200@wayneseniorcenter.org
SUMMARY:Refresher Bridge (In Center)
DESCRIPTION:Brush up on your bridge skills with Lawrie Stetson and Dave Heron. Must have previous bridge experience.
URL:https://wayneseniorcenter.org/event/refresher-bridge-in-center-44/
END:VEVENT
BEGIN:VEVENT
DTSTART;TZID=UTC:20240909T093000
DTEND;TZID=UTC:20240909T103000
DTSTAMP:20260423T120212
CREATED:20240822T135155Z
LAST-MODIFIED:20240822T135155Z
UID:14063-1725874200-1725877800@wayneseniorcenter.org
SUMMARY:Brain Fit (In Center)
DESCRIPTION:Join Andrea as we exercise our brain with fun word puzzles and brain teasers!
URL:https://wayneseniorcenter.org/event/brain-fit-in-center-5/
END:VEVENT
BEGIN:VEVENT
DTSTART;TZID=UTC:20240906T103000
DTEND;TZID=UTC:20240906T113000
DTSTAMP:20260423T120212
CREATED:20240822T135203Z
LAST-MODIFIED:20240822T135203Z
UID:14071-1725618600-1725622200@wayneseniorcenter.org
SUMMARY:Chair Yoga (In Person and Virtual)
DESCRIPTION:A well-rounded class that will help with balance\, strengthening\, and relaxation. Have a sturdy chair available. All abilities welcome. In-Person fees – $3 for WSC members\, $6 for non-members.
URL:https://wayneseniorcenter.org/event/chair-yoga-in-person-and-virtual-41/
END:VEVENT
BEGIN:VEVENT
DTSTART;TZID=UTC:20240906T093000
DTEND;TZID=UTC:20240906T103000
DTSTAMP:20260423T120212
CREATED:20240822T135322Z
LAST-MODIFIED:20240822T135322Z
UID:14101-1725615000-1725618600@wayneseniorcenter.org
SUMMARY:Senior Circuit (In Center)
DESCRIPTION:Join us for a dynamic strength-building\, full-body workout utilizing bands\, weights\, and balls as we cycle through various stations.
URL:https://wayneseniorcenter.org/event/senior-circuit-in-center-11/
END:VEVENT
BEGIN:VEVENT
DTSTART;TZID=UTC:20240905T130000
DTEND;TZID=UTC:20240905T150000
DTSTAMP:20260423T120212
CREATED:20240822T135157Z
LAST-MODIFIED:20240822T135157Z
UID:14067-1725541200-1725548400@wayneseniorcenter.org
SUMMARY:Cards and Games: Open Play (In Center)
DESCRIPTION:Join us for an afternoon playing games of your choice- Poker\, gin rummy\, pinochle\, mahjong etc. Meet a new friend and start a game of your own. Mahjong teachers/leaders feel free to bring your game set!
URL:https://wayneseniorcenter.org/event/cards-and-games-open-play-in-center-46/
END:VEVENT
BEGIN:VEVENT
DTSTART;TZID=UTC:20240905T123000
DTEND;TZID=UTC:20240905T133000
DTSTAMP:20260423T120212
CREATED:20240822T135436Z
LAST-MODIFIED:20240822T135436Z
UID:14124-1725539400-1725543000@wayneseniorcenter.org
SUMMARY:Tai Chi (In Center)
DESCRIPTION:Tai Chi is a gentle form of exercise involving a series of graceful movements performed in a slow\, focused manner and accompanied by deep breathing. Excellent for strengthening balance and promoting stress reduction. In-Person fees – $5 for WSC members\, $10 for non-members.
URL:https://wayneseniorcenter.org/event/tai-chi-in-center-22/
END:VEVENT
BEGIN:VEVENT
DTSTART;TZID=UTC:20240905T110000
DTEND;TZID=UTC:20240905T130000
DTSTAMP:20260423T120212
CREATED:20240822T135336Z
LAST-MODIFIED:20240822T135336Z
UID:14104-1725534000-1725541200@wayneseniorcenter.org
SUMMARY:Septa Key Card Renewals (In Center)
DESCRIPTION:Join us on the first Thursday of each month for Septa Key Cardapplications and renewals and other constituent services with a representative from Sen. AmandaCappelletti’s office. The representative is here 11:00AM to 1:00PM\, no need to RSVP.
URL:https://wayneseniorcenter.org/event/septa-key-card-renewals-in-center-12/
END:VEVENT
BEGIN:VEVENT
DTSTART;TZID=UTC:20240905T110000
DTEND;TZID=UTC:20240905T120000
DTSTAMP:20260423T120212
CREATED:20240822T135351Z
LAST-MODIFIED:20240822T135351Z
UID:14109-1725534000-1725537600@wayneseniorcenter.org
SUMMARY:Sit\, Move\, Stretch (In Center)
DESCRIPTION:Gentle Movement\, stretching\, and relaxation. Free for WSC members\, $3 for non-members. RSVP by calling the center – (610) 688-6246
URL:https://wayneseniorcenter.org/event/sit-move-stretch-in-center-45/
END:VEVENT
BEGIN:VEVENT
DTSTART;TZID=UTC:20240905T093000
DTEND;TZID=UTC:20240905T103000
DTSTAMP:20260423T120212
CREATED:20240822T135536Z
LAST-MODIFIED:20240822T135536Z
UID:14143-1725528600-1725532200@wayneseniorcenter.org
SUMMARY:Zumba Gold (In Center)
DESCRIPTION:Keep your body moving\, enjoy lively music\, and have fun dancing your cares away. $3 members / $6 non-members
URL:https://wayneseniorcenter.org/event/zumba-gold-in-center-46/
END:VEVENT
BEGIN:VEVENT
DTSTART;TZID=UTC:20240905T090000
DTEND;TZID=UTC:20240905T110000
DTSTAMP:20260423T120212
CREATED:20240822T135151Z
LAST-MODIFIED:20240822T135151Z
UID:14060-1725526800-1725534000@wayneseniorcenter.org
SUMMARY:Blood Pressure Screenings (In Center)
DESCRIPTION:Are you trying to keep track of your blood pressure readings? Have questions about a medication or just need a listening ear? Stop by and speak 1:1 with a nurse.
URL:https://wayneseniorcenter.org/event/blood-pressure-screenings-in-center-24/
END:VEVENT
BEGIN:VEVENT
DTSTART;TZID=UTC:20240904T123000
DTEND;TZID=UTC:20240904T133000
DTSTAMP:20260423T120212
CREATED:20240822T135222Z
LAST-MODIFIED:20240822T135222Z
UID:14080-1725453000-1725456600@wayneseniorcenter.org
SUMMARY:Fooling with Ukes (In Center)
DESCRIPTION:Dust off your ukes and join Barbara Van Clief (Barley) for a few practice sessions. Learn to play various popular songs with a group of individuals who share your passion for music!
URL:https://wayneseniorcenter.org/event/fooling-with-ukes-in-center-11/
END:VEVENT
BEGIN:VEVENT
DTSTART;TZID=UTC:20240904T110000
DTEND;TZID=UTC:20240904T120000
DTSTAMP:20260423T120212
CREATED:20240822T135422Z
LAST-MODIFIED:20240822T135422Z
UID:14120-1725447600-1725451200@wayneseniorcenter.org
SUMMARY:Tai Chi (In Center and Virtual)
DESCRIPTION:Tai Chi is a gentle form of exercise involving a series of graceful movements performed in a slow\, focused manner and accompanied by deep breathing. Excellent for strengthening balance and promoting stress reduction. In-Person fees – $5 for WSC members\, $10 for non-members.
URL:https://wayneseniorcenter.org/event/tai-chi-in-center-and-virtual-44/
END:VEVENT
BEGIN:VEVENT
DTSTART;TZID=UTC:20240904T093000
DTEND;TZID=UTC:20240904T103000
DTSTAMP:20260423T120212
CREATED:20240822T135353Z
LAST-MODIFIED:20240822T135353Z
UID:14112-1725442200-1725445800@wayneseniorcenter.org
SUMMARY:Slow Flow Yoga (In Center)
DESCRIPTION:Join Liz Seaden RYT for a challenging flow yoga class at WSC. This full-body workout incorporates both mat-based and standing poses.
URL:https://wayneseniorcenter.org/event/slow-flow-yoga-in-center/
END:VEVENT
END:VCALENDAR