BEGIN:VCALENDAR
VERSION:2.0
PRODID:-//Wayne Senior Center - ECPv6.15.20//NONSGML v1.0//EN
CALSCALE:GREGORIAN
METHOD:PUBLISH
X-ORIGINAL-URL:https://wayneseniorcenter.org
X-WR-CALDESC:Events for Wayne Senior Center
REFRESH-INTERVAL;VALUE=DURATION:PT1H
X-Robots-Tag:noindex
X-PUBLISHED-TTL:PT1H
BEGIN:VTIMEZONE
TZID:UTC
BEGIN:STANDARD
TZOFFSETFROM:+0000
TZOFFSETTO:+0000
TZNAME:UTC
DTSTART:20230101T000000
END:STANDARD
END:VTIMEZONE
BEGIN:VEVENT
DTSTART;TZID=UTC:20240819T100000
DTEND;TZID=UTC:20240819T120000
DTSTAMP:20260423T151143
CREATED:20240725T131908Z
LAST-MODIFIED:20240725T131908Z
UID:13956-1724061600-1724068800@wayneseniorcenter.org
SUMMARY:WSC Quilters (In Center)
DESCRIPTION:WSC quiliting club. All skill levels Welcome. Come by or RSVP by calling the center – (610) 688-6246
URL:https://wayneseniorcenter.org/event/wsc-quilters-in-center-42/
END:VEVENT
BEGIN:VEVENT
DTSTART;TZID=UTC:20240819T110000
DTEND;TZID=UTC:20240819T120000
DTSTAMP:20260423T151143
CREATED:20240725T131906Z
LAST-MODIFIED:20240725T131906Z
UID:13955-1724065200-1724068800@wayneseniorcenter.org
SUMMARY:Soul Line Dance (In Center)
DESCRIPTION:Kenny James will get you moving and grooving in a fun\, easy to learn dance class. No experience necessary – all can join. $3 members / $6 non-members.
URL:https://wayneseniorcenter.org/event/soul-line-dance-in-center-20/
END:VEVENT
BEGIN:VEVENT
DTSTART;TZID=UTC:20240820T090000
DTEND;TZID=UTC:20240820T100000
DTSTAMP:20260423T151143
CREATED:20240725T131925Z
LAST-MODIFIED:20240725T131925Z
UID:13961-1724144400-1724148000@wayneseniorcenter.org
SUMMARY:Tech Tuesday (In Center)
DESCRIPTION:Stop by during this time with your tech questions or email Francis at francis@wayneseniorcenter.org to make an appointment. Some Tuesdays will feature a workshop on a certain topic starting at 10am.
URL:https://wayneseniorcenter.org/event/tech-tuesday-in-center-42/
END:VEVENT
BEGIN:VEVENT
DTSTART;TZID=UTC:20240820T090000
DTEND;TZID=UTC:20240820T100000
DTSTAMP:20260423T151143
CREATED:20240725T131928Z
LAST-MODIFIED:20240802T142919Z
UID:13962-1724144400-1724148000@wayneseniorcenter.org
SUMMARY:Walking Club (Off-Site)
DESCRIPTION:Join WSC friends for a walk on the Radnor trail – weather permitting. Walkers meet at the trail parking lot (520 Conestoga Road). All abilities welcome. Wear comfortable walking shoes and bring a bottle of water!
URL:https://wayneseniorcenter.org/event/walking-club-off-site-16/
END:VEVENT
BEGIN:VEVENT
DTSTART;TZID=UTC:20240820T100000
DTEND;TZID=UTC:20240820T110000
DTSTAMP:20260423T151143
CREATED:20240725T131922Z
LAST-MODIFIED:20240725T135603Z
UID:13960-1724148000-1724151600@wayneseniorcenter.org
SUMMARY:Smart Phone Tips: Emergency SOS (In Center)
DESCRIPTION:iPhone and Android both include features that allow you to quickly call for help in an emergency. Learn how to set your emergency contacts and medical information and explore the settings and features that your phone offers for emergency situations. Any type of phone is welcome – iPhone\, Android\, flip phone\, etc.
URL:https://wayneseniorcenter.org/event/smart-phone-tips-emergency-sos-in-center-3/
END:VEVENT
BEGIN:VEVENT
DTSTART;TZID=UTC:20240820T100000
DTEND;TZID=UTC:20240820T110000
DTSTAMP:20260423T151143
CREATED:20240808T190521Z
LAST-MODIFIED:20240808T190521Z
UID:14043-1724148000-1724151600@wayneseniorcenter.org
SUMMARY:Visit From Gracie the Dog
DESCRIPTION:Celebrate National Dog Month and enjoy a visit from Gracie\, a friendly golden retriever therapy dog.
URL:https://wayneseniorcenter.org/event/visit-from-gracie-the-dog/
END:VEVENT
BEGIN:VEVENT
DTSTART;TZID=UTC:20240820T110000
DTEND;TZID=UTC:20240820T120000
DTSTAMP:20260423T151143
CREATED:20240725T131919Z
LAST-MODIFIED:20240725T131919Z
UID:13959-1724151600-1724155200@wayneseniorcenter.org
SUMMARY:Sit\, Move\, Stretch (In Center and Virtual)
DESCRIPTION:This class offers seated or standing: cardio movement\, strengthening\, deep breathing\, and stretching. In-Person fees – free for WSC members\, $3 for non-members.
URL:https://wayneseniorcenter.org/event/sit-move-stretch-in-center-and-virtual-42/
END:VEVENT
BEGIN:VEVENT
DTSTART;TZID=UTC:20240820T120000
DTEND;TZID=UTC:20240820T130000
DTSTAMP:20260423T151143
CREATED:20240725T131910Z
LAST-MODIFIED:20240725T131910Z
UID:13957-1724155200-1724158800@wayneseniorcenter.org
SUMMARY:Let's Do Lunch! (In Center)
DESCRIPTION:Let’s do lunch together! Please see the menu in the newsletter for details on each meal. $5 members / $8 non-members. RSVP required\, in-center dining only.
URL:https://wayneseniorcenter.org/event/lets-do-lunch-in-center-11/
END:VEVENT
BEGIN:VEVENT
DTSTART;TZID=UTC:20240820T123000
DTEND;TZID=UTC:20240820T130000
DTSTAMP:20260423T151143
CREATED:20240725T131913Z
LAST-MODIFIED:20240725T131913Z
UID:13958-1724157000-1724158800@wayneseniorcenter.org
SUMMARY:Mindfulness (In Center)
DESCRIPTION:Practicing mindfulness provides countless benefits to our overall well-being. Join instructor Liz for an hour of virtual mindfulness.
URL:https://wayneseniorcenter.org/event/mindfulness-in-center-31/
END:VEVENT
BEGIN:VEVENT
DTSTART;TZID=UTC:20240821T093000
DTEND;TZID=UTC:20240821T103000
DTSTAMP:20260423T151143
CREATED:20240725T132125Z
LAST-MODIFIED:20240802T144128Z
UID:13967-1724232600-1724236200@wayneseniorcenter.org
SUMMARY:Slow Flow Yoga (In Center)
DESCRIPTION:Join Liz Seaden\, RYT for an all abilities yoga class. Cost: $5 for Members\, $10 for Non-Members.
URL:https://wayneseniorcenter.org/event/yoga-at-the-willows-park-preserve-off-site-7/
END:VEVENT
BEGIN:VEVENT
DTSTART;TZID=UTC:20240821T100000
DTEND;TZID=UTC:20240821T110000
DTSTAMP:20260423T151143
CREATED:20240725T132123Z
LAST-MODIFIED:20240802T145104Z
UID:13966-1724234400-1724238000@wayneseniorcenter.org
SUMMARY:Trivia (In Center)
DESCRIPTION:August is Nation Dog Month! Test your knowledge with some fun trivia all about dogs!
URL:https://wayneseniorcenter.org/event/trivia-in-center-5/
END:VEVENT
BEGIN:VEVENT
DTSTART;TZID=UTC:20240821T110000
DTEND;TZID=UTC:20240821T120000
DTSTAMP:20260423T151143
CREATED:20240725T132122Z
LAST-MODIFIED:20240725T132122Z
UID:13965-1724238000-1724241600@wayneseniorcenter.org
SUMMARY:Tai Chi (In Center and Virtual)
DESCRIPTION:Tai Chi is a gentle form of exercise involving a series of graceful movements performed in a slow\, focused manner and accompanied by deep breathing. Excellent for strengthening balance and promoting stress reduction. In-Person fees – $5 for WSC members\, $10 for non-members.
URL:https://wayneseniorcenter.org/event/tai-chi-in-center-and-virtual-42/
END:VEVENT
BEGIN:VEVENT
DTSTART;TZID=UTC:20240821T123000
DTEND;TZID=UTC:20240821T133000
DTSTAMP:20260423T151143
CREATED:20240725T131930Z
LAST-MODIFIED:20240725T131930Z
UID:13963-1724243400-1724247000@wayneseniorcenter.org
SUMMARY:Fooling with Ukes (In Center)
DESCRIPTION:Dust off your ukes and join Barbara Van Clief (Barley) for a few practice sessions. Learn to play various popular songs with a group of individuals who share your passion for music!
URL:https://wayneseniorcenter.org/event/fooling-with-ukes-in-center-10/
END:VEVENT
BEGIN:VEVENT
DTSTART;TZID=UTC:20240821T150000
DTEND;TZID=UTC:20240821T160000
DTSTAMP:20260423T151143
CREATED:20240725T132120Z
LAST-MODIFIED:20240725T132120Z
UID:13964-1724252400-1724256000@wayneseniorcenter.org
SUMMARY:Memoir Writing (Virtual)
DESCRIPTION:Join Sara Wenger\, MFA for a memoir writing workshop. Sara will share memoir excerpts as well as writing exercises to help you write your unique life experiences so they can be passed on to children\, grandchildren\, friends and others. No prior writing experience is necessary! The class is appropriate for both novice and seasoned writers
URL:https://wayneseniorcenter.org/event/memoir-writing-virtual-11/
END:VEVENT
BEGIN:VEVENT
DTSTART;TZID=UTC:20240822T090000
DTEND;TZID=UTC:20240822T110000
DTSTAMP:20260423T151143
CREATED:20240725T132127Z
LAST-MODIFIED:20240725T132127Z
UID:13968-1724317200-1724324400@wayneseniorcenter.org
SUMMARY:Blood Pressure Screenings (In Center)
DESCRIPTION:Are you trying to keep track of your blood pressure readings? Have questions about a medication or just need a listening ear? Stop by and speak 1:1 with a nurse.
URL:https://wayneseniorcenter.org/event/blood-pressure-screenings-in-center-23/
END:VEVENT
BEGIN:VEVENT
DTSTART;TZID=UTC:20240822T093000
DTEND;TZID=UTC:20240822T103000
DTSTAMP:20260423T151143
CREATED:20240725T132325Z
LAST-MODIFIED:20240725T132325Z
UID:13973-1724319000-1724322600@wayneseniorcenter.org
SUMMARY:Zumba Gold (In Center)
DESCRIPTION:Keep your body moving\, enjoy lively music\, and have fun dancing your cares away. $3 members / $6 non-members
URL:https://wayneseniorcenter.org/event/zumba-gold-in-center-44/
END:VEVENT
BEGIN:VEVENT
DTSTART;TZID=UTC:20240822T101500
DTEND;TZID=UTC:20240822T110000
DTSTAMP:20260423T151143
CREATED:20240725T132321Z
LAST-MODIFIED:20240725T132321Z
UID:13970-1724321700-1724324400@wayneseniorcenter.org
SUMMARY:DIY Easy Peach Parfait (In Center)
DESCRIPTION:August 22 is National Eat a Peach Day! What better way to celebrate than by whipping up some delicious peach parfaits?
URL:https://wayneseniorcenter.org/event/diy-easy-peach-parfait-in-center/
END:VEVENT
BEGIN:VEVENT
DTSTART;TZID=UTC:20240822T110000
DTEND;TZID=UTC:20240822T120000
DTSTAMP:20260423T151143
CREATED:20240725T132322Z
LAST-MODIFIED:20240725T132322Z
UID:13971-1724324400-1724328000@wayneseniorcenter.org
SUMMARY:Sit\, Move\, Stretch (In Center)
DESCRIPTION:Gentle Movement\, stretching\, and relaxation. Free for WSC members\, $3 for non-members. RSVP by calling the center – (610) 688-6246
URL:https://wayneseniorcenter.org/event/sit-move-stretch-in-center-43/
END:VEVENT
BEGIN:VEVENT
DTSTART;TZID=UTC:20240822T123000
DTEND;TZID=UTC:20240822T133000
DTSTAMP:20260423T151143
CREATED:20240725T132323Z
LAST-MODIFIED:20240802T140244Z
UID:13972-1724329800-1724333400@wayneseniorcenter.org
SUMMARY:Tai Chi (In Center and Virtual)
DESCRIPTION:Tai Chi is a gentle form of exercise involving a series of graceful movements performed in a slow\, focused manner and accompanied by deep breathing. Excellent for strengthening balance and promoting stress reduction. In-Person fees – $5 for WSC members\, $10 for non-members.
URL:https://wayneseniorcenter.org/event/tai-chi-in-center-20/
END:VEVENT
BEGIN:VEVENT
DTSTART;TZID=UTC:20240822T130000
DTEND;TZID=UTC:20240822T150000
DTSTAMP:20260423T151143
CREATED:20240725T132319Z
LAST-MODIFIED:20240725T132319Z
UID:13969-1724331600-1724338800@wayneseniorcenter.org
SUMMARY:Cards and Games: Open Play (In Center)
DESCRIPTION:Join us for an afternoon playing games of your choice- Poker\, gin rummy\, pinochle\, mahjong etc. Meet a new friend and start a game of your own. Mahjong teachers/leaders feel free to bring your game set!
URL:https://wayneseniorcenter.org/event/cards-and-games-open-play-in-center-44/
END:VEVENT
BEGIN:VEVENT
DTSTART;TZID=UTC:20240823T093000
DTEND;TZID=UTC:20240823T103000
DTSTAMP:20260423T151143
CREATED:20240725T132355Z
LAST-MODIFIED:20240802T141316Z
UID:13975-1724405400-1724409000@wayneseniorcenter.org
SUMMARY:New! Senior Circuit (In Center)
DESCRIPTION:Introducing the new & improved Senior Circuit class! Join us for a dynamic strength-building\, full-body workout utilizing bands\, weights and balls as we cycle through various stations. Cost: Free fir Silver Sneakers or $3 for Members\, $6 for NonMembers.
URL:https://wayneseniorcenter.org/event/senior-circuit-in-center-9/
END:VEVENT
BEGIN:VEVENT
DTSTART;TZID=UTC:20240823T103000
DTEND;TZID=UTC:20240823T113000
DTSTAMP:20260423T151143
CREATED:20240725T132352Z
LAST-MODIFIED:20240725T132352Z
UID:13974-1724409000-1724412600@wayneseniorcenter.org
SUMMARY:Chair Yoga (In Person and Virtual)
DESCRIPTION:A well-rounded class that will help with balance\, strengthening\, and relaxation. Have a sturdy chair available. All abilities welcome. In-Person fees – $3 for WSC members\, $6 for non-members.
URL:https://wayneseniorcenter.org/event/chair-yoga-in-person-and-virtual-39/
END:VEVENT
BEGIN:VEVENT
DTSTART;TZID=UTC:20240826T093000
DTEND;TZID=UTC:20240826T103000
DTSTAMP:20260423T151143
CREATED:20240725T132357Z
LAST-MODIFIED:20240725T132357Z
UID:13976-1724664600-1724668200@wayneseniorcenter.org
SUMMARY:Brain Fit (In Center)
DESCRIPTION:Join Andrea as we exercise our brain with fun word puzzles and brain teasers!
URL:https://wayneseniorcenter.org/event/brain-fit-in-center-4/
END:VEVENT
BEGIN:VEVENT
DTSTART;TZID=UTC:20240826T100000
DTEND;TZID=UTC:20240826T120000
DTSTAMP:20260423T151143
CREATED:20240725T132400Z
LAST-MODIFIED:20240725T132400Z
UID:13978-1724666400-1724673600@wayneseniorcenter.org
SUMMARY:Refresher Bridge (In Center)
DESCRIPTION:Brush up on your bridge skills with Lawrie Stetson and Dave Heron. Must have previous bridge experience.
URL:https://wayneseniorcenter.org/event/refresher-bridge-in-center-43/
END:VEVENT
BEGIN:VEVENT
DTSTART;TZID=UTC:20240826T100000
DTEND;TZID=UTC:20240826T120000
DTSTAMP:20260423T151143
CREATED:20240725T132413Z
LAST-MODIFIED:20240725T132413Z
UID:13981-1724666400-1724673600@wayneseniorcenter.org
SUMMARY:WSC Quilters (In Center)
DESCRIPTION:WSC quiliting club. All skill levels Welcome. Come by or RSVP by calling the center – (610) 688-6246
URL:https://wayneseniorcenter.org/event/wsc-quilters-in-center-43/
END:VEVENT
BEGIN:VEVENT
DTSTART;TZID=UTC:20240826T110000
DTEND;TZID=UTC:20240826T120000
DTSTAMP:20260423T151143
CREATED:20240725T132408Z
LAST-MODIFIED:20240725T132408Z
UID:13979-1724670000-1724673600@wayneseniorcenter.org
SUMMARY:Soul Line Dance (In Center)
DESCRIPTION:Kenny James will get you moving and grooving in a fun\, easy to learn dance class. No experience necessary – all can join. $3 members / $6 non-members.
URL:https://wayneseniorcenter.org/event/soul-line-dance-in-center-21/
END:VEVENT
BEGIN:VEVENT
DTSTART;TZID=UTC:20240826T120000
DTEND;TZID=UTC:20240826T130000
DTSTAMP:20260423T151143
CREATED:20240725T132359Z
LAST-MODIFIED:20240725T135458Z
UID:13977-1724673600-1724677200@wayneseniorcenter.org
SUMMARY:Pizza and a Movie: Unfrosted (In Center)
DESCRIPTION:Join us for a viewing of the film\, “Unfrosted” starring Jerry Seinfeld\, Melissa McCarthy\, and Jim Gaffigan. A heated battle over breakfast ignites in 1960s Michigan in this pop-tart comedy.
URL:https://wayneseniorcenter.org/event/pizza-and-a-movie-unfrosted-in-center/
END:VEVENT
BEGIN:VEVENT
DTSTART;TZID=UTC:20240827T090000
DTEND;TZID=UTC:20240827T100000
DTSTAMP:20260423T151143
CREATED:20240725T132425Z
LAST-MODIFIED:20240725T132425Z
UID:13986-1724749200-1724752800@wayneseniorcenter.org
SUMMARY:Tech Tuesday (In Center)
DESCRIPTION:Stop by during this time with your tech questions or email Francis at francis@wayneseniorcenter.org to make an appointment. Some Tuesdays will feature a workshop on a certain topic starting at 10am.
URL:https://wayneseniorcenter.org/event/tech-tuesday-in-center-43/
END:VEVENT
BEGIN:VEVENT
DTSTART;TZID=UTC:20240827T090000
DTEND;TZID=UTC:20240827T100000
DTSTAMP:20260423T151143
CREATED:20240725T132427Z
LAST-MODIFIED:20240802T142914Z
UID:13987-1724749200-1724752800@wayneseniorcenter.org
SUMMARY:Walking Club (Off-Site)
DESCRIPTION:Join WSC friends for a walk on the Radnor trail – weather permitting. Walkers meet at the trail parking lot (520 Conestoga Road). All abilities welcome. Wear comfortable walking shoes and bring a bottle of water!
URL:https://wayneseniorcenter.org/event/walking-club-off-site-17/
END:VEVENT
BEGIN:VEVENT
DTSTART;TZID=UTC:20240827T100000
DTEND;TZID=UTC:20240827T110000
DTSTAMP:20260423T151143
CREATED:20240725T132424Z
LAST-MODIFIED:20240725T135540Z
UID:13985-1724752800-1724756400@wayneseniorcenter.org
SUMMARY:Tech Tips: Cloud Storage (In Center)
DESCRIPTION:Out of space or getting messages to upgrade your cloud storage space? Stop by to learn how to check your cloud storage\, whether it is Apple’s iCloud\, Google Drive\, Microsoft OneDrive\, or any other service. Bring your device\, any relevant passwords or account information\, and all of the questions you have about cloud storage.
URL:https://wayneseniorcenter.org/event/tech-tips-cloud-storage-in-center/
END:VEVENT
END:VCALENDAR