BEGIN:VCALENDAR
VERSION:2.0
PRODID:-//Wayne Senior Center - ECPv6.15.20//NONSGML v1.0//EN
CALSCALE:GREGORIAN
METHOD:PUBLISH
X-ORIGINAL-URL:https://wayneseniorcenter.org
X-WR-CALDESC:Events for Wayne Senior Center
REFRESH-INTERVAL;VALUE=DURATION:PT1H
X-Robots-Tag:noindex
X-PUBLISHED-TTL:PT1H
BEGIN:VTIMEZONE
TZID:UTC
BEGIN:STANDARD
TZOFFSETFROM:+0000
TZOFFSETTO:+0000
TZNAME:UTC
DTSTART:20230101T000000
END:STANDARD
END:VTIMEZONE
BEGIN:VEVENT
DTSTART;TZID=UTC:20240207T110000
DTEND;TZID=UTC:20240207T120000
DTSTAMP:20260421T134036
CREATED:20240126T221052Z
LAST-MODIFIED:20240126T221052Z
UID:13054-1707303600-1707307200@wayneseniorcenter.org
SUMMARY:Tai Chi (In Center and Virtual)
DESCRIPTION:Tai Chi is a gentle form of exercise involving a series of graceful movements performed in a slow\, focused manner and accompanied by deep breathing. Excellent for strengthening balance and promoting stress reduction. In-Person fees – $5 for WSC members\, $10 for non-members.
URL:https://wayneseniorcenter.org/event/tai-chi-in-center-and-virtual-18/
END:VEVENT
BEGIN:VEVENT
DTSTART;TZID=UTC:20240207T123000
DTEND;TZID=UTC:20240207T133000
DTSTAMP:20260421T134036
CREATED:20240126T221052Z
LAST-MODIFIED:20240126T221052Z
UID:13052-1707309000-1707312600@wayneseniorcenter.org
SUMMARY:Fool Around with Ukes (In Center)
DESCRIPTION:Dust off your ukes and join Barbara Van Clief (Barley) for a few practice sessions. Learn to play various popular songs with a group of individuals who share your passion for music!
URL:https://wayneseniorcenter.org/event/fool-around-with-ukes-in-center-3/
END:VEVENT
BEGIN:VEVENT
DTSTART;TZID=UTC:20240208T093000
DTEND;TZID=UTC:20240208T103000
DTSTAMP:20260421T134036
CREATED:20240126T221107Z
LAST-MODIFIED:20240126T221107Z
UID:13058-1707384600-1707388200@wayneseniorcenter.org
SUMMARY:Zumba Gold (In Center)
DESCRIPTION:Keep your body moving\, enjoy lively music\, and have fun dancing your cares away. $3 members / $6 non-members
URL:https://wayneseniorcenter.org/event/zumba-gold-in-center-17/
END:VEVENT
BEGIN:VEVENT
DTSTART;TZID=UTC:20240208T103000
DTEND;TZID=UTC:20240208T110000
DTSTAMP:20260421T134036
CREATED:20240126T221107Z
LAST-MODIFIED:20240126T223157Z
UID:13059-1707388200-1707390000@wayneseniorcenter.org
SUMMARY:Handkerchief Spinning Demonstration (In Center)
DESCRIPTION:Join us for a traditional handkerchief spinning demonstration led by Honglei Yuan in celebration of Chinese New Year!
URL:https://wayneseniorcenter.org/event/handkerchief-spinning-demonstration-in-center/
END:VEVENT
BEGIN:VEVENT
DTSTART;TZID=UTC:20240208T110000
DTEND;TZID=UTC:20240208T120000
DTSTAMP:20260421T134036
CREATED:20240126T221106Z
LAST-MODIFIED:20240126T221106Z
UID:13056-1707390000-1707393600@wayneseniorcenter.org
SUMMARY:Sit\, Move\, Stretch (In Center)
DESCRIPTION:Gentle Movement\, stretching\, and relaxation. Free for WSC members\, $3 for non-members. RSVP by calling the center – (610) 688-6246
URL:https://wayneseniorcenter.org/event/sit-move-stretch-in-center-17/
END:VEVENT
BEGIN:VEVENT
DTSTART;TZID=UTC:20240208T120000
DTEND;TZID=UTC:20240208T130000
DTSTAMP:20260421T134036
CREATED:20240126T221107Z
LAST-MODIFIED:20240126T221107Z
UID:13057-1707393600-1707397200@wayneseniorcenter.org
SUMMARY:The Men's Group (In Center)
DESCRIPTION:From family stories\, thoughts on retirement\, to the news and a good joke\, come enjoy the company of other men! This men’s only meeting is an opportunity to chat about whatever is on your mind. You may enjoy the Center lunch or bring your own if you wish. Drinks and dessert will be provided.
URL:https://wayneseniorcenter.org/event/the-mens-group-in-center-4/
END:VEVENT
BEGIN:VEVENT
DTSTART;TZID=UTC:20240208T130000
DTEND;TZID=UTC:20240208T150000
DTSTAMP:20260421T134036
CREATED:20240126T221106Z
LAST-MODIFIED:20240126T221106Z
UID:13055-1707397200-1707404400@wayneseniorcenter.org
SUMMARY:Cards and Games: Open Play (In Center)
DESCRIPTION:Join us for an afternoon playing games of your choice- Poker\, gin rummy\, pinochle\, mahjong etc. Meet a new friend and start a game of your own. Mahjong teachers/leaders feel free to bring your game set!
URL:https://wayneseniorcenter.org/event/cards-and-games-open-play-in-center-17/
END:VEVENT
BEGIN:VEVENT
DTSTART;TZID=UTC:20240209T103000
DTEND;TZID=UTC:20240209T113000
DTSTAMP:20260421T134036
CREATED:20240126T221121Z
LAST-MODIFIED:20240126T221121Z
UID:13060-1707474600-1707478200@wayneseniorcenter.org
SUMMARY:Chair Yoga (In Person and Virtual)
DESCRIPTION:A well-rounded class that will help with balance\, strengthening\, and relaxation. Have a sturdy chair available. All abilities welcome. In-Person fees – $3 for WSC members\, $6 for non-members.
URL:https://wayneseniorcenter.org/event/chair-yoga-in-person-and-virtual-13/
END:VEVENT
BEGIN:VEVENT
DTSTART;TZID=UTC:20240212T100000
DTEND;TZID=UTC:20240212T120000
DTSTAMP:20260421T134036
CREATED:20240126T221121Z
LAST-MODIFIED:20240126T221121Z
UID:13061-1707732000-1707739200@wayneseniorcenter.org
SUMMARY:Refresher Bridge (In Center)
DESCRIPTION:Brush up on your bridge skills with Lawrie Stetson and Dave Heron. Must have previous bridge experience.
URL:https://wayneseniorcenter.org/event/refresher-bridge-in-center-17/
END:VEVENT
BEGIN:VEVENT
DTSTART;TZID=UTC:20240212T100000
DTEND;TZID=UTC:20240212T120000
DTSTAMP:20260421T134036
CREATED:20240126T221122Z
LAST-MODIFIED:20240126T221122Z
UID:13064-1707732000-1707739200@wayneseniorcenter.org
SUMMARY:WSC Quilters (In Center)
DESCRIPTION:WSC quiliting club. All skill levels Welcome. Come by or RSVP by calling the center – (610) 688-6246
URL:https://wayneseniorcenter.org/event/wsc-quilters-in-center-17/
END:VEVENT
BEGIN:VEVENT
DTSTART;TZID=UTC:20240212T110000
DTEND;TZID=UTC:20240212T120000
DTSTAMP:20260421T134036
CREATED:20240126T221136Z
LAST-MODIFIED:20240126T223124Z
UID:13065-1707735600-1707739200@wayneseniorcenter.org
SUMMARY:Soul Line Dance Party (In Center)
DESCRIPTION:Master soul line dance instructor Gloria Kingcade will join us for a Soul Line Dance Party on Monday\, February 12 at 11:00am! Lunch will be catered by Cheryl’s Southern Style Cuisine. RSVP by Feb 8th. Cost is $6 per person.
URL:https://wayneseniorcenter.org/event/soul-line-dance-party-in-center/
END:VEVENT
BEGIN:VEVENT
DTSTART;TZID=UTC:20240212T130000
DTEND;TZID=UTC:20240212T140000
DTSTAMP:20260421T134036
CREATED:20240126T221122Z
LAST-MODIFIED:20240126T221122Z
UID:13063-1707742800-1707746400@wayneseniorcenter.org
SUMMARY:Strength and Balance (Virtual)
DESCRIPTION:Move\, stretch\, and improve your balance\, both seated and standing\, along with instructor Cathi from home. All abilities welcome!
URL:https://wayneseniorcenter.org/event/strength-and-balance-virtual-17/
END:VEVENT
BEGIN:VEVENT
DTSTART;TZID=UTC:20240212T140000
DTEND;TZID=UTC:20240212T150000
DTSTAMP:20260421T134036
CREATED:20240126T221122Z
LAST-MODIFIED:20240126T221122Z
UID:13062-1707746400-1707750000@wayneseniorcenter.org
SUMMARY:Seasons: Grief and Loss Group (In Center)
DESCRIPTION:Join others in a safe space to listen\, share\, and heal in conversation about losses you have experienced. We will learn how grief can affect our everyday life and ways to manage the range of feelings and symptoms.
URL:https://wayneseniorcenter.org/event/seasons-grief-and-loss-group-in-center-7/
END:VEVENT
BEGIN:VEVENT
DTSTART;TZID=UTC:20240213T090000
DTEND;TZID=UTC:20240213T110000
DTSTAMP:20260421T134036
CREATED:20240126T221137Z
LAST-MODIFIED:20240126T221137Z
UID:13068-1707814800-1707822000@wayneseniorcenter.org
SUMMARY:Tech Tuesday (In Center)
DESCRIPTION:Tuesdays from 11am – 1pm stop in to chat Technology. Stop by between programs\, after grabbing some lunch\, or whenever is convenient for you. Bring specific questions about your device or come in to explore Wayne Senior Center iPads in a no-pressure environment. Or\, come by to share recent accomplishments or knowledge you’d like to share with others\, or just stop in to say hi and learn something new. Stop by during this time or email Francis at francis@wayneseniorcenter.org to make an appointment.
URL:https://wayneseniorcenter.org/event/tech-tuesday-in-center-17/
END:VEVENT
BEGIN:VEVENT
DTSTART;TZID=UTC:20240213T101500
DTEND;TZID=UTC:20240213T110000
DTSTAMP:20260421T134036
CREATED:20240126T221137Z
LAST-MODIFIED:20240126T221137Z
UID:13069-1707819300-1707822000@wayneseniorcenter.org
SUMMARY:Black History Trivia (In Center)
DESCRIPTION:Join us for this fun opportunity to learn about iconic black figures including athletes\, actors\, artists\, and more!
URL:https://wayneseniorcenter.org/event/black-history-trivia-in-center/
END:VEVENT
BEGIN:VEVENT
DTSTART;TZID=UTC:20240213T110000
DTEND;TZID=UTC:20240213T120000
DTSTAMP:20260421T134036
CREATED:20240126T221137Z
LAST-MODIFIED:20240126T221137Z
UID:13067-1707822000-1707825600@wayneseniorcenter.org
SUMMARY:Sit\, Move\, Stretch (In Center and Virtual)
DESCRIPTION:This class offers seated or standing: cardio movement\, strengthening\, deep breathing\, and stretching. In-Person fees – free for WSC members\, $3 for non-members.
URL:https://wayneseniorcenter.org/event/sit-move-stretch-in-center-and-virtual-17/
END:VEVENT
BEGIN:VEVENT
DTSTART;TZID=UTC:20240213T123000
DTEND;TZID=UTC:20240213T130000
DTSTAMP:20260421T134036
CREATED:20240126T221136Z
LAST-MODIFIED:20240126T221136Z
UID:13066-1707827400-1707829200@wayneseniorcenter.org
SUMMARY:Mindfulness (In Center)
DESCRIPTION:Practicing mindfulness provides countless benefits to our overall well-being. Join instructor Liz for an hour of virtual mindfulness.
URL:https://wayneseniorcenter.org/event/mindfulness-in-center-11/
END:VEVENT
BEGIN:VEVENT
DTSTART;TZID=UTC:20240214T100000
DTEND;TZID=UTC:20240214T110000
DTSTAMP:20260421T134036
CREATED:20240126T221151Z
LAST-MODIFIED:20240126T221151Z
UID:13070-1707904800-1707908400@wayneseniorcenter.org
SUMMARY:Drums Alive (In Center)
DESCRIPTION:Join us for a fun\, rhythmic\, seated exercise class that gets you moving and grooving!
URL:https://wayneseniorcenter.org/event/drums-alive-in-center-13/
END:VEVENT
BEGIN:VEVENT
DTSTART;TZID=UTC:20240214T100000
DTEND;TZID=UTC:20240214T110000
DTSTAMP:20260421T134036
CREATED:20240126T221152Z
LAST-MODIFIED:20240126T221152Z
UID:13071-1707904800-1707908400@wayneseniorcenter.org
SUMMARY:Strength and Cardio (Virtual)
DESCRIPTION:Move\, stretch\, and tone both seated and standing along with instructor Cathi from home. All abilities welcome!
URL:https://wayneseniorcenter.org/event/strength-and-cardio-virtual-19/
END:VEVENT
BEGIN:VEVENT
DTSTART;TZID=UTC:20240214T110000
DTEND;TZID=UTC:20240214T120000
DTSTAMP:20260421T134036
CREATED:20240126T221152Z
LAST-MODIFIED:20240126T221152Z
UID:13072-1707908400-1707912000@wayneseniorcenter.org
SUMMARY:Tai Chi (In Center and Virtual)
DESCRIPTION:Tai Chi is a gentle form of exercise involving a series of graceful movements performed in a slow\, focused manner and accompanied by deep breathing. Excellent for strengthening balance and promoting stress reduction. In-Person fees – $5 for WSC members\, $10 for non-members.
URL:https://wayneseniorcenter.org/event/tai-chi-in-center-and-virtual-19/
END:VEVENT
BEGIN:VEVENT
DTSTART;TZID=UTC:20240214T130000
DTEND;TZID=UTC:20240214T140000
DTSTAMP:20260421T134036
CREATED:20240126T221152Z
LAST-MODIFIED:20240126T221152Z
UID:13073-1707915600-1707919200@wayneseniorcenter.org
SUMMARY:Valentine's Trivia (In Center)
DESCRIPTION:We will cover a variety of Valentine’s Day themed topics including Greek and Roman Mythology\, William Shakespear\, and popular Valentine’s traditions.
URL:https://wayneseniorcenter.org/event/valentines-trivia-in-center/
END:VEVENT
BEGIN:VEVENT
DTSTART;TZID=UTC:20240215T090000
DTEND;TZID=UTC:20240215T110000
DTSTAMP:20260421T134036
CREATED:20240126T221152Z
LAST-MODIFIED:20240126T221152Z
UID:13074-1707987600-1707994800@wayneseniorcenter.org
SUMMARY:Blood Pressure Screenings (In Center)
DESCRIPTION:Are you trying to keep track of your blood pressure readings? Have questions about a medication or just need a listening ear? Stop by and speak 1:1 with a nurse.
URL:https://wayneseniorcenter.org/event/blood-pressure-screenings-in-center-11/
END:VEVENT
BEGIN:VEVENT
DTSTART;TZID=UTC:20240215T093000
DTEND;TZID=UTC:20240215T103000
DTSTAMP:20260421T134036
CREATED:20240126T221218Z
LAST-MODIFIED:20240126T221218Z
UID:13077-1707989400-1707993000@wayneseniorcenter.org
SUMMARY:Zumba Gold (In Center)
DESCRIPTION:Keep your body moving\, enjoy lively music\, and have fun dancing your cares away. $3 members / $6 non-members
URL:https://wayneseniorcenter.org/event/zumba-gold-in-center-18/
END:VEVENT
BEGIN:VEVENT
DTSTART;TZID=UTC:20240215T101500
DTEND;TZID=UTC:20240215T110000
DTSTAMP:20260421T134036
CREATED:20240126T221218Z
LAST-MODIFIED:20240126T223127Z
UID:13078-1707992100-1707994800@wayneseniorcenter.org
SUMMARY:Conversations: Prepare\, Plan\, Be Present (In Center)
DESCRIPTION:Join us for an important conversation with Anderson Elder Law & Holisticare Hospice discussing how to prepare and plan in order to be more present when you or a loved one are facing a serious illness. Conversation facilitated by Katherine Rosenblatt\, LMSW\, CDCP. Call the center for more information.
URL:https://wayneseniorcenter.org/event/conversations-prepare-plan-be-present-in-center/
END:VEVENT
BEGIN:VEVENT
DTSTART;TZID=UTC:20240215T110000
DTEND;TZID=UTC:20240215T120000
DTSTAMP:20260421T134036
CREATED:20240126T221218Z
LAST-MODIFIED:20240126T221218Z
UID:13076-1707994800-1707998400@wayneseniorcenter.org
SUMMARY:Sit\, Move\, Stretch (In Center)
DESCRIPTION:Gentle Movement\, stretching\, and relaxation. Free for WSC members\, $3 for non-members. RSVP by calling the center – (610) 688-6246
URL:https://wayneseniorcenter.org/event/sit-move-stretch-in-center-18/
END:VEVENT
BEGIN:VEVENT
DTSTART;TZID=UTC:20240215T130000
DTEND;TZID=UTC:20240215T150000
DTSTAMP:20260421T134036
CREATED:20240126T221218Z
LAST-MODIFIED:20240126T221218Z
UID:13075-1708002000-1708009200@wayneseniorcenter.org
SUMMARY:Cards and Games: Open Play (In Center)
DESCRIPTION:Join us for an afternoon playing games of your choice- Poker\, gin rummy\, pinochle\, mahjong etc. Meet a new friend and start a game of your own. Mahjong teachers/leaders feel free to bring your game set!
URL:https://wayneseniorcenter.org/event/cards-and-games-open-play-in-center-18/
END:VEVENT
BEGIN:VEVENT
DTSTART;TZID=UTC:20240216T103000
DTEND;TZID=UTC:20240216T113000
DTSTAMP:20260421T134036
CREATED:20240126T221219Z
LAST-MODIFIED:20240126T221219Z
UID:13079-1708079400-1708083000@wayneseniorcenter.org
SUMMARY:Chair Yoga (In Person and Virtual)
DESCRIPTION:A well-rounded class that will help with balance\, strengthening\, and relaxation. Have a sturdy chair available. All abilities welcome. In-Person fees – $3 for WSC members\, $6 for non-members.
URL:https://wayneseniorcenter.org/event/chair-yoga-in-person-and-virtual-14/
END:VEVENT
BEGIN:VEVENT
DTSTART;TZID=UTC:20240220T090000
DTEND;TZID=UTC:20240220T110000
DTSTAMP:20260421T134036
CREATED:20240126T221234Z
LAST-MODIFIED:20240126T221234Z
UID:13082-1708419600-1708426800@wayneseniorcenter.org
SUMMARY:Tech Tuesday (In Center)
DESCRIPTION:Tuesdays from 11am – 1pm stop in to chat Technology. Stop by between programs\, after grabbing some lunch\, or whenever is convenient for you. Bring specific questions about your device or come in to explore Wayne Senior Center iPads in a no-pressure environment. Or\, come by to share recent accomplishments or knowledge you’d like to share with others\, or just stop in to say hi and learn something new. Stop by during this time or email Francis at francis@wayneseniorcenter.org to make an appointment.
URL:https://wayneseniorcenter.org/event/tech-tuesday-in-center-18/
END:VEVENT
BEGIN:VEVENT
DTSTART;TZID=UTC:20240220T100000
DTEND;TZID=UTC:20240220T110000
DTSTAMP:20260421T134036
CREATED:20240126T221234Z
LAST-MODIFIED:20240126T222938Z
UID:13083-1708423200-1708426800@wayneseniorcenter.org
SUMMARY:Intro to WhatsApp (In Center)
DESCRIPTION:Come learn more about WhatsApp\, the popular communication app that lets you talk\, video chat\, and message people all over the world using an internet connection instead of cell service.
URL:https://wayneseniorcenter.org/event/intro-to-whatsapp-in-center/
END:VEVENT
BEGIN:VEVENT
DTSTART;TZID=UTC:20240220T110000
DTEND;TZID=UTC:20240220T120000
DTSTAMP:20260421T134036
CREATED:20240126T221233Z
LAST-MODIFIED:20240126T221233Z
UID:13081-1708426800-1708430400@wayneseniorcenter.org
SUMMARY:Sit\, Move\, Stretch (In Center and Virtual)
DESCRIPTION:This class offers seated or standing: cardio movement\, strengthening\, deep breathing\, and stretching. In-Person fees – free for WSC members\, $3 for non-members.
URL:https://wayneseniorcenter.org/event/sit-move-stretch-in-center-and-virtual-18/
END:VEVENT
END:VCALENDAR