BEGIN:VCALENDAR
VERSION:2.0
PRODID:-//Wayne Senior Center - ECPv6.15.20//NONSGML v1.0//EN
CALSCALE:GREGORIAN
METHOD:PUBLISH
X-WR-CALNAME:Wayne Senior Center
X-ORIGINAL-URL:https://wayneseniorcenter.org
X-WR-CALDESC:Events for Wayne Senior Center
REFRESH-INTERVAL;VALUE=DURATION:PT1H
X-Robots-Tag:noindex
X-PUBLISHED-TTL:PT1H
BEGIN:VTIMEZONE
TZID:UTC
BEGIN:STANDARD
TZOFFSETFROM:+0000
TZOFFSETTO:+0000
TZNAME:UTC
DTSTART:20230101T000000
END:STANDARD
END:VTIMEZONE
BEGIN:VEVENT
DTSTART;TZID=UTC:20240926T101500
DTEND;TZID=UTC:20240926T110000
DTSTAMP:20260423T113709
CREATED:20240822T135151Z
LAST-MODIFIED:20240822T135151Z
UID:14059-1727345700-1727348400@wayneseniorcenter.org
SUMMARY:Apple Trivia (In Center)
DESCRIPTION:Join us for some friendly competition using a fun\, game-based learning platform called Kahoot!
URL:https://wayneseniorcenter.org/event/apple-trivia-in-center/
END:VEVENT
BEGIN:VEVENT
DTSTART;TZID=UTC:20240926T093000
DTEND;TZID=UTC:20240926T103000
DTSTAMP:20260423T113709
CREATED:20240822T135537Z
LAST-MODIFIED:20240822T135537Z
UID:14146-1727343000-1727346600@wayneseniorcenter.org
SUMMARY:Zumba Gold (In Center)
DESCRIPTION:Keep your body moving\, enjoy lively music\, and have fun dancing your cares away. $3 members / $6 non-members
URL:https://wayneseniorcenter.org/event/zumba-gold-in-center-49/
END:VEVENT
BEGIN:VEVENT
DTSTART;TZID=UTC:20240926T090000
DTEND;TZID=UTC:20240926T110000
DTSTAMP:20260423T113709
CREATED:20240822T135152Z
LAST-MODIFIED:20240822T135152Z
UID:14061-1727341200-1727348400@wayneseniorcenter.org
SUMMARY:Blood Pressure Screenings (In Center)
DESCRIPTION:Are you trying to keep track of your blood pressure readings? Have questions about a medication or just need a listening ear? Stop by and speak 1:1 with a nurse.
URL:https://wayneseniorcenter.org/event/blood-pressure-screenings-in-center-25/
END:VEVENT
BEGIN:VEVENT
DTSTART;TZID=UTC:20240925T123000
DTEND;TZID=UTC:20240925T133000
DTSTAMP:20260423T113709
CREATED:20240822T135223Z
LAST-MODIFIED:20240822T135223Z
UID:14082-1727267400-1727271000@wayneseniorcenter.org
SUMMARY:Fooling with Ukes (In Center)
DESCRIPTION:Dust off your ukes and join Barbara Van Clief (Barley) for a few practice sessions. Learn to play various popular songs with a group of individuals who share your passion for music!
URL:https://wayneseniorcenter.org/event/fooling-with-ukes-in-center-13/
END:VEVENT
BEGIN:VEVENT
DTSTART;TZID=UTC:20240925T120000
DTEND;TZID=UTC:20240925T140000
DTSTAMP:20260423T113709
CREATED:20240822T135307Z
LAST-MODIFIED:20240822T140938Z
UID:14095-1727265600-1727272800@wayneseniorcenter.org
SUMMARY:Pizza and a Movie: The Long Game (In Center)
DESCRIPTION:Join us for a viewing of the film\, “The Long Game” starring Dennis Quaid\, Jay Hernandez\, and Cheech Marin. In 1955\, five young Mexican-American caddies\, out of the love for the game\, were determined to learn how to play\, so they created their own golf course in the middle of the South Texas Desert.
URL:https://wayneseniorcenter.org/event/pizza-and-a-movie-the-long-game-in-center/
END:VEVENT
BEGIN:VEVENT
DTSTART;TZID=UTC:20240925T110000
DTEND;TZID=UTC:20240925T120000
DTSTAMP:20260423T113709
CREATED:20240822T135436Z
LAST-MODIFIED:20240822T135436Z
UID:14123-1727262000-1727265600@wayneseniorcenter.org
SUMMARY:Tai Chi (In Center and Virtual)
DESCRIPTION:Tai Chi is a gentle form of exercise involving a series of graceful movements performed in a slow\, focused manner and accompanied by deep breathing. Excellent for strengthening balance and promoting stress reduction. In-Person fees – $5 for WSC members\, $10 for non-members.
URL:https://wayneseniorcenter.org/event/tai-chi-in-center-and-virtual-47/
END:VEVENT
BEGIN:VEVENT
DTSTART;TZID=UTC:20240925T100000
DTEND;TZID=UTC:20240925T110000
DTSTAMP:20260423T113709
CREATED:20240822T135215Z
LAST-MODIFIED:20240822T135215Z
UID:14076-1727258400-1727262000@wayneseniorcenter.org
SUMMARY:Coffee Talk with Radnor Police Chaplain (In Center)
DESCRIPTION:Enjoy coffee\, pastries\, and meaningful discussion with a visiting Radnor Police Chaplain.
URL:https://wayneseniorcenter.org/event/coffee-talk-with-radnor-police-chaplain-in-center-5/
END:VEVENT
BEGIN:VEVENT
DTSTART;TZID=UTC:20240925T093000
DTEND;TZID=UTC:20240925T103000
DTSTAMP:20260423T113709
CREATED:20240822T135407Z
LAST-MODIFIED:20240822T135407Z
UID:14115-1727256600-1727260200@wayneseniorcenter.org
SUMMARY:Slow Flow Yoga (In Center)
DESCRIPTION:Join Liz Seaden RYT for a challenging flow yoga class at WSC. This full-body workout incorporates both mat-based and standing poses.
URL:https://wayneseniorcenter.org/event/slow-flow-yoga-in-center-4/
END:VEVENT
BEGIN:VEVENT
DTSTART;TZID=UTC:20240924T170000
DTEND;TZID=UTC:20240924T183000
DTSTAMP:20260423T113709
CREATED:20240822T135253Z
LAST-MODIFIED:20240822T140810Z
UID:14092-1727197200-1727202600@wayneseniorcenter.org
SUMMARY:Murder Mystery Dinner Theater (In Center)
DESCRIPTION:Join us for a dinner theater production – Death and Doo Wop! – right here at Wayne Senior Center. RSVP by 9/16 – $30 for members\, $45 non-members
URL:https://wayneseniorcenter.org/event/murder-mystery-dinner-theater-in-center/
END:VEVENT
BEGIN:VEVENT
DTSTART;TZID=UTC:20240924T123000
DTEND;TZID=UTC:20240924T133000
DTSTAMP:20260423T113709
CREATED:20240822T135252Z
LAST-MODIFIED:20240822T135252Z
UID:14091-1727181000-1727184600@wayneseniorcenter.org
SUMMARY:Mindfulness (In Center)
DESCRIPTION:Practicing mindfulness provides countless benefits to our overall well-being. Join instructor Liz for an hour of virtual mindfulness.
URL:https://wayneseniorcenter.org/event/mindfulness-in-center-36/
END:VEVENT
BEGIN:VEVENT
DTSTART;TZID=UTC:20240924T120000
DTEND;TZID=UTC:20240924T130000
DTSTAMP:20260423T113709
CREATED:20240822T135237Z
LAST-MODIFIED:20240822T135237Z
UID:14086-1727179200-1727182800@wayneseniorcenter.org
SUMMARY:Let's Do Lunch! (In Center)
DESCRIPTION:Let’s do lunch together! Please see the menu in the newsletter for details on each meal. $5 members / $8 non-members. RSVP required\, in-center dining only.
URL:https://wayneseniorcenter.org/event/lets-do-lunch-in-center-15/
END:VEVENT
BEGIN:VEVENT
DTSTART;TZID=UTC:20240924T110000
DTEND;TZID=UTC:20240924T120000
DTSTAMP:20260423T113709
CREATED:20240822T135351Z
LAST-MODIFIED:20240822T135351Z
UID:14108-1727175600-1727179200@wayneseniorcenter.org
SUMMARY:Sit\, Move\, Stretch (In Center and Virtual)
DESCRIPTION:This class offers seated or standing: cardio movement\, strengthening\, deep breathing\, and stretching. In-Person fees – free for WSC members\, $3 for non-members.
URL:https://wayneseniorcenter.org/event/sit-move-stretch-in-center-and-virtual-47/
END:VEVENT
BEGIN:VEVENT
DTSTART;TZID=UTC:20240924T100000
DTEND;TZID=UTC:20240924T110000
DTSTAMP:20260423T113709
CREATED:20240822T135216Z
LAST-MODIFIED:20240822T135216Z
UID:14077-1727172000-1727175600@wayneseniorcenter.org
SUMMARY:DIY Apple Energy Bites (In Center)
DESCRIPTION:Join us as we make these no-bake energy bites. Easy to make and they’re perfect for satisfying cravings while keeping you energized throughout the day!
URL:https://wayneseniorcenter.org/event/diy-apple-energy-bites-in-center/
END:VEVENT
BEGIN:VEVENT
DTSTART;TZID=UTC:20240924T090000
DTEND;TZID=UTC:20240924T110000
DTSTAMP:20260423T113709
CREATED:20240822T135452Z
LAST-MODIFIED:20240822T135452Z
UID:14131-1727168400-1727175600@wayneseniorcenter.org
SUMMARY:Tech Tuesday (In Center)
DESCRIPTION:Stop by during this time with your tech questions or email Francis at francis@wayneseniorcenter.org to make an appointment. Some Tuesdays will feature a workshop on a certain topic starting at 10am.
URL:https://wayneseniorcenter.org/event/tech-tuesday-in-center-47/
END:VEVENT
BEGIN:VEVENT
DTSTART;TZID=UTC:20240924T090000
DTEND;TZID=UTC:20240924T100000
DTSTAMP:20260423T113709
CREATED:20240822T135521Z
LAST-MODIFIED:20240822T135521Z
UID:14138-1727168400-1727172000@wayneseniorcenter.org
SUMMARY:Walking Club (Off-Site)
DESCRIPTION:Join WSC friends for a walk on the Radnor trail – weather permitting. Walkers meet at the trail parking lot (520 Conestoga Road). All abilities welcome. Wear comfortable walking shoes.
URL:https://wayneseniorcenter.org/event/walking-club-off-site-21/
END:VEVENT
BEGIN:VEVENT
DTSTART;TZID=UTC:20240923T110000
DTEND;TZID=UTC:20240923T120000
DTSTAMP:20260423T113709
CREATED:20240822T135421Z
LAST-MODIFIED:20240822T135421Z
UID:14118-1727089200-1727092800@wayneseniorcenter.org
SUMMARY:Soul Line Dance (In Center)
DESCRIPTION:Kenny James will get you moving and grooving in a fun\, easy to learn dance class. No experience necessary – all can join. $3 members / $6 non-members.
URL:https://wayneseniorcenter.org/event/soul-line-dance-in-center-24/
END:VEVENT
BEGIN:VEVENT
DTSTART;TZID=UTC:20240923T100000
DTEND;TZID=UTC:20240923T120000
DTSTAMP:20260423T113709
CREATED:20240822T135522Z
LAST-MODIFIED:20240822T135522Z
UID:14141-1727085600-1727092800@wayneseniorcenter.org
SUMMARY:WSC Quilters (In Center)
DESCRIPTION:WSC quiliting club. All skill levels Welcome. Come by or RSVP by calling the center – (610) 688-6246
URL:https://wayneseniorcenter.org/event/wsc-quilters-in-center-46/
END:VEVENT
BEGIN:VEVENT
DTSTART;TZID=UTC:20240923T100000
DTEND;TZID=UTC:20240923T120000
DTSTAMP:20260423T113709
CREATED:20240822T135321Z
LAST-MODIFIED:20240822T135321Z
UID:14098-1727085600-1727092800@wayneseniorcenter.org
SUMMARY:Refresher Bridge (In Center)
DESCRIPTION:Brush up on your bridge skills with Lawrie Stetson and Dave Heron. Must have previous bridge experience.
URL:https://wayneseniorcenter.org/event/refresher-bridge-in-center-46/
END:VEVENT
BEGIN:VEVENT
DTSTART;TZID=UTC:20240923T093000
DTEND;TZID=UTC:20240923T103000
DTSTAMP:20260423T113709
CREATED:20240822T135156Z
LAST-MODIFIED:20240822T135156Z
UID:14065-1727083800-1727087400@wayneseniorcenter.org
SUMMARY:Brain Fit (In Center)
DESCRIPTION:Join Andrea as we exercise our brain with fun word puzzles and brain teasers!
URL:https://wayneseniorcenter.org/event/brain-fit-in-center-7/
END:VEVENT
BEGIN:VEVENT
DTSTART;TZID=UTC:20240920T103000
DTEND;TZID=UTC:20240920T113000
DTSTAMP:20260423T113709
CREATED:20240822T135214Z
LAST-MODIFIED:20240822T135214Z
UID:14073-1726828200-1726831800@wayneseniorcenter.org
SUMMARY:Chair Yoga (In Person and Virtual)
DESCRIPTION:A well-rounded class that will help with balance\, strengthening\, and relaxation. Have a sturdy chair available. All abilities welcome. In-Person fees – $3 for WSC members\, $6 for non-members.
URL:https://wayneseniorcenter.org/event/chair-yoga-in-person-and-virtual-43/
END:VEVENT
BEGIN:VEVENT
DTSTART;TZID=UTC:20240920T093000
DTEND;TZID=UTC:20240920T103000
DTSTAMP:20260423T113709
CREATED:20240822T135323Z
LAST-MODIFIED:20240822T135323Z
UID:14102-1726824600-1726828200@wayneseniorcenter.org
SUMMARY:Senior Circuit (In Center)
DESCRIPTION:Join us for a dynamic strength-building\, full-body workout utilizing bands\, weights\, and balls as we cycle through various stations.
URL:https://wayneseniorcenter.org/event/senior-circuit-in-center-12/
END:VEVENT
BEGIN:VEVENT
DTSTART;TZID=UTC:20240919T130000
DTEND;TZID=UTC:20240919T150000
DTSTAMP:20260423T113709
CREATED:20240822T135202Z
LAST-MODIFIED:20240822T135202Z
UID:14069-1726750800-1726758000@wayneseniorcenter.org
SUMMARY:Cards and Games: Open Play (In Center)
DESCRIPTION:Join us for an afternoon playing games of your choice- Poker\, gin rummy\, pinochle\, mahjong etc. Meet a new friend and start a game of your own. Mahjong teachers/leaders feel free to bring your game set!
URL:https://wayneseniorcenter.org/event/cards-and-games-open-play-in-center-48/
END:VEVENT
BEGIN:VEVENT
DTSTART;TZID=UTC:20240919T113000
DTEND;TZID=UTC:20240919T130000
DTSTAMP:20260423T113709
CREATED:20240822T135215Z
LAST-MODIFIED:20240822T140633Z
UID:14075-1726745400-1726750800@wayneseniorcenter.org
SUMMARY:Chef's Table: The Silverspoon (In Center)
DESCRIPTION:Join us again for Chef’s Table on Thursday September 19th with Chef Brian Ruby of The Silverspoon. There will be a cooking demo at 11:30am followed by 3 courses starting at 12:00pm. RSVP and pay by 9/12 – 610-688-6246\, $10 members\, $20 non-members
URL:https://wayneseniorcenter.org/event/chefs-table-the-silverspoon-in-center/
END:VEVENT
BEGIN:VEVENT
DTSTART;TZID=UTC:20240919T093000
DTEND;TZID=UTC:20240919T103000
DTSTAMP:20260423T113709
CREATED:20240822T135537Z
LAST-MODIFIED:20240822T135537Z
UID:14145-1726738200-1726741800@wayneseniorcenter.org
SUMMARY:Zumba Gold (In Center)
DESCRIPTION:Keep your body moving\, enjoy lively music\, and have fun dancing your cares away. $3 members / $6 non-members
URL:https://wayneseniorcenter.org/event/zumba-gold-in-center-48/
END:VEVENT
BEGIN:VEVENT
DTSTART;TZID=UTC:20240918T123000
DTEND;TZID=UTC:20240918T133000
DTSTAMP:20260423T113709
CREATED:20240822T135222Z
LAST-MODIFIED:20240822T135222Z
UID:14081-1726662600-1726666200@wayneseniorcenter.org
SUMMARY:Fooling with Ukes (In Center)
DESCRIPTION:Dust off your ukes and join Barbara Van Clief (Barley) for a few practice sessions. Learn to play various popular songs with a group of individuals who share your passion for music!
URL:https://wayneseniorcenter.org/event/fooling-with-ukes-in-center-12/
END:VEVENT
BEGIN:VEVENT
DTSTART;TZID=UTC:20240918T110000
DTEND;TZID=UTC:20240918T120000
DTSTAMP:20260423T113709
CREATED:20240822T135423Z
LAST-MODIFIED:20240822T135423Z
UID:14122-1726657200-1726660800@wayneseniorcenter.org
SUMMARY:Tai Chi (In Center and Virtual)
DESCRIPTION:Tai Chi is a gentle form of exercise involving a series of graceful movements performed in a slow\, focused manner and accompanied by deep breathing. Excellent for strengthening balance and promoting stress reduction. In-Person fees – $5 for WSC members\, $10 for non-members.
URL:https://wayneseniorcenter.org/event/tai-chi-in-center-and-virtual-46/
END:VEVENT
BEGIN:VEVENT
DTSTART;TZID=UTC:20240918T110000
DTEND;TZID=UTC:20240918T120000
DTSTAMP:20260423T113709
CREATED:20240822T135306Z
LAST-MODIFIED:20240822T135306Z
UID:14093-1726657200-1726660800@wayneseniorcenter.org
SUMMARY:Pageturners Bookclub (In Center)
DESCRIPTION:This month’s selection is “Lessons in Chemistry” by Bonnie Garmus. Enjoy lively book conversation with a Radnor Memorial Library librarian. All are welcome! Call for more info – (610)688-6246
URL:https://wayneseniorcenter.org/event/pageturners-bookclub-in-center-12/
END:VEVENT
BEGIN:VEVENT
DTSTART;TZID=UTC:20240918T101500
DTEND;TZID=UTC:20240918T110000
DTSTAMP:20260423T113709
CREATED:20240822T135236Z
LAST-MODIFIED:20240822T135236Z
UID:14083-1726654500-1726657200@wayneseniorcenter.org
SUMMARY:Large Jenga Game (In Center)
DESCRIPTION:Play a big version of Jenga with friends here at the Center!
URL:https://wayneseniorcenter.org/event/large-jenga-game-in-center/
END:VEVENT
BEGIN:VEVENT
DTSTART;TZID=UTC:20240918T093000
DTEND;TZID=UTC:20240918T103000
DTSTAMP:20260423T113709
CREATED:20240822T135406Z
LAST-MODIFIED:20240822T135406Z
UID:14114-1726651800-1726655400@wayneseniorcenter.org
SUMMARY:Slow Flow Yoga (In Center)
DESCRIPTION:Join Liz Seaden RYT for a challenging flow yoga class at WSC. This full-body workout incorporates both mat-based and standing poses.
URL:https://wayneseniorcenter.org/event/slow-flow-yoga-in-center-3/
END:VEVENT
BEGIN:VEVENT
DTSTART;TZID=UTC:20240917T150000
DTEND;TZID=UTC:20240917T160000
DTSTAMP:20260423T113709
CREATED:20240822T135238Z
LAST-MODIFIED:20240822T135238Z
UID:14087-1726585200-1726588800@wayneseniorcenter.org
SUMMARY:Memoir Writing (Virtual)
DESCRIPTION:Join Sara Wenger\, MFA for a memoir writing workshop. Sara will share memoir excerpts as well as writing exercises to help you write your unique life experiences so they can be passed on to children\, grandchildren\, friends and others. No prior writing experience is necessary! The class is appropriate for both novice and seasoned writers
URL:https://wayneseniorcenter.org/event/memoir-writing-virtual-12/
END:VEVENT
END:VCALENDAR