BEGIN:VCALENDAR
VERSION:2.0
PRODID:-//Wayne Senior Center - ECPv6.15.20//NONSGML v1.0//EN
CALSCALE:GREGORIAN
METHOD:PUBLISH
X-WR-CALNAME:Wayne Senior Center
X-ORIGINAL-URL:https://wayneseniorcenter.org
X-WR-CALDESC:Events for Wayne Senior Center
REFRESH-INTERVAL;VALUE=DURATION:PT1H
X-Robots-Tag:noindex
X-PUBLISHED-TTL:PT1H
BEGIN:VTIMEZONE
TZID:UTC
BEGIN:STANDARD
TZOFFSETFROM:+0000
TZOFFSETTO:+0000
TZNAME:UTC
DTSTART:20230101T000000
END:STANDARD
END:VTIMEZONE
BEGIN:VEVENT
DTSTART;TZID=UTC:20240618T110000
DTEND;TZID=UTC:20240618T120000
DTSTAMP:20260423T055056
CREATED:20240524T223126Z
LAST-MODIFIED:20240524T223126Z
UID:13671-1718708400-1718712000@wayneseniorcenter.org
SUMMARY:Sit\, Move\, Stretch (In Center and Virtual)
DESCRIPTION:This class offers seated or standing: cardio movement\, strengthening\, deep breathing\, and stretching. In-Person fees – free for WSC members\, $3 for non-members.
URL:https://wayneseniorcenter.org/event/sit-move-stretch-in-center-and-virtual-33/
END:VEVENT
BEGIN:VEVENT
DTSTART;TZID=UTC:20240618T120000
DTEND;TZID=UTC:20240618T130000
DTSTAMP:20260423T055056
CREATED:20240524T222945Z
LAST-MODIFIED:20240524T222945Z
UID:13669-1718712000-1718715600@wayneseniorcenter.org
SUMMARY:Let's Do Lunch! (In Center)
DESCRIPTION:Let’s do lunch together! Please see the menu in the newsletter for details on each meal. $5 members / $8 non-members. RSVP required\, in-center dining only.
URL:https://wayneseniorcenter.org/event/lets-do-lunch-in-center-4/
END:VEVENT
BEGIN:VEVENT
DTSTART;TZID=UTC:20240618T170000
DTEND;TZID=UTC:20240618T180000
DTSTAMP:20260423T055056
CREATED:20240524T223126Z
LAST-MODIFIED:20240528T134352Z
UID:13670-1718730000-1718733600@wayneseniorcenter.org
SUMMARY:Long Term Care: Navigation When a Loved One Needs Care (In Center)
DESCRIPTION:Part of the 3-part Conversations series presented by Anderson Elder Law. Wine and light bites will be served. Call to RSVP 610-688-6246
URL:https://wayneseniorcenter.org/event/long-term-care-navigation-when-a-loved-one-needs-care-in-center/
END:VEVENT
BEGIN:VEVENT
DTSTART;TZID=UTC:20240619T110000
DTEND;TZID=UTC:20240619T120000
DTSTAMP:20260423T055056
CREATED:20240524T223327Z
LAST-MODIFIED:20240524T223327Z
UID:13675-1718794800-1718798400@wayneseniorcenter.org
SUMMARY:Tai Chi (In Center and Virtual)
DESCRIPTION:Tai Chi is a gentle form of exercise involving a series of graceful movements performed in a slow\, focused manner and accompanied by deep breathing. Excellent for strengthening balance and promoting stress reduction. In-Person fees – $5 for WSC members\, $10 for non-members.
URL:https://wayneseniorcenter.org/event/tai-chi-in-center-and-virtual-34/
END:VEVENT
BEGIN:VEVENT
DTSTART;TZID=UTC:20240619T123000
DTEND;TZID=UTC:20240619T133000
DTSTAMP:20260423T055056
CREATED:20240524T223127Z
LAST-MODIFIED:20240524T223127Z
UID:13674-1718800200-1718803800@wayneseniorcenter.org
SUMMARY:Fooling with Ukes (In Center)
DESCRIPTION:Dust off your ukes and join Barbara Van Clief (Barley) for a few practice sessions. Learn to play various popular songs with a group of individuals who share your passion for music!
URL:https://wayneseniorcenter.org/event/fooling-with-ukes-in-center-5/
END:VEVENT
BEGIN:VEVENT
DTSTART;TZID=UTC:20240619T123000
DTEND;TZID=UTC:20240619T133000
DTSTAMP:20260423T055056
CREATED:20240524T223327Z
LAST-MODIFIED:20240524T223327Z
UID:13676-1718800200-1718803800@wayneseniorcenter.org
SUMMARY:Silver Sneakers Classic (In Center)
DESCRIPTION:Focus on strengthening muscles and increasing range of movement using light weights\, stretch bands\, and exercise balls. Free for Silver Sneakers or $3 for members\, $6 non-members.
URL:https://wayneseniorcenter.org/event/silver-sneakers-classic-in-center-3/
END:VEVENT
BEGIN:VEVENT
DTSTART;TZID=UTC:20240620T090000
DTEND;TZID=UTC:20240620T110000
DTSTAMP:20260423T055056
CREATED:20240524T223327Z
LAST-MODIFIED:20240524T223327Z
UID:13677-1718874000-1718881200@wayneseniorcenter.org
SUMMARY:Blood Pressure Screenings (In Center)
DESCRIPTION:Are you trying to keep track of your blood pressure readings? Have questions about a medication or just need a listening ear? Stop by and speak 1:1 with a nurse.
URL:https://wayneseniorcenter.org/event/blood-pressure-screenings-in-center-19/
END:VEVENT
BEGIN:VEVENT
DTSTART;TZID=UTC:20240620T093000
DTEND;TZID=UTC:20240620T103000
DTSTAMP:20260423T055056
CREATED:20240524T223529Z
LAST-MODIFIED:20240524T223529Z
UID:13682-1718875800-1718879400@wayneseniorcenter.org
SUMMARY:Zumba Gold (In Center)
DESCRIPTION:Keep your body moving\, enjoy lively music\, and have fun dancing your cares away. $3 members / $6 non-members
URL:https://wayneseniorcenter.org/event/zumba-gold-in-center-36/
END:VEVENT
BEGIN:VEVENT
DTSTART;TZID=UTC:20240620T100000
DTEND;TZID=UTC:20240620T110000
DTSTAMP:20260423T055056
CREATED:20240524T223529Z
LAST-MODIFIED:20240524T223529Z
UID:13683-1718877600-1718881200@wayneseniorcenter.org
SUMMARY:Danielle Burke Nutrition Program (In Center)
DESCRIPTION:Nutrition tips to keep you cool this summer!
URL:https://wayneseniorcenter.org/event/danielle-burke-nutrition-program-in-center/
END:VEVENT
BEGIN:VEVENT
DTSTART;TZID=UTC:20240620T110000
DTEND;TZID=UTC:20240620T120000
DTSTAMP:20260423T055056
CREATED:20240524T223528Z
LAST-MODIFIED:20240524T223528Z
UID:13680-1718881200-1718884800@wayneseniorcenter.org
SUMMARY:Sit\, Move\, Stretch (In Center)
DESCRIPTION:Gentle Movement\, stretching\, and relaxation. Free for WSC members\, $3 for non-members. RSVP by calling the center – (610) 688-6246
URL:https://wayneseniorcenter.org/event/sit-move-stretch-in-center-35/
END:VEVENT
BEGIN:VEVENT
DTSTART;TZID=UTC:20240620T120000
DTEND;TZID=UTC:20240620T130000
DTSTAMP:20260423T055056
CREATED:20240524T223328Z
LAST-MODIFIED:20240524T223328Z
UID:13679-1718884800-1718888400@wayneseniorcenter.org
SUMMARY:June Birthday Lunch (In Center)
DESCRIPTION:Join us to celebrate members who have birthdays this month! We will exchange cards\, sing songs\, and eat cake!
URL:https://wayneseniorcenter.org/event/june-birthday-lunch-in-center/
END:VEVENT
BEGIN:VEVENT
DTSTART;TZID=UTC:20240620T123000
DTEND;TZID=UTC:20240620T133000
DTSTAMP:20260423T055056
CREATED:20240524T223528Z
LAST-MODIFIED:20240524T223528Z
UID:13681-1718886600-1718890200@wayneseniorcenter.org
SUMMARY:Tai Chi (In Center)
DESCRIPTION:New Time / Additional Class – Tai Chi is a gentle form of exercise involving a series of graceful movements performed in a slow\, focused manner and accompanied by deep breathing. Excellent for strengthening balance and promoting stress reduction. In-Person fees – $5 for WSC members\, $10 for non-members.
URL:https://wayneseniorcenter.org/event/tai-chi-in-center-12/
END:VEVENT
BEGIN:VEVENT
DTSTART;TZID=UTC:20240620T130000
DTEND;TZID=UTC:20240620T150000
DTSTAMP:20260423T055056
CREATED:20240524T223328Z
LAST-MODIFIED:20240524T223328Z
UID:13678-1718888400-1718895600@wayneseniorcenter.org
SUMMARY:Cards and Games: Open Play (In Center)
DESCRIPTION:Join us for an afternoon playing games of your choice- Poker\, gin rummy\, pinochle\, mahjong etc. Meet a new friend and start a game of your own. Mahjong teachers/leaders feel free to bring your game set!
URL:https://wayneseniorcenter.org/event/cards-and-games-open-play-in-center-36/
END:VEVENT
BEGIN:VEVENT
DTSTART;TZID=UTC:20240621T093000
DTEND;TZID=UTC:20240621T103000
DTSTAMP:20260423T055056
CREATED:20240524T223727Z
LAST-MODIFIED:20240524T223727Z
UID:13685-1718962200-1718965800@wayneseniorcenter.org
SUMMARY:Senior Circuit (In Center)
DESCRIPTION:Senior circuit is a unique strength building class held in our fitness center utilizing the gym equipment. Free for Silver Sneakers or $3 for members\, $6 non-members.
URL:https://wayneseniorcenter.org/event/senior-circuit-in-center-2/
END:VEVENT
BEGIN:VEVENT
DTSTART;TZID=UTC:20240621T103000
DTEND;TZID=UTC:20240621T113000
DTSTAMP:20260423T055056
CREATED:20240524T223529Z
LAST-MODIFIED:20240524T223529Z
UID:13684-1718965800-1718969400@wayneseniorcenter.org
SUMMARY:Chair Yoga (In Person and Virtual)
DESCRIPTION:A well-rounded class that will help with balance\, strengthening\, and relaxation. Have a sturdy chair available. All abilities welcome. In-Person fees – $3 for WSC members\, $6 for non-members.
URL:https://wayneseniorcenter.org/event/chair-yoga-in-person-and-virtual-31/
END:VEVENT
BEGIN:VEVENT
DTSTART;TZID=UTC:20240624T100000
DTEND;TZID=UTC:20240624T110000
DTSTAMP:20260423T055056
CREATED:20240524T223728Z
LAST-MODIFIED:20240524T223728Z
UID:13689-1719223200-1719226800@wayneseniorcenter.org
SUMMARY:Silver Sneakers Classic (In Center)
DESCRIPTION:Focus on strengthening muscles and increasing range of movement using light weights\, stretch bands\, and exercise balls. Free for Silver Sneakers or $3 for members\, $6 non-members.
URL:https://wayneseniorcenter.org/event/silver-sneakers-classic-in-center-4/
END:VEVENT
BEGIN:VEVENT
DTSTART;TZID=UTC:20240624T100000
DTEND;TZID=UTC:20240624T120000
DTSTAMP:20260423T055056
CREATED:20240524T223727Z
LAST-MODIFIED:20240524T223727Z
UID:13686-1719223200-1719230400@wayneseniorcenter.org
SUMMARY:Refresher Bridge (In Center)
DESCRIPTION:Brush up on your bridge skills with Lawrie Stetson and Dave Heron. Must have previous bridge experience.
URL:https://wayneseniorcenter.org/event/refresher-bridge-in-center-34/
END:VEVENT
BEGIN:VEVENT
DTSTART;TZID=UTC:20240624T100000
DTEND;TZID=UTC:20240624T120000
DTSTAMP:20260423T055056
CREATED:20240524T223728Z
LAST-MODIFIED:20240524T223728Z
UID:13688-1719223200-1719230400@wayneseniorcenter.org
SUMMARY:WSC Quilters (In Center)
DESCRIPTION:WSC quiliting club. All skill levels Welcome. Come by or RSVP by calling the center – (610) 688-6246
URL:https://wayneseniorcenter.org/event/wsc-quilters-in-center-34/
END:VEVENT
BEGIN:VEVENT
DTSTART;TZID=UTC:20240624T110000
DTEND;TZID=UTC:20240624T120000
DTSTAMP:20260423T055056
CREATED:20240524T223727Z
LAST-MODIFIED:20240524T223727Z
UID:13687-1719226800-1719230400@wayneseniorcenter.org
SUMMARY:Soul Line Dance (In Center)
DESCRIPTION:Kenny James will get you moving and grooving in a fun\, easy to learn dance class. No experience necessary – all can join. $3 members / $6 non-members.
URL:https://wayneseniorcenter.org/event/soul-line-dance-in-center-12/
END:VEVENT
BEGIN:VEVENT
DTSTART;TZID=UTC:20240625T090000
DTEND;TZID=UTC:20240625T110000
DTSTAMP:20260423T055056
CREATED:20240524T223933Z
LAST-MODIFIED:20240524T223933Z
UID:13691-1719306000-1719313200@wayneseniorcenter.org
SUMMARY:Tech Tuesday (In Center)
DESCRIPTION:Tuesdays from 11am – 1pm stop in to chat Technology. Stop by between programs\, after grabbing some lunch\, or whenever is convenient for you. Bring specific questions about your device or come in to explore Wayne Senior Center iPads in a no-pressure environment. Or\, come by to share recent accomplishments or knowledge you’d like to share with others\, or just stop in to say hi and learn something new. Stop by during this time or email Francis at francis@wayneseniorcenter.org to make an appointment.
URL:https://wayneseniorcenter.org/event/tech-tuesday-in-center-35/
END:VEVENT
BEGIN:VEVENT
DTSTART;TZID=UTC:20240625T093000
DTEND;TZID=UTC:20240625T103000
DTSTAMP:20260423T055056
CREATED:20240524T223933Z
LAST-MODIFIED:20240524T223933Z
UID:13692-1719307800-1719311400@wayneseniorcenter.org
SUMMARY:Walking Club (Off-Site)
DESCRIPTION:Join Margo\, Destinie\, and WSC friends for a walk on the Radnor trail – weather permitting. Walkers meet at the trail parking lot (520 Conestoga Road). All abilities welcome. Wear comfortable walking shoes.
URL:https://wayneseniorcenter.org/event/walking-club-off-site-8/
END:VEVENT
BEGIN:VEVENT
DTSTART;TZID=UTC:20240625T100000
DTEND;TZID=UTC:20240625T110000
DTSTAMP:20260423T055056
CREATED:20240524T223933Z
LAST-MODIFIED:20240524T230300Z
UID:13693-1719309600-1719313200@wayneseniorcenter.org
SUMMARY:Smart Phone Tips: Find My Phone (In Center)
DESCRIPTION:Bring your device to learn more about using Find My Phone features on Apple and Android. Locate or play a sound on a lost device\, share your location with a family member\, or find Bluetooth enabled devices like AirTags attached to your wallet or keys.
URL:https://wayneseniorcenter.org/event/smart-phone-tips-find-my-phone-in-center/
END:VEVENT
BEGIN:VEVENT
DTSTART;TZID=UTC:20240625T110000
DTEND;TZID=UTC:20240625T120000
DTSTAMP:20260423T055056
CREATED:20240524T223932Z
LAST-MODIFIED:20240524T223932Z
UID:13690-1719313200-1719316800@wayneseniorcenter.org
SUMMARY:Sit\, Move\, Stretch (In Center and Virtual)
DESCRIPTION:This class offers seated or standing: cardio movement\, strengthening\, deep breathing\, and stretching. In-Person fees – free for WSC members\, $3 for non-members.
URL:https://wayneseniorcenter.org/event/sit-move-stretch-in-center-and-virtual-34/
END:VEVENT
BEGIN:VEVENT
DTSTART;TZID=UTC:20240626T100000
DTEND;TZID=UTC:20240626T110000
DTSTAMP:20260423T055056
CREATED:20240524T223934Z
LAST-MODIFIED:20240524T223934Z
UID:13694-1719396000-1719399600@wayneseniorcenter.org
SUMMARY:Coffee Talk with Radnor Police Chaplain (In Center)
DESCRIPTION:Enjoy coffee\, pastries\, and meaningful discussion with a visiting Radnor Police Chaplain.
URL:https://wayneseniorcenter.org/event/coffee-talk-with-radnor-police-chaplain-in-center-2/
END:VEVENT
BEGIN:VEVENT
DTSTART;TZID=UTC:20240626T110000
DTEND;TZID=UTC:20240626T120000
DTSTAMP:20260423T055056
CREATED:20240524T224128Z
LAST-MODIFIED:20240524T224128Z
UID:13696-1719399600-1719403200@wayneseniorcenter.org
SUMMARY:Pageturners Bookclub (In Center)
DESCRIPTION:This month’s selection is “Tom Lake” by Ann Patchett. Enjoy lively book conversation with a Radnor Memorial Library librarian. All are welcome! Call for more info – (610)688-6246
URL:https://wayneseniorcenter.org/event/pageturners-bookclub-in-center-9/
END:VEVENT
BEGIN:VEVENT
DTSTART;TZID=UTC:20240626T110000
DTEND;TZID=UTC:20240626T120000
DTSTAMP:20260423T055056
CREATED:20240524T224129Z
LAST-MODIFIED:20240524T224129Z
UID:13698-1719399600-1719403200@wayneseniorcenter.org
SUMMARY:Tai Chi (In Center and Virtual)
DESCRIPTION:Tai Chi is a gentle form of exercise involving a series of graceful movements performed in a slow\, focused manner and accompanied by deep breathing. Excellent for strengthening balance and promoting stress reduction. In-Person fees – $5 for WSC members\, $10 for non-members.
URL:https://wayneseniorcenter.org/event/tai-chi-in-center-and-virtual-35/
END:VEVENT
BEGIN:VEVENT
DTSTART;TZID=UTC:20240626T120000
DTEND;TZID=UTC:20240626T130000
DTSTAMP:20260423T055056
CREATED:20240524T224128Z
LAST-MODIFIED:20240524T230319Z
UID:13697-1719403200-1719406800@wayneseniorcenter.org
SUMMARY:Pizza and a Movie: Book Club - The Next Chapter (2023) (In Center)
DESCRIPTION:Join us for a viewing of the film\, Book Club – The Next Chapter (2023)\, an American romantic comedy film starring Diane Keaton\, Jane Fonda\, and Candice Bergen. The film follows the new journey of four best friends as they take their book club to Italy for the fun girls trip they never had.
URL:https://wayneseniorcenter.org/event/pizza-and-a-movie-book-club-the-next-chapter-2023-in-center/
END:VEVENT
BEGIN:VEVENT
DTSTART;TZID=UTC:20240626T150000
DTEND;TZID=UTC:20240626T160000
DTSTAMP:20260423T055056
CREATED:20240524T224128Z
LAST-MODIFIED:20240524T224128Z
UID:13695-1719414000-1719417600@wayneseniorcenter.org
SUMMARY:Memoir Writing (Virtual)
DESCRIPTION:Join Sara Wenger\, MFA for a memoir writing workshop. Sara will share memoir excerpts as well as writing exercises to help you write your unique life experiences so they can be passed on to children\, grandchildren\, friends and others. No prior writing experience is necessary! The class is appropriate for both novice and seasoned writers
URL:https://wayneseniorcenter.org/event/memoir-writing-virtual-9/
END:VEVENT
BEGIN:VEVENT
DTSTART;TZID=UTC:20240627T093000
DTEND;TZID=UTC:20240627T103000
DTSTAMP:20260423T055056
CREATED:20240524T225031Z
LAST-MODIFIED:20240524T225031Z
UID:13703-1719480600-1719484200@wayneseniorcenter.org
SUMMARY:Zumba Gold (In Center)
DESCRIPTION:Keep your body moving\, enjoy lively music\, and have fun dancing your cares away. $3 members / $6 non-members
URL:https://wayneseniorcenter.org/event/zumba-gold-in-center-37/
END:VEVENT
BEGIN:VEVENT
DTSTART;TZID=UTC:20240627T103000
DTEND;TZID=UTC:20240627T105000
DTSTAMP:20260423T055056
CREATED:20240524T225031Z
LAST-MODIFIED:20240524T225031Z
UID:13704-1719484200-1719485400@wayneseniorcenter.org
SUMMARY:Alzheimer's Awareness Presentation (In Center)
DESCRIPTION:Join us for a brief informative program to learn about the impact of the disease\, local resources\, and ways you can join the fight against Alzheimer’s and all other dementia.
URL:https://wayneseniorcenter.org/event/alzheimers-awareness-presentation-in-center/
END:VEVENT
END:VCALENDAR