BEGIN:VCALENDAR
VERSION:2.0
PRODID:-//Wayne Senior Center - ECPv6.15.20//NONSGML v1.0//EN
CALSCALE:GREGORIAN
METHOD:PUBLISH
X-ORIGINAL-URL:https://wayneseniorcenter.org
X-WR-CALDESC:Events for Wayne Senior Center
REFRESH-INTERVAL;VALUE=DURATION:PT1H
X-Robots-Tag:noindex
X-PUBLISHED-TTL:PT1H
BEGIN:VTIMEZONE
TZID:UTC
BEGIN:STANDARD
TZOFFSETFROM:+0000
TZOFFSETTO:+0000
TZNAME:UTC
DTSTART:20230101T000000
END:STANDARD
END:VTIMEZONE
BEGIN:VEVENT
DTSTART;TZID=UTC:20240611T090000
DTEND;TZID=UTC:20240611T110000
DTSTAMP:20260423T035239
CREATED:20240524T222528Z
LAST-MODIFIED:20240524T222528Z
UID:13654-1718096400-1718103600@wayneseniorcenter.org
SUMMARY:Tech Tuesday (In Center)
DESCRIPTION:Tuesdays from 11am – 1pm stop in to chat Technology. Stop by between programs\, after grabbing some lunch\, or whenever is convenient for you. Bring specific questions about your device or come in to explore Wayne Senior Center iPads in a no-pressure environment. Or\, come by to share recent accomplishments or knowledge you’d like to share with others\, or just stop in to say hi and learn something new. Stop by during this time or email Francis at francis@wayneseniorcenter.org to make an appointment.
URL:https://wayneseniorcenter.org/event/tech-tuesday-in-center-33/
END:VEVENT
BEGIN:VEVENT
DTSTART;TZID=UTC:20240611T093000
DTEND;TZID=UTC:20240611T103000
DTSTAMP:20260423T035239
CREATED:20240524T222639Z
LAST-MODIFIED:20240524T222639Z
UID:13655-1718098200-1718101800@wayneseniorcenter.org
SUMMARY:Walking Club (Off-Site)
DESCRIPTION:Join Margo\, Destinie\, and WSC friends for a walk on the Radnor trail – weather permitting. Walkers meet at the trail parking lot (520 Conestoga Road). All abilities welcome. Wear comfortable walking shoes.
URL:https://wayneseniorcenter.org/event/walking-club-off-site-6/
END:VEVENT
BEGIN:VEVENT
DTSTART;TZID=UTC:20240611T100000
DTEND;TZID=UTC:20240611T110000
DTSTAMP:20260423T035239
CREATED:20240524T222639Z
LAST-MODIFIED:20240524T230242Z
UID:13656-1718100000-1718103600@wayneseniorcenter.org
SUMMARY:Digital Coupons and Grocery Store Apps (In Center)
DESCRIPTION:Bring your device to learn more about using apps for stores like Acme\, Wawa\, or CVS to access your rewards account\, ‘clip’ digital coupons\, and place orders online.
URL:https://wayneseniorcenter.org/event/digital-coupons-and-grocery-store-apps-in-center/
END:VEVENT
BEGIN:VEVENT
DTSTART;TZID=UTC:20240611T110000
DTEND;TZID=UTC:20240611T120000
DTSTAMP:20260423T035239
CREATED:20240524T222528Z
LAST-MODIFIED:20240524T222528Z
UID:13653-1718103600-1718107200@wayneseniorcenter.org
SUMMARY:Sit\, Move\, Stretch (In Center and Virtual)
DESCRIPTION:This class offers seated or standing: cardio movement\, strengthening\, deep breathing\, and stretching. In-Person fees – free for WSC members\, $3 for non-members.
URL:https://wayneseniorcenter.org/event/sit-move-stretch-in-center-and-virtual-32/
END:VEVENT
BEGIN:VEVENT
DTSTART;TZID=UTC:20240611T123000
DTEND;TZID=UTC:20240611T130000
DTSTAMP:20260423T035239
CREATED:20240524T222527Z
LAST-MODIFIED:20240524T222527Z
UID:13652-1718109000-1718110800@wayneseniorcenter.org
SUMMARY:Mindfulness (In Center)
DESCRIPTION:Practicing mindfulness provides countless benefits to our overall well-being. Join instructor Liz for an hour of virtual mindfulness.
URL:https://wayneseniorcenter.org/event/mindfulness-in-center-25/
END:VEVENT
BEGIN:VEVENT
DTSTART;TZID=UTC:20240612T113000
DTEND;TZID=UTC:20240612T130000
DTSTAMP:20260423T035239
CREATED:20240524T222640Z
LAST-MODIFIED:20240524T222640Z
UID:13657-1718191800-1718197200@wayneseniorcenter.org
SUMMARY:Dueling Pianos Concert and Lunch at the Willows Park Preserve
DESCRIPTION:Join us to celebrate the beginning of Summer with a picnic lunch featuring live music from The Dueling Pianos at the Willows Park Preserve Mansion. Lunch is at 11:30am\, concert at 12:00pm. Cost is $10 for members and $15 for non-members. You must RSVP by June 5th – 610-699-6246
URL:https://wayneseniorcenter.org/event/dueling-pianos-concert-and-lunch-at-the-willows-park-preserve/
END:VEVENT
BEGIN:VEVENT
DTSTART;TZID=UTC:20240613T093000
DTEND;TZID=UTC:20240613T103000
DTSTAMP:20260423T035239
CREATED:20240524T222744Z
LAST-MODIFIED:20240524T222744Z
UID:13662-1718271000-1718274600@wayneseniorcenter.org
SUMMARY:Zumba Gold (In Center)
DESCRIPTION:Keep your body moving\, enjoy lively music\, and have fun dancing your cares away. $3 members / $6 non-members
URL:https://wayneseniorcenter.org/event/zumba-gold-in-center-35/
END:VEVENT
BEGIN:VEVENT
DTSTART;TZID=UTC:20240613T110000
DTEND;TZID=UTC:20240613T120000
DTSTAMP:20260423T035239
CREATED:20240524T222640Z
LAST-MODIFIED:20240524T222640Z
UID:13659-1718276400-1718280000@wayneseniorcenter.org
SUMMARY:Sit\, Move\, Stretch (In Center)
DESCRIPTION:Gentle Movement\, stretching\, and relaxation. Free for WSC members\, $3 for non-members. RSVP by calling the center – (610) 688-6246
URL:https://wayneseniorcenter.org/event/sit-move-stretch-in-center-34/
END:VEVENT
BEGIN:VEVENT
DTSTART;TZID=UTC:20240613T120000
DTEND;TZID=UTC:20240613T130000
DTSTAMP:20260423T035239
CREATED:20240524T222743Z
LAST-MODIFIED:20240524T222743Z
UID:13661-1718280000-1718283600@wayneseniorcenter.org
SUMMARY:The Men's Group (In Center)
DESCRIPTION:Catch up with friends over lunch and discuss topics related to men’s lives – hobbies\, family stories\, retirement\, career reflections\, mental & physical health\, or whatever else is on your mind. Call to reserve a Center lunch\, bring your own\, or just stop by to chat.
URL:https://wayneseniorcenter.org/event/the-mens-group-in-center-11/
END:VEVENT
BEGIN:VEVENT
DTSTART;TZID=UTC:20240613T123000
DTEND;TZID=UTC:20240613T133000
DTSTAMP:20260423T035239
CREATED:20240524T222743Z
LAST-MODIFIED:20240524T222743Z
UID:13660-1718281800-1718285400@wayneseniorcenter.org
SUMMARY:Tai Chi (In Center)
DESCRIPTION:New Time / Additional Class – Tai Chi is a gentle form of exercise involving a series of graceful movements performed in a slow\, focused manner and accompanied by deep breathing. Excellent for strengthening balance and promoting stress reduction. In-Person fees – $5 for WSC members\, $10 for non-members.
URL:https://wayneseniorcenter.org/event/tai-chi-in-center-11/
END:VEVENT
BEGIN:VEVENT
DTSTART;TZID=UTC:20240613T130000
DTEND;TZID=UTC:20240613T150000
DTSTAMP:20260423T035239
CREATED:20240524T222640Z
LAST-MODIFIED:20240524T222640Z
UID:13658-1718283600-1718290800@wayneseniorcenter.org
SUMMARY:Cards and Games: Open Play (In Center)
DESCRIPTION:Join us for an afternoon playing games of your choice- Poker\, gin rummy\, pinochle\, mahjong etc. Meet a new friend and start a game of your own. Mahjong teachers/leaders feel free to bring your game set!
URL:https://wayneseniorcenter.org/event/cards-and-games-open-play-in-center-35/
END:VEVENT
BEGIN:VEVENT
DTSTART;TZID=UTC:20240614T093000
DTEND;TZID=UTC:20240614T103000
DTSTAMP:20260423T035239
CREATED:20240524T222744Z
LAST-MODIFIED:20240524T222744Z
UID:13664-1718357400-1718361000@wayneseniorcenter.org
SUMMARY:Senior Circuit (In Center)
DESCRIPTION:Senior circuit is a unique strength building class held in our fitness center utilizing the gym equipment. Free for Silver Sneakers or $3 for members\, $6 non-members.
URL:https://wayneseniorcenter.org/event/senior-circuit-in-center/
END:VEVENT
BEGIN:VEVENT
DTSTART;TZID=UTC:20240614T103000
DTEND;TZID=UTC:20240614T113000
DTSTAMP:20260423T035239
CREATED:20240524T222744Z
LAST-MODIFIED:20240524T222744Z
UID:13663-1718361000-1718364600@wayneseniorcenter.org
SUMMARY:Chair Yoga (In Person and Virtual)
DESCRIPTION:A well-rounded class that will help with balance\, strengthening\, and relaxation. Have a sturdy chair available. All abilities welcome. In-Person fees – $3 for WSC members\, $6 for non-members.
URL:https://wayneseniorcenter.org/event/chair-yoga-in-person-and-virtual-30/
END:VEVENT
BEGIN:VEVENT
DTSTART;TZID=UTC:20240617T100000
DTEND;TZID=UTC:20240617T110000
DTSTAMP:20260423T035239
CREATED:20240524T222944Z
LAST-MODIFIED:20240524T222944Z
UID:13668-1718618400-1718622000@wayneseniorcenter.org
SUMMARY:Silver Sneakers Classic (In Center)
DESCRIPTION:Focus on strengthening muscles and increasing range of movement using light weights\, stretch bands\, and exercise balls. Free for Silver Sneakers or $3 for members\, $6 non-members.
URL:https://wayneseniorcenter.org/event/silver-sneakers-classic-in-center-2/
END:VEVENT
BEGIN:VEVENT
DTSTART;TZID=UTC:20240617T100000
DTEND;TZID=UTC:20240617T120000
DTSTAMP:20260423T035239
CREATED:20240524T222943Z
LAST-MODIFIED:20240524T222943Z
UID:13665-1718618400-1718625600@wayneseniorcenter.org
SUMMARY:Refresher Bridge (In Center)
DESCRIPTION:Brush up on your bridge skills with Lawrie Stetson and Dave Heron. Must have previous bridge experience.
URL:https://wayneseniorcenter.org/event/refresher-bridge-in-center-33/
END:VEVENT
BEGIN:VEVENT
DTSTART;TZID=UTC:20240617T100000
DTEND;TZID=UTC:20240617T120000
DTSTAMP:20260423T035239
CREATED:20240524T222944Z
LAST-MODIFIED:20240524T222944Z
UID:13667-1718618400-1718625600@wayneseniorcenter.org
SUMMARY:WSC Quilters (In Center)
DESCRIPTION:WSC quiliting club. All skill levels Welcome. Come by or RSVP by calling the center – (610) 688-6246
URL:https://wayneseniorcenter.org/event/wsc-quilters-in-center-33/
END:VEVENT
BEGIN:VEVENT
DTSTART;TZID=UTC:20240617T110000
DTEND;TZID=UTC:20240617T120000
DTSTAMP:20260423T035239
CREATED:20240524T222944Z
LAST-MODIFIED:20240524T222944Z
UID:13666-1718622000-1718625600@wayneseniorcenter.org
SUMMARY:Soul Line Dance (In Center)
DESCRIPTION:Kenny James will get you moving and grooving in a fun\, easy to learn dance class. No experience necessary – all can join. $3 members / $6 non-members.
URL:https://wayneseniorcenter.org/event/soul-line-dance-in-center-11/
END:VEVENT
BEGIN:VEVENT
DTSTART;TZID=UTC:20240617T130000
DTEND;TZID=UTC:20240617T150000
DTSTAMP:20260423T035239
CREATED:20240524T230859Z
LAST-MODIFIED:20240524T230859Z
UID:13714-1718629200-1718636400@wayneseniorcenter.org
SUMMARY:Classic Movie Matinee: Yours\, Mine\, and Ours (1968) (In Center)
DESCRIPTION:Join us for a viewing of the film Yours\, Mine\, and Ours (1968)\, an American family comedy drama film directed by Melville Shavelson and starring Lucille Ball\, Henry Fonda\, and Van Johnson. A widower with ten children falls for a widow with eight and they must decide about forming a huge\, unconventional family.
URL:https://wayneseniorcenter.org/event/classic-movie-matinee-yours-mine-and-ours-1968-in-center/
END:VEVENT
BEGIN:VEVENT
DTSTART;TZID=UTC:20240618T090000
DTEND;TZID=UTC:20240618T110000
DTSTAMP:20260423T035239
CREATED:20240524T223127Z
LAST-MODIFIED:20240524T223127Z
UID:13672-1718701200-1718708400@wayneseniorcenter.org
SUMMARY:Tech Tuesday (In Center)
DESCRIPTION:Tuesdays from 11am – 1pm stop in to chat Technology. Stop by between programs\, after grabbing some lunch\, or whenever is convenient for you. Bring specific questions about your device or come in to explore Wayne Senior Center iPads in a no-pressure environment. Or\, come by to share recent accomplishments or knowledge you’d like to share with others\, or just stop in to say hi and learn something new. Stop by during this time or email Francis at francis@wayneseniorcenter.org to make an appointment.
URL:https://wayneseniorcenter.org/event/tech-tuesday-in-center-34/
END:VEVENT
BEGIN:VEVENT
DTSTART;TZID=UTC:20240618T093000
DTEND;TZID=UTC:20240618T103000
DTSTAMP:20260423T035239
CREATED:20240524T223127Z
LAST-MODIFIED:20240524T223127Z
UID:13673-1718703000-1718706600@wayneseniorcenter.org
SUMMARY:Walking Club (Off-Site)
DESCRIPTION:Join Margo\, Destinie\, and WSC friends for a walk on the Radnor trail – weather permitting. Walkers meet at the trail parking lot (520 Conestoga Road). All abilities welcome. Wear comfortable walking shoes.
URL:https://wayneseniorcenter.org/event/walking-club-off-site-7/
END:VEVENT
BEGIN:VEVENT
DTSTART;TZID=UTC:20240618T110000
DTEND;TZID=UTC:20240618T120000
DTSTAMP:20260423T035239
CREATED:20240524T223126Z
LAST-MODIFIED:20240524T223126Z
UID:13671-1718708400-1718712000@wayneseniorcenter.org
SUMMARY:Sit\, Move\, Stretch (In Center and Virtual)
DESCRIPTION:This class offers seated or standing: cardio movement\, strengthening\, deep breathing\, and stretching. In-Person fees – free for WSC members\, $3 for non-members.
URL:https://wayneseniorcenter.org/event/sit-move-stretch-in-center-and-virtual-33/
END:VEVENT
BEGIN:VEVENT
DTSTART;TZID=UTC:20240618T120000
DTEND;TZID=UTC:20240618T130000
DTSTAMP:20260423T035239
CREATED:20240524T222945Z
LAST-MODIFIED:20240524T222945Z
UID:13669-1718712000-1718715600@wayneseniorcenter.org
SUMMARY:Let's Do Lunch! (In Center)
DESCRIPTION:Let’s do lunch together! Please see the menu in the newsletter for details on each meal. $5 members / $8 non-members. RSVP required\, in-center dining only.
URL:https://wayneseniorcenter.org/event/lets-do-lunch-in-center-4/
END:VEVENT
BEGIN:VEVENT
DTSTART;TZID=UTC:20240618T170000
DTEND;TZID=UTC:20240618T180000
DTSTAMP:20260423T035239
CREATED:20240524T223126Z
LAST-MODIFIED:20240528T134352Z
UID:13670-1718730000-1718733600@wayneseniorcenter.org
SUMMARY:Long Term Care: Navigation When a Loved One Needs Care (In Center)
DESCRIPTION:Part of the 3-part Conversations series presented by Anderson Elder Law. Wine and light bites will be served. Call to RSVP 610-688-6246
URL:https://wayneseniorcenter.org/event/long-term-care-navigation-when-a-loved-one-needs-care-in-center/
END:VEVENT
BEGIN:VEVENT
DTSTART;TZID=UTC:20240619T110000
DTEND;TZID=UTC:20240619T120000
DTSTAMP:20260423T035239
CREATED:20240524T223327Z
LAST-MODIFIED:20240524T223327Z
UID:13675-1718794800-1718798400@wayneseniorcenter.org
SUMMARY:Tai Chi (In Center and Virtual)
DESCRIPTION:Tai Chi is a gentle form of exercise involving a series of graceful movements performed in a slow\, focused manner and accompanied by deep breathing. Excellent for strengthening balance and promoting stress reduction. In-Person fees – $5 for WSC members\, $10 for non-members.
URL:https://wayneseniorcenter.org/event/tai-chi-in-center-and-virtual-34/
END:VEVENT
BEGIN:VEVENT
DTSTART;TZID=UTC:20240619T123000
DTEND;TZID=UTC:20240619T133000
DTSTAMP:20260423T035239
CREATED:20240524T223127Z
LAST-MODIFIED:20240524T223127Z
UID:13674-1718800200-1718803800@wayneseniorcenter.org
SUMMARY:Fooling with Ukes (In Center)
DESCRIPTION:Dust off your ukes and join Barbara Van Clief (Barley) for a few practice sessions. Learn to play various popular songs with a group of individuals who share your passion for music!
URL:https://wayneseniorcenter.org/event/fooling-with-ukes-in-center-5/
END:VEVENT
BEGIN:VEVENT
DTSTART;TZID=UTC:20240619T123000
DTEND;TZID=UTC:20240619T133000
DTSTAMP:20260423T035239
CREATED:20240524T223327Z
LAST-MODIFIED:20240524T223327Z
UID:13676-1718800200-1718803800@wayneseniorcenter.org
SUMMARY:Silver Sneakers Classic (In Center)
DESCRIPTION:Focus on strengthening muscles and increasing range of movement using light weights\, stretch bands\, and exercise balls. Free for Silver Sneakers or $3 for members\, $6 non-members.
URL:https://wayneseniorcenter.org/event/silver-sneakers-classic-in-center-3/
END:VEVENT
BEGIN:VEVENT
DTSTART;TZID=UTC:20240620T090000
DTEND;TZID=UTC:20240620T110000
DTSTAMP:20260423T035239
CREATED:20240524T223327Z
LAST-MODIFIED:20240524T223327Z
UID:13677-1718874000-1718881200@wayneseniorcenter.org
SUMMARY:Blood Pressure Screenings (In Center)
DESCRIPTION:Are you trying to keep track of your blood pressure readings? Have questions about a medication or just need a listening ear? Stop by and speak 1:1 with a nurse.
URL:https://wayneseniorcenter.org/event/blood-pressure-screenings-in-center-19/
END:VEVENT
BEGIN:VEVENT
DTSTART;TZID=UTC:20240620T093000
DTEND;TZID=UTC:20240620T103000
DTSTAMP:20260423T035239
CREATED:20240524T223529Z
LAST-MODIFIED:20240524T223529Z
UID:13682-1718875800-1718879400@wayneseniorcenter.org
SUMMARY:Zumba Gold (In Center)
DESCRIPTION:Keep your body moving\, enjoy lively music\, and have fun dancing your cares away. $3 members / $6 non-members
URL:https://wayneseniorcenter.org/event/zumba-gold-in-center-36/
END:VEVENT
BEGIN:VEVENT
DTSTART;TZID=UTC:20240620T100000
DTEND;TZID=UTC:20240620T110000
DTSTAMP:20260423T035239
CREATED:20240524T223529Z
LAST-MODIFIED:20240524T223529Z
UID:13683-1718877600-1718881200@wayneseniorcenter.org
SUMMARY:Danielle Burke Nutrition Program (In Center)
DESCRIPTION:Nutrition tips to keep you cool this summer!
URL:https://wayneseniorcenter.org/event/danielle-burke-nutrition-program-in-center/
END:VEVENT
BEGIN:VEVENT
DTSTART;TZID=UTC:20240620T110000
DTEND;TZID=UTC:20240620T120000
DTSTAMP:20260423T035239
CREATED:20240524T223528Z
LAST-MODIFIED:20240524T223528Z
UID:13680-1718881200-1718884800@wayneseniorcenter.org
SUMMARY:Sit\, Move\, Stretch (In Center)
DESCRIPTION:Gentle Movement\, stretching\, and relaxation. Free for WSC members\, $3 for non-members. RSVP by calling the center – (610) 688-6246
URL:https://wayneseniorcenter.org/event/sit-move-stretch-in-center-35/
END:VEVENT
END:VCALENDAR