BEGIN:VCALENDAR
VERSION:2.0
PRODID:-//Wayne Senior Center - ECPv6.15.20//NONSGML v1.0//EN
CALSCALE:GREGORIAN
METHOD:PUBLISH
X-WR-CALNAME:Wayne Senior Center
X-ORIGINAL-URL:https://wayneseniorcenter.org
X-WR-CALDESC:Events for Wayne Senior Center
REFRESH-INTERVAL;VALUE=DURATION:PT1H
X-Robots-Tag:noindex
X-PUBLISHED-TTL:PT1H
BEGIN:VTIMEZONE
TZID:UTC
BEGIN:STANDARD
TZOFFSETFROM:+0000
TZOFFSETTO:+0000
TZNAME:UTC
DTSTART:20230101T000000
END:STANDARD
END:VTIMEZONE
BEGIN:VEVENT
DTSTART;TZID=UTC:20241016T113000
DTEND;TZID=UTC:20241016T123000
DTSTAMP:20260423T075002
CREATED:20240927T203113Z
LAST-MODIFIED:20240927T203113Z
UID:14258-1729078200-1729081800@wayneseniorcenter.org
SUMMARY:Fitness Trainer Help
DESCRIPTION:Do you need assistance with the fitness center equipment? Stop by to see fitness trainer Kenny to get help with the equipment and ask questions about your fitness routine. You must be a fitness center member.
URL:https://wayneseniorcenter.org/event/fitness-trainer-help-2/
END:VEVENT
BEGIN:VEVENT
DTSTART;TZID=UTC:20241016T110000
DTEND;TZID=UTC:20241016T120000
DTSTAMP:20260423T075002
CREATED:20240927T203112Z
LAST-MODIFIED:20240927T203112Z
UID:14256-1729076400-1729080000@wayneseniorcenter.org
SUMMARY:Tai Chi
DESCRIPTION:Tai Chi is a gentle form of exercise involving a series of graceful movements performed in a slow\, focused manner and accompanied by deep breathing. Excellent for strengthening balance and promoting stress reduction. In-Person fees – $5 for WSC members\, $10 for non-members.
URL:https://wayneseniorcenter.org/event/tai-chi-5/
END:VEVENT
BEGIN:VEVENT
DTSTART;TZID=UTC:20241016T103000
DTEND;TZID=UTC:20241016T110000
DTSTAMP:20260423T075002
CREATED:20240927T203113Z
LAST-MODIFIED:20240927T203113Z
UID:14259-1729074600-1729076400@wayneseniorcenter.org
SUMMARY:Word Games
DESCRIPTION:It is National Dictionary Day. Join Andrea and try out some fun and challenging word games!
URL:https://wayneseniorcenter.org/event/word-games/
END:VEVENT
BEGIN:VEVENT
DTSTART;TZID=UTC:20241016T093000
DTEND;TZID=UTC:20241016T103000
DTSTAMP:20260423T075002
CREATED:20240927T203059Z
LAST-MODIFIED:20240927T203059Z
UID:14255-1729071000-1729074600@wayneseniorcenter.org
SUMMARY:Slow Flow Yoga
DESCRIPTION:Join Liz Seaden RYT for a challenging flow yoga class at WSC. This full-body workout incorporates both mat-based and standing poses.
URL:https://wayneseniorcenter.org/event/slow-flow-yoga-3/
END:VEVENT
BEGIN:VEVENT
DTSTART;TZID=UTC:20241015T150000
DTEND;TZID=UTC:20241015T160000
DTSTAMP:20260423T075002
CREATED:20240927T203044Z
LAST-MODIFIED:20240927T203044Z
UID:14250-1729004400-1729008000@wayneseniorcenter.org
SUMMARY:Memoir Writing (Virtual)
DESCRIPTION:Join Sara Wenger\, MFA for a memoir writing workshop. Sara will share memoir excerpts as well as writing exercises to help you write your unique life experiences so they can be passed on to children\, grandchildren\, friends and others. No prior writing experience is necessary! The class is appropriate for both novice and seasoned writers
URL:https://wayneseniorcenter.org/event/memoir-writing-virtual-13/
END:VEVENT
BEGIN:VEVENT
DTSTART;TZID=UTC:20241015T123000
DTEND;TZID=UTC:20241015T133000
DTSTAMP:20260423T075002
CREATED:20240927T203057Z
LAST-MODIFIED:20240927T203057Z
UID:14251-1728995400-1728999000@wayneseniorcenter.org
SUMMARY:Mindfulness
DESCRIPTION:Practicing mindfulness provides countless benefits to our overall well-being. Join instructor Liz for an hour of virtual mindfulness.
URL:https://wayneseniorcenter.org/event/mindfulness-3/
END:VEVENT
BEGIN:VEVENT
DTSTART;TZID=UTC:20241015T110000
DTEND;TZID=UTC:20241015T120000
DTSTAMP:20260423T075002
CREATED:20240927T203058Z
LAST-MODIFIED:20240927T203058Z
UID:14252-1728990000-1728993600@wayneseniorcenter.org
SUMMARY:Sit\, Move\, Stretch
DESCRIPTION:This class offers seated or standing: cardio movement\, strengthening\, deep breathing\, and stretching. In-Person fees – free for WSC members\, $3 for non-members.
URL:https://wayneseniorcenter.org/event/sit-move-stretch-5/
END:VEVENT
BEGIN:VEVENT
DTSTART;TZID=UTC:20241015T100000
DTEND;TZID=UTC:20241015T110000
DTSTAMP:20260423T075002
CREATED:20240927T203058Z
LAST-MODIFIED:20241001T124442Z
UID:14253-1728986400-1728990000@wayneseniorcenter.org
SUMMARY:Nutrition with Danielle Burke
DESCRIPTION:Join us for a nutrition talk hosted by Danielle Burke\, RD\, LDN. Danielle’s discussion will be entitled ‘Mediterranean Diet 101: Food Lists\, Tips\, and Health Benefits’
URL:https://wayneseniorcenter.org/event/nutrition-with-danielle-burke/
END:VEVENT
BEGIN:VEVENT
DTSTART;TZID=UTC:20241014T140000
DTEND;TZID=UTC:20241014T150000
DTSTAMP:20260423T075002
CREATED:20240927T203029Z
LAST-MODIFIED:20240927T203029Z
UID:14245-1728914400-1728918000@wayneseniorcenter.org
SUMMARY:Seasons Grief & Loss Group
DESCRIPTION:Join others in a safe space to listen\, share\, and heal in conversation about losses you have experienced. We will learn how grief can effect our everyday life and ways to manage the range of feelings and symptoms. Facilitated by Holiticare Hospice
URL:https://wayneseniorcenter.org/event/seasons-grief-loss-group/
END:VEVENT
BEGIN:VEVENT
DTSTART;TZID=UTC:20241014T133000
DTEND;TZID=UTC:20241014T143000
DTSTAMP:20260423T075002
CREATED:20240927T203043Z
LAST-MODIFIED:20240927T203043Z
UID:14249-1728912600-1728916200@wayneseniorcenter.org
SUMMARY:PA MEDI Presentation (Virtual)
DESCRIPTION:PA Medi (Medicare counseling) presents updates regarding Medicare. This meeting will be on Zoom – please stop by the Center or call to register.
URL:https://wayneseniorcenter.org/event/pa-medi-presentation-virtual/
END:VEVENT
BEGIN:VEVENT
DTSTART;TZID=UTC:20241014T110000
DTEND;TZID=UTC:20241014T120000
DTSTAMP:20260423T075002
CREATED:20240927T203043Z
LAST-MODIFIED:20240927T203043Z
UID:14246-1728903600-1728907200@wayneseniorcenter.org
SUMMARY:Soul Line Dance
DESCRIPTION:Kenny James will get you moving and grooving in a fun\, easy to learn dance class. No experience necessary – all can join. $3 members / $6 non-members.
URL:https://wayneseniorcenter.org/event/soul-line-dance-2/
END:VEVENT
BEGIN:VEVENT
DTSTART;TZID=UTC:20241014T100000
DTEND;TZID=UTC:20241014T120000
DTSTAMP:20260423T075002
CREATED:20240927T203043Z
LAST-MODIFIED:20240927T203043Z
UID:14247-1728900000-1728907200@wayneseniorcenter.org
SUMMARY:WSC Quilters
DESCRIPTION:WSC quiliting club. All skill levels Welcome. Come by or RSVP by calling the center – (610) 688-6246
URL:https://wayneseniorcenter.org/event/wsc-quilters-2/
END:VEVENT
BEGIN:VEVENT
DTSTART;TZID=UTC:20241014T100000
DTEND;TZID=UTC:20241014T120000
DTSTAMP:20260423T075002
CREATED:20240927T203028Z
LAST-MODIFIED:20240927T203028Z
UID:14244-1728900000-1728907200@wayneseniorcenter.org
SUMMARY:Refresher Bridge
DESCRIPTION:Brush up on your bridge skills with Lawrie Stetson and Dave Heron. Must have previous bridge experience.
URL:https://wayneseniorcenter.org/event/refresher-bridge-2/
END:VEVENT
BEGIN:VEVENT
DTSTART;TZID=UTC:20241014T100000
DTEND;TZID=UTC:20241014T110000
DTSTAMP:20260423T075002
CREATED:20240927T203043Z
LAST-MODIFIED:20240927T203043Z
UID:14248-1728900000-1728903600@wayneseniorcenter.org
SUMMARY:Silver Sneakers Classic
DESCRIPTION:Focus on strengthening muscles and increasing range of motion using light weights\, stretch bands\, and exercise balls.
URL:https://wayneseniorcenter.org/event/silver-sneakers-classic-3/
END:VEVENT
BEGIN:VEVENT
DTSTART;TZID=UTC:20241014T093000
DTEND;TZID=UTC:20241014T103000
DTSTAMP:20260423T075002
CREATED:20240927T203028Z
LAST-MODIFIED:20240927T203028Z
UID:14243-1728898200-1728901800@wayneseniorcenter.org
SUMMARY:Brain Fit
DESCRIPTION:Join Andrea as we exercise our brain with fun word puzzles and brain teasers!
URL:https://wayneseniorcenter.org/event/brain-fit-2/
END:VEVENT
BEGIN:VEVENT
DTSTART;TZID=UTC:20241011T103000
DTEND;TZID=UTC:20241011T113000
DTSTAMP:20260423T075002
CREATED:20240927T203027Z
LAST-MODIFIED:20240927T203027Z
UID:14241-1728642600-1728646200@wayneseniorcenter.org
SUMMARY:Chair Yoga
DESCRIPTION:A well-rounded class that will help with balance\, strengthening\, and relaxation. Have a sturdy chair available. All abilities welcome. In-Person fees – $3 for WSC members\, $6 for non-members.
URL:https://wayneseniorcenter.org/event/chair-yoga-2/
END:VEVENT
BEGIN:VEVENT
DTSTART;TZID=UTC:20241011T093000
DTEND;TZID=UTC:20241011T103000
DTSTAMP:20260423T075002
CREATED:20240927T203028Z
LAST-MODIFIED:20240927T203028Z
UID:14242-1728639000-1728642600@wayneseniorcenter.org
SUMMARY:Senior Circuit
DESCRIPTION:Join us for a dynamic strength-building\, full-body workout utilizing bands\, weights\, and balls as we cycle through various stations.
URL:https://wayneseniorcenter.org/event/senior-circuit-2/
END:VEVENT
BEGIN:VEVENT
DTSTART;TZID=UTC:20241010T130000
DTEND;TZID=UTC:20241010T150000
DTSTAMP:20260423T075002
CREATED:20240927T202959Z
LAST-MODIFIED:20240927T202959Z
UID:14235-1728565200-1728572400@wayneseniorcenter.org
SUMMARY:Cards and Games: Open Play
DESCRIPTION:Join us for an afternoon playing games of your choice- Poker\, gin rummy\, pinochle\, mahjong etc. Meet a new friend and start a game of your own. Mahjong teachers/leaders feel free to bring your game set!
URL:https://wayneseniorcenter.org/event/cards-and-games-open-play-2/
END:VEVENT
BEGIN:VEVENT
DTSTART;TZID=UTC:20241010T123000
DTEND;TZID=UTC:20241010T133000
DTSTAMP:20260423T075002
CREATED:20240927T203013Z
LAST-MODIFIED:20240927T203013Z
UID:14237-1728563400-1728567000@wayneseniorcenter.org
SUMMARY:Tai Chi
DESCRIPTION:Tai Chi is a gentle form of exercise involving a series of graceful movements performed in a slow\, focused manner and accompanied by deep breathing. Excellent for strengthening balance and promoting stress reduction. In-Person fees – $5 for WSC members\, $10 for non-members.
URL:https://wayneseniorcenter.org/event/tai-chi-4/
END:VEVENT
BEGIN:VEVENT
DTSTART;TZID=UTC:20241010T120000
DTEND;TZID=UTC:20241010T130000
DTSTAMP:20260423T075002
CREATED:20240927T203013Z
LAST-MODIFIED:20240927T203013Z
UID:14238-1728561600-1728565200@wayneseniorcenter.org
SUMMARY:The Men's Group
DESCRIPTION:Catch up with friends over lunch and discuss topics related to men’s lives – hobbies\, family stories\, retirement\, career reflections\, mental & physical health\, or whatever else is on your mind. Call to reserve a Center lunch\, bring your own\, or just stop by to chat.
URL:https://wayneseniorcenter.org/event/the-mens-group/
END:VEVENT
BEGIN:VEVENT
DTSTART;TZID=UTC:20241010T110000
DTEND;TZID=UTC:20241010T120000
DTSTAMP:20260423T075002
CREATED:20240927T203012Z
LAST-MODIFIED:20240927T203012Z
UID:14236-1728558000-1728561600@wayneseniorcenter.org
SUMMARY:Sit\, Move\, Stretch
DESCRIPTION:This class offers seated or standing: cardio movement\, strengthening\, deep breathing\, and stretching. In-Person fees – free for WSC members\, $3 for non-members.
URL:https://wayneseniorcenter.org/event/sit-move-stretch-4/
END:VEVENT
BEGIN:VEVENT
DTSTART;TZID=UTC:20241010T093000
DTEND;TZID=UTC:20241010T103000
DTSTAMP:20260423T075002
CREATED:20240927T203013Z
LAST-MODIFIED:20240927T203013Z
UID:14239-1728552600-1728556200@wayneseniorcenter.org
SUMMARY:Zumba Gold
DESCRIPTION:Keep your body moving\, enjoy lively music\, and have fun dancing your cares away. $3 members / $6 non-members
URL:https://wayneseniorcenter.org/event/zumba-gold/
END:VEVENT
BEGIN:VEVENT
DTSTART;TZID=UTC:20241010T090000
DTEND;TZID=UTC:20241010T113000
DTSTAMP:20260423T075002
CREATED:20240927T203014Z
LAST-MODIFIED:20240927T203014Z
UID:14240-1728550800-1728559800@wayneseniorcenter.org
SUMMARY:Flu & Updated Covid Vaccine Clinic
DESCRIPTION:Preregister by calling 610-688-6246. Sponsored by Paoli Pharmacy.
URL:https://wayneseniorcenter.org/event/flu-updated-covid-vaccine-clinic/
END:VEVENT
BEGIN:VEVENT
DTSTART;TZID=UTC:20241010T090000
DTEND;TZID=UTC:20241010T110000
DTSTAMP:20260423T075002
CREATED:20240927T202958Z
LAST-MODIFIED:20240927T202958Z
UID:14234-1728550800-1728558000@wayneseniorcenter.org
SUMMARY:Blood Pressure Screenings
DESCRIPTION:Are you trying to keep track of your blood pressure readings? Have questions about a medication or just need a listening ear? Stop by and speak 1:1 with a nurse.
URL:https://wayneseniorcenter.org/event/blood-pressure-screenings/
END:VEVENT
BEGIN:VEVENT
DTSTART;TZID=UTC:20241009T123000
DTEND;TZID=UTC:20241009T133000
DTSTAMP:20260423T075002
CREATED:20240927T202958Z
LAST-MODIFIED:20240927T203717Z
UID:14232-1728477000-1728480600@wayneseniorcenter.org
SUMMARY:Silver Sneakers Classic
DESCRIPTION:Focus on strengthening muscles and increasing range of motion using light weights\, stretch bands\, and exercise balls.
URL:https://wayneseniorcenter.org/event/silver-sneakers-classic-2/
END:VEVENT
BEGIN:VEVENT
DTSTART;TZID=UTC:20241009T123000
DTEND;TZID=UTC:20241009T133000
DTSTAMP:20260423T075002
CREATED:20240927T202943Z
LAST-MODIFIED:20240927T202943Z
UID:14228-1728477000-1728480600@wayneseniorcenter.org
SUMMARY:Fooling with Ukes
DESCRIPTION:Dust off your ukes and join Barbara Van Clief (Barley) for a few practice sessions. Learn to play various popular songs with a group of individuals who share your passion for music!
URL:https://wayneseniorcenter.org/event/fooling-with-ukes-2/
END:VEVENT
BEGIN:VEVENT
DTSTART;TZID=UTC:20241009T113000
DTEND;TZID=UTC:20241009T123000
DTSTAMP:20260423T075002
CREATED:20240927T202958Z
LAST-MODIFIED:20240927T202958Z
UID:14233-1728473400-1728477000@wayneseniorcenter.org
SUMMARY:Fitness Trainer Help
DESCRIPTION:Do you need assistance with the fitness center equipment? Stop by to see fitness trainer Kenny to get help with the equipment and ask questions about your fitness routine. You must be a fitness center member.
URL:https://wayneseniorcenter.org/event/fitness-trainer-help/
END:VEVENT
BEGIN:VEVENT
DTSTART;TZID=UTC:20241009T110000
DTEND;TZID=UTC:20241009T120000
DTSTAMP:20260423T075002
CREATED:20240927T202957Z
LAST-MODIFIED:20240927T202957Z
UID:14231-1728471600-1728475200@wayneseniorcenter.org
SUMMARY:Tai Chi
DESCRIPTION:Tai Chi is a gentle form of exercise involving a series of graceful movements performed in a slow\, focused manner and accompanied by deep breathing. Excellent for strengthening balance and promoting stress reduction. In-Person fees – $5 for WSC members\, $10 for non-members.
URL:https://wayneseniorcenter.org/event/tai-chi-3/
END:VEVENT
BEGIN:VEVENT
DTSTART;TZID=UTC:20241009T103000
DTEND;TZID=UTC:20241009T110000
DTSTAMP:20260423T075002
CREATED:20240927T202944Z
LAST-MODIFIED:20240927T202944Z
UID:14229-1728469800-1728471600@wayneseniorcenter.org
SUMMARY:Large Jenga Game
DESCRIPTION:Play a big version of Jenga with friends here at the Center!
URL:https://wayneseniorcenter.org/event/large-jenga-game/
END:VEVENT
BEGIN:VEVENT
DTSTART;TZID=UTC:20241009T093000
DTEND;TZID=UTC:20241009T103000
DTSTAMP:20260423T075002
CREATED:20240927T202944Z
LAST-MODIFIED:20240927T202944Z
UID:14230-1728466200-1728469800@wayneseniorcenter.org
SUMMARY:Slow Flow Yoga
DESCRIPTION:Join Liz Seaden RYT for a challenging flow yoga class at WSC. This full-body workout incorporates both mat-based and standing poses.
URL:https://wayneseniorcenter.org/event/slow-flow-yoga-2/
END:VEVENT
END:VCALENDAR