BEGIN:VCALENDAR
VERSION:2.0
PRODID:-//Wayne Senior Center - ECPv6.15.20//NONSGML v1.0//EN
CALSCALE:GREGORIAN
METHOD:PUBLISH
X-WR-CALNAME:Wayne Senior Center
X-ORIGINAL-URL:https://wayneseniorcenter.org
X-WR-CALDESC:Events for Wayne Senior Center
REFRESH-INTERVAL;VALUE=DURATION:PT1H
X-Robots-Tag:noindex
X-PUBLISHED-TTL:PT1H
BEGIN:VTIMEZONE
TZID:UTC
BEGIN:STANDARD
TZOFFSETFROM:+0000
TZOFFSETTO:+0000
TZNAME:UTC
DTSTART:20240101T000000
END:STANDARD
END:VTIMEZONE
BEGIN:VEVENT
DTSTART;TZID=UTC:20250909T093000
DTEND;TZID=UTC:20250909T104500
DTSTAMP:20260423T030419
CREATED:20250822T142413Z
LAST-MODIFIED:20250822T142413Z
UID:15799-1757410200-1757414700@wayneseniorcenter.org
SUMMARY:Fresh Start
DESCRIPTION:Join us for Fresh Start—our new\, nutritious and delicious breakfast program! Breakfast will be served every Tuesday and Thursdayfrom 9:30 AM to 10:45 AM. Cost is $3.\nMeals are available on a first-come\, first-served basis\, so be sure to arrive early!\n Please note: the menu is subject to change.
URL:https://wayneseniorcenter.org/event/fresh-start-27/
END:VEVENT
BEGIN:VEVENT
DTSTART;TZID=UTC:20250909T100000
DTEND;TZID=UTC:20250909T130000
DTSTAMP:20260423T030419
CREATED:20250822T142614Z
LAST-MODIFIED:20250822T144937Z
UID:15805-1757412000-1757422800@wayneseniorcenter.org
SUMMARY:Free Hearing Screening Event
DESCRIPTION:Join Dr. Peyton Provost\, Au.D\, from HearingLife for a presentation on “Healthy Hearing & Untreated Hearing Loss”\, followed by FREE hearing screenings.
URL:https://wayneseniorcenter.org/event/free-hearing-screening-event/
ATTACH;FMTTYPE=image/png:https://wayneseniorcenter.org/wp-content/uploads/2025/08/0909-Hearing-Screenings.png
END:VEVENT
BEGIN:VEVENT
DTSTART;TZID=UTC:20250909T110000
DTEND;TZID=UTC:20250909T120000
DTSTAMP:20260423T030419
CREATED:20250822T142612Z
LAST-MODIFIED:20250822T142612Z
UID:15802-1757415600-1757419200@wayneseniorcenter.org
SUMMARY:Sit\, Move\, Stretch
DESCRIPTION:This class offers seated or standing: cardio movement\, strengthening\, deep breathing\, and stretching. In-Person fees – free for WSC members\, $3 for non-members.
URL:https://wayneseniorcenter.org/event/sit-move-stretch-90/
END:VEVENT
BEGIN:VEVENT
DTSTART;TZID=UTC:20250909T120000
DTEND;TZID=UTC:20250909T130000
DTSTAMP:20260423T030419
CREATED:20250822T142414Z
LAST-MODIFIED:20250822T142414Z
UID:15800-1757419200-1757422800@wayneseniorcenter.org
SUMMARY:Let's Do Lunch!
DESCRIPTION:Let’s do lunch together! Please see the menu in the newsletter for details on each meal. $5 members / $8 non-members. RSVP required\, in-center dining only.
URL:https://wayneseniorcenter.org/event/lets-do-lunch-15/
END:VEVENT
BEGIN:VEVENT
DTSTART;TZID=UTC:20250909T123000
DTEND;TZID=UTC:20250909T133000
DTSTAMP:20260423T030419
CREATED:20250822T142611Z
LAST-MODIFIED:20250822T142611Z
UID:15801-1757421000-1757424600@wayneseniorcenter.org
SUMMARY:Mindfulness
DESCRIPTION:Practicing mindfulness provides countless benefits to our overall well-being. Join instructor Liz for an hour of virtual mindfulness.
URL:https://wayneseniorcenter.org/event/mindfulness-46/
END:VEVENT
BEGIN:VEVENT
DTSTART;TZID=UTC:20250910T101500
DTEND;TZID=UTC:20250910T110000
DTSTAMP:20260423T030419
CREATED:20250822T142815Z
LAST-MODIFIED:20250822T142815Z
UID:15810-1757499300-1757502000@wayneseniorcenter.org
SUMMARY:Decade Trivia (1970s / 80s)
DESCRIPTION:We are turning back the clock with Decade Trivia. Test your knowledge. Come for the nostalgia\, stay for the laughs\, and see which decade is your trivia sweet spot.
URL:https://wayneseniorcenter.org/event/decade-trivia-1970s-80s/
END:VEVENT
BEGIN:VEVENT
DTSTART;TZID=UTC:20250910T111500
DTEND;TZID=UTC:20250910T120000
DTSTAMP:20260423T030419
CREATED:20250822T142813Z
LAST-MODIFIED:20250822T142813Z
UID:15808-1757502900-1757505600@wayneseniorcenter.org
SUMMARY:Soul Line Dancing
DESCRIPTION:Kenny James will get you moving and grooving in a fun\, easy to learn dance class. No experience necessary – all can join. $3 members / $6 non-members.
URL:https://wayneseniorcenter.org/event/soul-line-dancing-66/
END:VEVENT
BEGIN:VEVENT
DTSTART;TZID=UTC:20250910T123000
DTEND;TZID=UTC:20250910T133000
DTSTAMP:20260423T030419
CREATED:20250822T142811Z
LAST-MODIFIED:20250822T142811Z
UID:15806-1757507400-1757511000@wayneseniorcenter.org
SUMMARY:Fooling with Ukes
DESCRIPTION:Dust off your ukes and join Barbara Van Clief (Barley) for a few practice sessions. Learn to play various popular songs with a group of individuals who share your passion for music!
URL:https://wayneseniorcenter.org/event/fooling-with-ukes-33/
END:VEVENT
BEGIN:VEVENT
DTSTART;TZID=UTC:20250910T123000
DTEND;TZID=UTC:20250910T133000
DTSTAMP:20260423T030419
CREATED:20250822T142812Z
LAST-MODIFIED:20250822T142812Z
UID:15807-1757507400-1757511000@wayneseniorcenter.org
SUMMARY:Silver Sneakers Classic
DESCRIPTION:Focus on strengthening muscles and increasing range of motion using light weights\, stretch bands\, and exercise balls.
URL:https://wayneseniorcenter.org/event/silver-sneakers-classic-88/
END:VEVENT
BEGIN:VEVENT
DTSTART;TZID=UTC:20250910T140000
DTEND;TZID=UTC:20250910T140000
DTSTAMP:20260423T030419
CREATED:20250822T142814Z
LAST-MODIFIED:20250822T142814Z
UID:15809-1757512800-1757512800@wayneseniorcenter.org
SUMMARY:Tai Chi
DESCRIPTION:Tai Chi is a gentle form of exercise involving a series of graceful movements performed in a slow\, focused manner and accompanied by deep breathing. Excellent for strengthening balance and promoting stress reduction. In-Person fees – $5 for WSC members\, $10 for non-members.
URL:https://wayneseniorcenter.org/event/tai-chi-57/
END:VEVENT
BEGIN:VEVENT
DTSTART;TZID=UTC:20250911T093000
DTEND;TZID=UTC:20250911T104500
DTSTAMP:20260423T030419
CREATED:20250822T143012Z
LAST-MODIFIED:20250822T143012Z
UID:15812-1757583000-1757587500@wayneseniorcenter.org
SUMMARY:Fresh Start
DESCRIPTION:Join us for Fresh Start—our new\, nutritious and delicious breakfast program! Breakfast will be served every Tuesday and Thursdayfrom 9:30 AM to 10:45 AM. Cost is $3.\nMeals are available on a first-come\, first-served basis\, so be sure to arrive early!\n Please note: the menu is subject to change.
URL:https://wayneseniorcenter.org/event/fresh-start-28/
END:VEVENT
BEGIN:VEVENT
DTSTART;TZID=UTC:20250911T101500
DTEND;TZID=UTC:20250911T110000
DTSTAMP:20260423T030419
CREATED:20250822T143014Z
LAST-MODIFIED:20250822T143014Z
UID:15814-1757585700-1757588400@wayneseniorcenter.org
SUMMARY:Podcast and Discussion
DESCRIPTION:Join us as we listen to a short\, thought-provoking podcast together\, followed by a friendly group discussion. Whether it’s stories\, trivia\, wellness tips\, or life reflections\, this is a great way to learn something new and share your thoughts in good company!
URL:https://wayneseniorcenter.org/event/podcast-and-discussion/
END:VEVENT
BEGIN:VEVENT
DTSTART;TZID=UTC:20250911T110000
DTEND;TZID=UTC:20250911T120000
DTSTAMP:20260423T030419
CREATED:20250822T143013Z
LAST-MODIFIED:20250822T143013Z
UID:15813-1757588400-1757592000@wayneseniorcenter.org
SUMMARY:Sit\, Move\, Stretch
DESCRIPTION:This class offers seated or standing: cardio movement\, strengthening\, deep breathing\, and stretching. In-Person fees – free for WSC members\, $3 for non-members.
URL:https://wayneseniorcenter.org/event/sit-move-stretch-91/
END:VEVENT
BEGIN:VEVENT
DTSTART;TZID=UTC:20250911T130000
DTEND;TZID=UTC:20250911T150000
DTSTAMP:20260423T030419
CREATED:20250822T143011Z
LAST-MODIFIED:20250822T143011Z
UID:15811-1757595600-1757602800@wayneseniorcenter.org
SUMMARY:Cards and Games: Open Play
DESCRIPTION:Join us for an afternoon playing games of your choice- Poker\, gin rummy\, pinochle\, mahjong etc. Meet a new friend and start a game of your own. Mahjong teachers/leaders feel free to bring your game set!
URL:https://wayneseniorcenter.org/event/cards-and-games-open-play-48/
END:VEVENT
BEGIN:VEVENT
DTSTART;TZID=UTC:20250912T093000
DTEND;TZID=UTC:20250912T103000
DTSTAMP:20260423T030419
CREATED:20250822T143212Z
LAST-MODIFIED:20250822T143212Z
UID:15816-1757669400-1757673000@wayneseniorcenter.org
SUMMARY:Senior Circuit
DESCRIPTION:Join us for a dynamic strength-building\, full-body workout utilizing bands\, weights\, and balls as we cycle through various stations.
URL:https://wayneseniorcenter.org/event/senior-circuit-44/
END:VEVENT
BEGIN:VEVENT
DTSTART;TZID=UTC:20250912T103000
DTEND;TZID=UTC:20250912T113000
DTSTAMP:20260423T030419
CREATED:20250822T143015Z
LAST-MODIFIED:20250822T143015Z
UID:15815-1757673000-1757676600@wayneseniorcenter.org
SUMMARY:Chair Yoga
DESCRIPTION:A well-rounded class that will help with balance\, strengthening\, and relaxation. Have a sturdy chair available. All abilities welcome. In-Person fees – $3 for WSC members\, $6 for non-members.
URL:https://wayneseniorcenter.org/event/chair-yoga-46/
END:VEVENT
BEGIN:VEVENT
DTSTART;TZID=UTC:20250915T100000
DTEND;TZID=UTC:20250915T110000
DTSTAMP:20260423T030419
CREATED:20250822T143214Z
LAST-MODIFIED:20250822T143214Z
UID:15818-1757930400-1757934000@wayneseniorcenter.org
SUMMARY:Silver Sneakers Classic
DESCRIPTION:Focus on strengthening muscles and increasing range of motion using light weights\, stretch bands\, and exercise balls.
URL:https://wayneseniorcenter.org/event/silver-sneakers-classic-89/
END:VEVENT
BEGIN:VEVENT
DTSTART;TZID=UTC:20250915T100000
DTEND;TZID=UTC:20250915T120000
DTSTAMP:20260423T030419
CREATED:20250822T143213Z
LAST-MODIFIED:20250822T143213Z
UID:15817-1757930400-1757937600@wayneseniorcenter.org
SUMMARY:Refresher Bridge
DESCRIPTION:Brush up on your bridge skills with friends. Must have previous bridge experience.
URL:https://wayneseniorcenter.org/event/refresher-bridge-45/
END:VEVENT
BEGIN:VEVENT
DTSTART;TZID=UTC:20250915T100000
DTEND;TZID=UTC:20250915T120000
DTSTAMP:20260423T030419
CREATED:20250822T143216Z
LAST-MODIFIED:20250822T143216Z
UID:15820-1757930400-1757937600@wayneseniorcenter.org
SUMMARY:WSC Quilters
DESCRIPTION:WSC quiliting club. All skill levels Welcome. Come by or RSVP by calling the center – (610) 688-6246
URL:https://wayneseniorcenter.org/event/wsc-quilters-45/
END:VEVENT
BEGIN:VEVENT
DTSTART;TZID=UTC:20250915T110000
DTEND;TZID=UTC:20250915T120000
DTSTAMP:20260423T030419
CREATED:20250822T143215Z
LAST-MODIFIED:20250822T143215Z
UID:15819-1757934000-1757937600@wayneseniorcenter.org
SUMMARY:Soul Line Dancing
DESCRIPTION:Kenny James will get you moving and grooving in a fun\, easy to learn dance class. No experience necessary – all can join. $3 members / $6 non-members.
URL:https://wayneseniorcenter.org/event/soul-line-dancing-67/
END:VEVENT
BEGIN:VEVENT
DTSTART;TZID=UTC:20250916T090000
DTEND;TZID=UTC:20250916T110000
DTSTAMP:20260423T030419
CREATED:20250822T143230Z
LAST-MODIFIED:20250822T143230Z
UID:15825-1758013200-1758020400@wayneseniorcenter.org
SUMMARY:Tech Tuesday
DESCRIPTION:Stop by during this time with your tech questions or email Francis at francis@wayneseniorcenter.org to make an appointment. Some Tuesdays will feature a workshop on a certain topic starting at 10am.
URL:https://wayneseniorcenter.org/event/tech-tuesday-32/
END:VEVENT
BEGIN:VEVENT
DTSTART;TZID=UTC:20250916T093000
DTEND;TZID=UTC:20250916T103000
DTSTAMP:20260423T030419
CREATED:20250822T143242Z
LAST-MODIFIED:20250822T143242Z
UID:15826-1758015000-1758018600@wayneseniorcenter.org
SUMMARY:Walking Club (Off-Site)
DESCRIPTION:Join WSC friends for a walk on the Radnor trail – weather permitting. Walkers meet at the trail parking lot (520 Conestoga Road). All abilities welcome. Wear comfortable walking shoes.
URL:https://wayneseniorcenter.org/event/walking-club-off-site-42/
END:VEVENT
BEGIN:VEVENT
DTSTART;TZID=UTC:20250916T093000
DTEND;TZID=UTC:20250916T104500
DTSTAMP:20260423T030419
CREATED:20250822T143228Z
LAST-MODIFIED:20250822T143228Z
UID:15822-1758015000-1758019500@wayneseniorcenter.org
SUMMARY:Fresh Start
DESCRIPTION:Join us for Fresh Start—our new\, nutritious and delicious breakfast program! Breakfast will be served every Tuesday and Thursdayfrom 9:30 AM to 10:45 AM. Cost is $3.\nMeals are available on a first-come\, first-served basis\, so be sure to arrive early!\n Please note: the menu is subject to change.
URL:https://wayneseniorcenter.org/event/fresh-start-29/
END:VEVENT
BEGIN:VEVENT
DTSTART;TZID=UTC:20250916T100000
DTEND;TZID=UTC:20250916T110000
DTSTAMP:20260423T030419
CREATED:20250822T143227Z
LAST-MODIFIED:20250822T144852Z
UID:15821-1758016800-1758020400@wayneseniorcenter.org
SUMMARY:Cardio Drumming with Andrea
DESCRIPTION:Join Andrea once a month for a fun\, rhythmic\, seated exercise class that gets you moving and grooving. Each month will have a fun theme! $3 for members\, $6 non-members
URL:https://wayneseniorcenter.org/event/cardio-drumming-with-andrea-11/
ATTACH;FMTTYPE=image/png:https://wayneseniorcenter.org/wp-content/uploads/2025/08/0918-Cardio-Drumming.png
END:VEVENT
BEGIN:VEVENT
DTSTART;TZID=UTC:20250916T110000
DTEND;TZID=UTC:20250916T120000
DTSTAMP:20260423T030419
CREATED:20250822T143229Z
LAST-MODIFIED:20250822T143229Z
UID:15824-1758020400-1758024000@wayneseniorcenter.org
SUMMARY:Sit\, Move\, Stretch
DESCRIPTION:This class offers seated or standing: cardio movement\, strengthening\, deep breathing\, and stretching. In-Person fees – free for WSC members\, $3 for non-members.
URL:https://wayneseniorcenter.org/event/sit-move-stretch-92/
END:VEVENT
BEGIN:VEVENT
DTSTART;TZID=UTC:20250916T123000
DTEND;TZID=UTC:20250916T133000
DTSTAMP:20260423T030419
CREATED:20250822T143228Z
LAST-MODIFIED:20250822T143228Z
UID:15823-1758025800-1758029400@wayneseniorcenter.org
SUMMARY:Mindfulness
DESCRIPTION:Practicing mindfulness provides countless benefits to our overall well-being. Join instructor Liz for an hour of virtual mindfulness.
URL:https://wayneseniorcenter.org/event/mindfulness-47/
END:VEVENT
BEGIN:VEVENT
DTSTART;TZID=UTC:20250917T100000
DTEND;TZID=UTC:20250917T110000
DTSTAMP:20260423T030419
CREATED:20250822T143258Z
LAST-MODIFIED:20250822T143258Z
UID:15832-1758103200-1758106800@wayneseniorcenter.org
SUMMARY:Silver Linings Clinic Wellness Series
DESCRIPTION:Join us for a special Wellness Series led by a licensed therapist from Silver Linings Clinic. This program is designed for older adults seeking to enhance emotional well-being\, navigate life transitions\, and build meaningful social connections. Each session offers supportive conversation\, practical tools\, and a warm community atmosphere to help you thrive this summer. Free w/ Medicare. Call 610-688-6246 to register.
URL:https://wayneseniorcenter.org/event/silver-linings-clinic-wellness-series/
END:VEVENT
BEGIN:VEVENT
DTSTART;TZID=UTC:20250917T110000
DTEND;TZID=UTC:20250917T120000
DTSTAMP:20260423T030419
CREATED:20250822T143244Z
LAST-MODIFIED:20250822T143244Z
UID:15828-1758106800-1758110400@wayneseniorcenter.org
SUMMARY:Pageturner's Bookclub
DESCRIPTION:Enjoy lively book conversation with a Radnor Memorial Library librarian. All are welcome! We will be discussing Framed\, by John Grisham. Grisham and McCloskey expose ten harrowing tales of innocent Americans unjustly found guilty and convicted of crimes they didn’t commit\, shedding light on the flaws within the legal system that led to their imprisonment and the relentless battles for exoneration that ensued.
URL:https://wayneseniorcenter.org/event/pageturners-bookclub-12/
END:VEVENT
BEGIN:VEVENT
DTSTART;TZID=UTC:20250917T111500
DTEND;TZID=UTC:20250917T120000
DTSTAMP:20260423T030419
CREATED:20250822T143245Z
LAST-MODIFIED:20250822T143245Z
UID:15830-1758107700-1758110400@wayneseniorcenter.org
SUMMARY:Soul Line Dancing
DESCRIPTION:Kenny James will get you moving and grooving in a fun\, easy to learn dance class. No experience necessary – all can join. $3 members / $6 non-members.
URL:https://wayneseniorcenter.org/event/soul-line-dancing-68/
END:VEVENT
BEGIN:VEVENT
DTSTART;TZID=UTC:20250917T123000
DTEND;TZID=UTC:20250917T133000
DTSTAMP:20260423T030419
CREATED:20250822T143243Z
LAST-MODIFIED:20250822T143243Z
UID:15827-1758112200-1758115800@wayneseniorcenter.org
SUMMARY:Fooling with Ukes
DESCRIPTION:Dust off your ukes and join Barbara Van Clief (Barley) for a few practice sessions. Learn to play various popular songs with a group of individuals who share your passion for music!
URL:https://wayneseniorcenter.org/event/fooling-with-ukes-34/
END:VEVENT
END:VCALENDAR