BEGIN:VCALENDAR
VERSION:2.0
PRODID:-//Wayne Senior Center - ECPv6.15.20//NONSGML v1.0//EN
CALSCALE:GREGORIAN
METHOD:PUBLISH
X-WR-CALNAME:Wayne Senior Center
X-ORIGINAL-URL:https://wayneseniorcenter.org
X-WR-CALDESC:Events for Wayne Senior Center
REFRESH-INTERVAL;VALUE=DURATION:PT1H
X-Robots-Tag:noindex
X-PUBLISHED-TTL:PT1H
BEGIN:VTIMEZONE
TZID:UTC
BEGIN:STANDARD
TZOFFSETFROM:+0000
TZOFFSETTO:+0000
TZNAME:UTC
DTSTART:20230101T000000
END:STANDARD
END:VTIMEZONE
BEGIN:VEVENT
DTSTART;TZID=UTC:20240718T093000
DTEND;TZID=UTC:20240718T103000
DTSTAMP:20260423T054954
CREATED:20240628T152005Z
LAST-MODIFIED:20240628T152005Z
UID:13816-1721295000-1721298600@wayneseniorcenter.org
SUMMARY:Zumba Gold (In Center)
DESCRIPTION:Keep your body moving\, enjoy lively music\, and have fun dancing your cares away. $3 members / $6 non-members
URL:https://wayneseniorcenter.org/event/zumba-gold-in-center-39/
END:VEVENT
BEGIN:VEVENT
DTSTART;TZID=UTC:20240718T101500
DTEND;TZID=UTC:20240718T110000
DTSTAMP:20260423T054954
CREATED:20240628T152005Z
LAST-MODIFIED:20240628T152005Z
UID:13817-1721297700-1721300400@wayneseniorcenter.org
SUMMARY:Drumming Circle (In Center)
DESCRIPTION:Join us for a drumming circle!
URL:https://wayneseniorcenter.org/event/drumming-circle-in-center/
END:VEVENT
BEGIN:VEVENT
DTSTART;TZID=UTC:20240718T101500
DTEND;TZID=UTC:20240718T110000
DTSTAMP:20260423T054954
CREATED:20240628T152019Z
LAST-MODIFIED:20240628T152019Z
UID:13818-1721297700-1721300400@wayneseniorcenter.org
SUMMARY:Lunch & Learn with Apos (In Center)
DESCRIPTION:Apos presents a lunch and learn where we can learn more about their special sneakers that can treat knee and back pain – covered by most insurances!
URL:https://wayneseniorcenter.org/event/lunch-learn-with-apos-in-center/
END:VEVENT
BEGIN:VEVENT
DTSTART;TZID=UTC:20240718T110000
DTEND;TZID=UTC:20240718T120000
DTSTAMP:20260423T054954
CREATED:20240628T152004Z
LAST-MODIFIED:20240628T152004Z
UID:13814-1721300400-1721304000@wayneseniorcenter.org
SUMMARY:Sit\, Move\, Stretch (In Center)
DESCRIPTION:Gentle Movement\, stretching\, and relaxation. Free for WSC members\, $3 for non-members. RSVP by calling the center – (610) 688-6246
URL:https://wayneseniorcenter.org/event/sit-move-stretch-in-center-38/
END:VEVENT
BEGIN:VEVENT
DTSTART;TZID=UTC:20240718T123000
DTEND;TZID=UTC:20240718T133000
DTSTAMP:20260423T054954
CREATED:20240628T152004Z
LAST-MODIFIED:20240628T152004Z
UID:13815-1721305800-1721309400@wayneseniorcenter.org
SUMMARY:Tai Chi (In Center)
DESCRIPTION:New Time / Additional Class – Tai Chi is a gentle form of exercise involving a series of graceful movements performed in a slow\, focused manner and accompanied by deep breathing. Excellent for strengthening balance and promoting stress reduction. In-Person fees – $5 for WSC members\, $10 for non-members.
URL:https://wayneseniorcenter.org/event/tai-chi-in-center-15/
END:VEVENT
BEGIN:VEVENT
DTSTART;TZID=UTC:20240718T130000
DTEND;TZID=UTC:20240718T150000
DTSTAMP:20260423T054954
CREATED:20240628T152003Z
LAST-MODIFIED:20240628T152003Z
UID:13813-1721307600-1721314800@wayneseniorcenter.org
SUMMARY:Cards and Games: Open Play (In Center)
DESCRIPTION:Join us for an afternoon playing games of your choice- Poker\, gin rummy\, pinochle\, mahjong etc. Meet a new friend and start a game of your own. Mahjong teachers/leaders feel free to bring your game set!
URL:https://wayneseniorcenter.org/event/cards-and-games-open-play-in-center-39/
END:VEVENT
BEGIN:VEVENT
DTSTART;TZID=UTC:20240719T093000
DTEND;TZID=UTC:20240719T103000
DTSTAMP:20260423T054954
CREATED:20240628T152020Z
LAST-MODIFIED:20240628T152020Z
UID:13820-1721381400-1721385000@wayneseniorcenter.org
SUMMARY:Senior Circuit (In Center)
DESCRIPTION:Senior circuit is a unique strength building class held in our fitness center utilizing the gym equipment. Free for Silver Sneakers or $3 for members\, $6 non-members.
URL:https://wayneseniorcenter.org/event/senior-circuit-in-center-5/
END:VEVENT
BEGIN:VEVENT
DTSTART;TZID=UTC:20240719T103000
DTEND;TZID=UTC:20240719T113000
DTSTAMP:20260423T054954
CREATED:20240628T152019Z
LAST-MODIFIED:20240628T152019Z
UID:13819-1721385000-1721388600@wayneseniorcenter.org
SUMMARY:Chair Yoga (In Person and Virtual)
DESCRIPTION:A well-rounded class that will help with balance\, strengthening\, and relaxation. Have a sturdy chair available. All abilities welcome. In-Person fees – $3 for WSC members\, $6 for non-members.
URL:https://wayneseniorcenter.org/event/chair-yoga-in-person-and-virtual-34/
END:VEVENT
BEGIN:VEVENT
DTSTART;TZID=UTC:20240722T100000
DTEND;TZID=UTC:20240722T110000
DTSTAMP:20260423T054954
CREATED:20240628T152033Z
LAST-MODIFIED:20240628T152033Z
UID:13823-1721642400-1721646000@wayneseniorcenter.org
SUMMARY:Silver Sneakers Classic (In Center)
DESCRIPTION:Focus on strengthening muscles and increasing range of movement using light weights\, stretch bands\, and exercise balls. Free for Silver Sneakers or $3 for members\, $6 non-members.
URL:https://wayneseniorcenter.org/event/silver-sneakers-classic-in-center-11/
END:VEVENT
BEGIN:VEVENT
DTSTART;TZID=UTC:20240722T100000
DTEND;TZID=UTC:20240722T120000
DTSTAMP:20260423T054954
CREATED:20240628T152020Z
LAST-MODIFIED:20240628T152020Z
UID:13822-1721642400-1721649600@wayneseniorcenter.org
SUMMARY:Refresher Bridge (In Center)
DESCRIPTION:Brush up on your bridge skills with Lawrie Stetson and Dave Heron. Must have previous bridge experience.
URL:https://wayneseniorcenter.org/event/refresher-bridge-in-center-38/
END:VEVENT
BEGIN:VEVENT
DTSTART;TZID=UTC:20240722T100000
DTEND;TZID=UTC:20240722T120000
DTSTAMP:20260423T054954
CREATED:20240628T152034Z
LAST-MODIFIED:20240628T152034Z
UID:13825-1721642400-1721649600@wayneseniorcenter.org
SUMMARY:WSC Quilters (In Center)
DESCRIPTION:WSC quiliting club. All skill levels Welcome. Come by or RSVP by calling the center – (610) 688-6246
URL:https://wayneseniorcenter.org/event/wsc-quilters-in-center-38/
END:VEVENT
BEGIN:VEVENT
DTSTART;TZID=UTC:20240722T110000
DTEND;TZID=UTC:20240722T120000
DTSTAMP:20260423T054954
CREATED:20240628T152034Z
LAST-MODIFIED:20240628T152034Z
UID:13824-1721646000-1721649600@wayneseniorcenter.org
SUMMARY:Soul Line Dance (In Center)
DESCRIPTION:Kenny James will get you moving and grooving in a fun\, easy to learn dance class. No experience necessary – all can join. $3 members / $6 non-members.
URL:https://wayneseniorcenter.org/event/soul-line-dance-in-center-16/
END:VEVENT
BEGIN:VEVENT
DTSTART;TZID=UTC:20240722T120000
DTEND;TZID=UTC:20240722T130000
DTSTAMP:20260423T054954
CREATED:20240628T152020Z
LAST-MODIFIED:20240628T152725Z
UID:13821-1721649600-1721653200@wayneseniorcenter.org
SUMMARY:Pizza and a Movie: The Miracle Club (In Center)
DESCRIPTION:Join us for a viewing of the film\, “The Miracle Club” starring Maggie Smith\, Laura Linney\, and Kathy Bates. There’s just one dream for the women of Ballygar to taste freedom: to win a pilgrimage to the sacred French town of Lourdes. With a little benevolent interference from their local priest\, a group of close friends gets their ticket of a lifetime.
URL:https://wayneseniorcenter.org/event/pizza-and-a-movie-the-miracle-club-in-center/
END:VEVENT
BEGIN:VEVENT
DTSTART;TZID=UTC:20240723T090000
DTEND;TZID=UTC:20240723T110000
DTSTAMP:20260423T054954
CREATED:20240628T152049Z
LAST-MODIFIED:20240628T152049Z
UID:13828-1721725200-1721732400@wayneseniorcenter.org
SUMMARY:Tech Tuesday (In Center)
DESCRIPTION:Tuesdays from 11am – 1pm stop in to chat Technology. Stop by between programs\, after grabbing some lunch\, or whenever is convenient for you. Bring specific questions about your device or come in to explore Wayne Senior Center iPads in a no-pressure environment. Or\, come by to share recent accomplishments or knowledge you’d like to share with others\, or just stop in to say hi and learn something new. Stop by during this time or email Francis at francis@wayneseniorcenter.org to make an appointment.
URL:https://wayneseniorcenter.org/event/tech-tuesday-in-center-39/
END:VEVENT
BEGIN:VEVENT
DTSTART;TZID=UTC:20240723T093000
DTEND;TZID=UTC:20240723T103000
DTSTAMP:20260423T054954
CREATED:20240628T152049Z
LAST-MODIFIED:20240628T152049Z
UID:13829-1721727000-1721730600@wayneseniorcenter.org
SUMMARY:Walking Club (Off-Site)
DESCRIPTION:Join Margo\, Destinie\, and WSC friends for a walk on the Radnor trail – weather permitting. Walkers meet at the trail parking lot (520 Conestoga Road). All abilities welcome. Wear comfortable walking shoes.
URL:https://wayneseniorcenter.org/event/walking-club-off-site-12/
END:VEVENT
BEGIN:VEVENT
DTSTART;TZID=UTC:20240723T100000
DTEND;TZID=UTC:20240723T110000
DTSTAMP:20260423T054954
CREATED:20240628T152049Z
LAST-MODIFIED:20240628T152814Z
UID:13830-1721728800-1721732400@wayneseniorcenter.org
SUMMARY:Learn to Use Libby (In Center)
DESCRIPTION:Setup and learn how to use Libby\, the audiobook and e-book app available through all local library systems. Bring your smart phone or tablet and your library card to sign up.
URL:https://wayneseniorcenter.org/event/learn-to-use-libby-in-center/
END:VEVENT
BEGIN:VEVENT
DTSTART;TZID=UTC:20240723T110000
DTEND;TZID=UTC:20240723T120000
DTSTAMP:20260423T054954
CREATED:20240628T152035Z
LAST-MODIFIED:20240628T152035Z
UID:13827-1721732400-1721736000@wayneseniorcenter.org
SUMMARY:Sit\, Move\, Stretch (In Center and Virtual)
DESCRIPTION:This class offers seated or standing: cardio movement\, strengthening\, deep breathing\, and stretching. In-Person fees – free for WSC members\, $3 for non-members.
URL:https://wayneseniorcenter.org/event/sit-move-stretch-in-center-and-virtual-38/
END:VEVENT
BEGIN:VEVENT
DTSTART;TZID=UTC:20240723T123000
DTEND;TZID=UTC:20240723T130000
DTSTAMP:20260423T054954
CREATED:20240628T152035Z
LAST-MODIFIED:20240628T152035Z
UID:13826-1721737800-1721739600@wayneseniorcenter.org
SUMMARY:Mindfulness (In Center)
DESCRIPTION:Practicing mindfulness provides countless benefits to our overall well-being. Join instructor Liz for an hour of virtual mindfulness.
URL:https://wayneseniorcenter.org/event/mindfulness-in-center-28/
END:VEVENT
BEGIN:VEVENT
DTSTART;TZID=UTC:20240724T093000
DTEND;TZID=UTC:20240724T103000
DTSTAMP:20260423T054954
CREATED:20240628T152050Z
LAST-MODIFIED:20240628T152050Z
UID:13831-1721813400-1721817000@wayneseniorcenter.org
SUMMARY:Yoga at The Willows Park Preserve (Off Site)
DESCRIPTION:Join Liz Seaden\, RYT for an all abilities yoga class under the tent at The Willows! Drop in is $15 per class.
URL:https://wayneseniorcenter.org/event/yoga-at-the-willows-park-preserve-off-site-3/
END:VEVENT
BEGIN:VEVENT
DTSTART;TZID=UTC:20240724T113000
DTEND;TZID=UTC:20240724T130000
DTSTAMP:20260423T054954
CREATED:20240628T152050Z
LAST-MODIFIED:20240628T152858Z
UID:13832-1721820600-1721826000@wayneseniorcenter.org
SUMMARY:Willows Lunch and Concert! (Off Site)
DESCRIPTION:Join us for a day of music featuring American Idol contestant Sadie and Zach at The Willows Park Preserve Mansion. Lunch is at 11:30pm followed by a concert at 12 noon. $10 for members\, $15 for non-members. You must RSVP to 610-688-6246 by July 17.
URL:https://wayneseniorcenter.org/event/willows-lunch-and-concert-off-site/
END:VEVENT
BEGIN:VEVENT
DTSTART;TZID=UTC:20240725T090000
DTEND;TZID=UTC:20240725T110000
DTSTAMP:20260423T054954
CREATED:20240628T152104Z
LAST-MODIFIED:20240628T152104Z
UID:13833-1721898000-1721905200@wayneseniorcenter.org
SUMMARY:Blood Pressure Screenings (In Center)
DESCRIPTION:Are you trying to keep track of your blood pressure readings? Have questions about a medication or just need a listening ear? Stop by and speak 1:1 with a nurse.
URL:https://wayneseniorcenter.org/event/blood-pressure-screenings-in-center-21/
END:VEVENT
BEGIN:VEVENT
DTSTART;TZID=UTC:20240725T093000
DTEND;TZID=UTC:20240725T103000
DTSTAMP:20260423T054954
CREATED:20240628T152119Z
LAST-MODIFIED:20240628T152119Z
UID:13838-1721899800-1721903400@wayneseniorcenter.org
SUMMARY:Zumba Gold (In Center)
DESCRIPTION:Keep your body moving\, enjoy lively music\, and have fun dancing your cares away. $3 members / $6 non-members
URL:https://wayneseniorcenter.org/event/zumba-gold-in-center-40/
END:VEVENT
BEGIN:VEVENT
DTSTART;TZID=UTC:20240725T110000
DTEND;TZID=UTC:20240725T120000
DTSTAMP:20260423T054954
CREATED:20240628T152104Z
LAST-MODIFIED:20240628T152104Z
UID:13835-1721905200-1721908800@wayneseniorcenter.org
SUMMARY:Sit\, Move\, Stretch (In Center)
DESCRIPTION:Gentle Movement\, stretching\, and relaxation. Free for WSC members\, $3 for non-members. RSVP by calling the center – (610) 688-6246
URL:https://wayneseniorcenter.org/event/sit-move-stretch-in-center-39/
END:VEVENT
BEGIN:VEVENT
DTSTART;TZID=UTC:20240725T120000
DTEND;TZID=UTC:20240725T130000
DTSTAMP:20260423T054954
CREATED:20240628T152105Z
LAST-MODIFIED:20240628T152105Z
UID:13837-1721908800-1721912400@wayneseniorcenter.org
SUMMARY:The Men's Group (In Center)
DESCRIPTION:Catch up with friends over lunch and discuss topics related to men’s lives – hobbies\, family stories\, retirement\, career reflections\, mental & physical health\, or whatever else is on your mind. Call to reserve a Center lunch\, bring your own\, or just stop by to chat.
URL:https://wayneseniorcenter.org/event/the-mens-group-in-center-14/
END:VEVENT
BEGIN:VEVENT
DTSTART;TZID=UTC:20240725T123000
DTEND;TZID=UTC:20240725T133000
DTSTAMP:20260423T054954
CREATED:20240628T152105Z
LAST-MODIFIED:20240628T152105Z
UID:13836-1721910600-1721914200@wayneseniorcenter.org
SUMMARY:Tai Chi (In Center)
DESCRIPTION:New Time / Additional Class – Tai Chi is a gentle form of exercise involving a series of graceful movements performed in a slow\, focused manner and accompanied by deep breathing. Excellent for strengthening balance and promoting stress reduction. In-Person fees – $5 for WSC members\, $10 for non-members.
URL:https://wayneseniorcenter.org/event/tai-chi-in-center-16/
END:VEVENT
BEGIN:VEVENT
DTSTART;TZID=UTC:20240725T130000
DTEND;TZID=UTC:20240725T150000
DTSTAMP:20260423T054954
CREATED:20240628T152104Z
LAST-MODIFIED:20240628T152104Z
UID:13834-1721912400-1721919600@wayneseniorcenter.org
SUMMARY:Cards and Games: Open Play (In Center)
DESCRIPTION:Join us for an afternoon playing games of your choice- Poker\, gin rummy\, pinochle\, mahjong etc. Meet a new friend and start a game of your own. Mahjong teachers/leaders feel free to bring your game set!
URL:https://wayneseniorcenter.org/event/cards-and-games-open-play-in-center-40/
END:VEVENT
BEGIN:VEVENT
DTSTART;TZID=UTC:20240726T093000
DTEND;TZID=UTC:20240726T103000
DTSTAMP:20260423T054954
CREATED:20240628T152119Z
LAST-MODIFIED:20240628T152119Z
UID:13840-1721986200-1721989800@wayneseniorcenter.org
SUMMARY:Senior Circuit (In Center)
DESCRIPTION:Senior circuit is a unique strength building class held in our fitness center utilizing the gym equipment. Free for Silver Sneakers or $3 for members\, $6 non-members.
URL:https://wayneseniorcenter.org/event/senior-circuit-in-center-6/
END:VEVENT
BEGIN:VEVENT
DTSTART;TZID=UTC:20240726T103000
DTEND;TZID=UTC:20240726T113000
DTSTAMP:20260423T054954
CREATED:20240628T152119Z
LAST-MODIFIED:20240628T152119Z
UID:13839-1721989800-1721993400@wayneseniorcenter.org
SUMMARY:Chair Yoga (In Person and Virtual)
DESCRIPTION:A well-rounded class that will help with balance\, strengthening\, and relaxation. Have a sturdy chair available. All abilities welcome. In-Person fees – $3 for WSC members\, $6 for non-members.
URL:https://wayneseniorcenter.org/event/chair-yoga-in-person-and-virtual-35/
END:VEVENT
BEGIN:VEVENT
DTSTART;TZID=UTC:20240729T100000
DTEND;TZID=UTC:20240729T110000
DTSTAMP:20260423T054954
CREATED:20240628T152120Z
LAST-MODIFIED:20240628T152120Z
UID:13842-1722247200-1722250800@wayneseniorcenter.org
SUMMARY:Silver Sneakers Classic (In Center)
DESCRIPTION:Focus on strengthening muscles and increasing range of movement using light weights\, stretch bands\, and exercise balls. Free for Silver Sneakers or $3 for members\, $6 non-members.
URL:https://wayneseniorcenter.org/event/silver-sneakers-classic-in-center-12/
END:VEVENT
BEGIN:VEVENT
DTSTART;TZID=UTC:20240729T100000
DTEND;TZID=UTC:20240729T120000
DTSTAMP:20260423T054954
CREATED:20240628T152120Z
LAST-MODIFIED:20240628T152120Z
UID:13841-1722247200-1722254400@wayneseniorcenter.org
SUMMARY:Refresher Bridge (In Center)
DESCRIPTION:Brush up on your bridge skills with Lawrie Stetson and Dave Heron. Must have previous bridge experience.
URL:https://wayneseniorcenter.org/event/refresher-bridge-in-center-39/
END:VEVENT
END:VCALENDAR