BEGIN:VCALENDAR
VERSION:2.0
PRODID:-//Wayne Senior Center - ECPv6.15.20//NONSGML v1.0//EN
CALSCALE:GREGORIAN
METHOD:PUBLISH
X-WR-CALNAME:Wayne Senior Center
X-ORIGINAL-URL:https://wayneseniorcenter.org
X-WR-CALDESC:Events for Wayne Senior Center
REFRESH-INTERVAL;VALUE=DURATION:PT1H
X-Robots-Tag:noindex
X-PUBLISHED-TTL:PT1H
BEGIN:VTIMEZONE
TZID:UTC
BEGIN:STANDARD
TZOFFSETFROM:+0000
TZOFFSETTO:+0000
TZNAME:UTC
DTSTART:20230101T000000
END:STANDARD
END:VTIMEZONE
BEGIN:VEVENT
DTSTART;TZID=UTC:20241009T113000
DTEND;TZID=UTC:20241009T123000
DTSTAMP:20260423T101256
CREATED:20240927T202958Z
LAST-MODIFIED:20240927T202958Z
UID:14233-1728473400-1728477000@wayneseniorcenter.org
SUMMARY:Fitness Trainer Help
DESCRIPTION:Do you need assistance with the fitness center equipment? Stop by to see fitness trainer Kenny to get help with the equipment and ask questions about your fitness routine. You must be a fitness center member.
URL:https://wayneseniorcenter.org/event/fitness-trainer-help/
END:VEVENT
BEGIN:VEVENT
DTSTART;TZID=UTC:20241009T110000
DTEND;TZID=UTC:20241009T120000
DTSTAMP:20260423T101256
CREATED:20240927T202957Z
LAST-MODIFIED:20240927T202957Z
UID:14231-1728471600-1728475200@wayneseniorcenter.org
SUMMARY:Tai Chi
DESCRIPTION:Tai Chi is a gentle form of exercise involving a series of graceful movements performed in a slow\, focused manner and accompanied by deep breathing. Excellent for strengthening balance and promoting stress reduction. In-Person fees – $5 for WSC members\, $10 for non-members.
URL:https://wayneseniorcenter.org/event/tai-chi-3/
END:VEVENT
BEGIN:VEVENT
DTSTART;TZID=UTC:20241009T103000
DTEND;TZID=UTC:20241009T110000
DTSTAMP:20260423T101256
CREATED:20240927T202944Z
LAST-MODIFIED:20240927T202944Z
UID:14229-1728469800-1728471600@wayneseniorcenter.org
SUMMARY:Large Jenga Game
DESCRIPTION:Play a big version of Jenga with friends here at the Center!
URL:https://wayneseniorcenter.org/event/large-jenga-game/
END:VEVENT
BEGIN:VEVENT
DTSTART;TZID=UTC:20241009T093000
DTEND;TZID=UTC:20241009T103000
DTSTAMP:20260423T101256
CREATED:20240927T202944Z
LAST-MODIFIED:20240927T202944Z
UID:14230-1728466200-1728469800@wayneseniorcenter.org
SUMMARY:Slow Flow Yoga
DESCRIPTION:Join Liz Seaden RYT for a challenging flow yoga class at WSC. This full-body workout incorporates both mat-based and standing poses.
URL:https://wayneseniorcenter.org/event/slow-flow-yoga-2/
END:VEVENT
BEGIN:VEVENT
DTSTART;TZID=UTC:20241008T123000
DTEND;TZID=UTC:20241008T133000
DTSTAMP:20260423T101256
CREATED:20240927T202823Z
LAST-MODIFIED:20240927T202823Z
UID:14223-1728390600-1728394200@wayneseniorcenter.org
SUMMARY:Mindfulness
DESCRIPTION:Practicing mindfulness provides countless benefits to our overall well-being. Join instructor Liz for an hour of virtual mindfulness.
URL:https://wayneseniorcenter.org/event/mindfulness-2/
END:VEVENT
BEGIN:VEVENT
DTSTART;TZID=UTC:20241008T120000
DTEND;TZID=UTC:20241008T130000
DTSTAMP:20260423T101256
CREATED:20240927T202823Z
LAST-MODIFIED:20240927T202823Z
UID:14222-1728388800-1728392400@wayneseniorcenter.org
SUMMARY:Let's Do Lunch!
DESCRIPTION:Let’s do lunch together! Please see the menu in the newsletter for details on each meal. $5 members / $8 non-members. RSVP required\, in-center dining only.
URL:https://wayneseniorcenter.org/event/lets-do-lunch-2/
END:VEVENT
BEGIN:VEVENT
DTSTART;TZID=UTC:20241008T110000
DTEND;TZID=UTC:20241008T120000
DTSTAMP:20260423T101256
CREATED:20240927T202824Z
LAST-MODIFIED:20240927T202824Z
UID:14224-1728385200-1728388800@wayneseniorcenter.org
SUMMARY:Sit\, Move\, Stretch
DESCRIPTION:This class offers seated or standing: cardio movement\, strengthening\, deep breathing\, and stretching. In-Person fees – free for WSC members\, $3 for non-members.
URL:https://wayneseniorcenter.org/event/sit-move-stretch-3/
END:VEVENT
BEGIN:VEVENT
DTSTART;TZID=UTC:20241008T100000
DTEND;TZID=UTC:20241008T110000
DTSTAMP:20260423T101256
CREATED:20240927T202943Z
LAST-MODIFIED:20240927T204309Z
UID:14227-1728381600-1728385200@wayneseniorcenter.org
SUMMARY:Cool Apps: Radio Garden
DESCRIPTION:Try out Radio Garden\, a free app that lets you tune into radio stations all over the world. Available for iOS and Android. Bring your device and any relevant passwords to follow along – AppleID\, Google account info\, etc.
URL:https://wayneseniorcenter.org/event/cool-apps-radio-garden/
END:VEVENT
BEGIN:VEVENT
DTSTART;TZID=UTC:20241008T090000
DTEND;TZID=UTC:20241008T110000
DTSTAMP:20260423T101256
CREATED:20240927T202824Z
LAST-MODIFIED:20240927T202824Z
UID:14225-1728378000-1728385200@wayneseniorcenter.org
SUMMARY:Tech Tuesday
DESCRIPTION:Stop by during this time with your tech questions or email Francis at francis@wayneseniorcenter.org to make an appointment. Some Tuesdays will feature a workshop on a certain topic starting at 10am.
URL:https://wayneseniorcenter.org/event/tech-tuesday-2/
END:VEVENT
BEGIN:VEVENT
DTSTART;TZID=UTC:20241008T090000
DTEND;TZID=UTC:20241008T100000
DTSTAMP:20260423T101256
CREATED:20240927T202943Z
LAST-MODIFIED:20240927T202943Z
UID:14226-1728378000-1728381600@wayneseniorcenter.org
SUMMARY:Walking Club (Off-Site)
DESCRIPTION:Join WSC friends for a walk on the Radnor trail – weather permitting. Walkers meet at the trail parking lot (520 Conestoga Road). All abilities welcome. Wear comfortable walking shoes.
URL:https://wayneseniorcenter.org/event/walking-club-off-site-23/
END:VEVENT
BEGIN:VEVENT
DTSTART;TZID=UTC:20241007T110000
DTEND;TZID=UTC:20241007T120000
DTSTAMP:20260423T101256
CREATED:20240927T202624Z
LAST-MODIFIED:20240927T202624Z
UID:14219-1728298800-1728302400@wayneseniorcenter.org
SUMMARY:Soul Line Dance
DESCRIPTION:Kenny James will get you moving and grooving in a fun\, easy to learn dance class. No experience necessary – all can join. $3 members / $6 non-members.
URL:https://wayneseniorcenter.org/event/soul-line-dance/
END:VEVENT
BEGIN:VEVENT
DTSTART;TZID=UTC:20241007T100000
DTEND;TZID=UTC:20241007T120000
DTSTAMP:20260423T101256
CREATED:20240927T202624Z
LAST-MODIFIED:20240927T202624Z
UID:14220-1728295200-1728302400@wayneseniorcenter.org
SUMMARY:WSC Quilters
DESCRIPTION:WSC quiliting club. All skill levels Welcome. Come by or RSVP by calling the center – (610) 688-6246
URL:https://wayneseniorcenter.org/event/wsc-quilters/
END:VEVENT
BEGIN:VEVENT
DTSTART;TZID=UTC:20241007T100000
DTEND;TZID=UTC:20241007T120000
DTSTAMP:20260423T101256
CREATED:20240927T202623Z
LAST-MODIFIED:20240927T202623Z
UID:14218-1728295200-1728302400@wayneseniorcenter.org
SUMMARY:Refresher Bridge
DESCRIPTION:Brush up on your bridge skills with Lawrie Stetson and Dave Heron. Must have previous bridge experience.
URL:https://wayneseniorcenter.org/event/refresher-bridge/
END:VEVENT
BEGIN:VEVENT
DTSTART;TZID=UTC:20241007T100000
DTEND;TZID=UTC:20241007T110000
DTSTAMP:20260423T101256
CREATED:20240927T202823Z
LAST-MODIFIED:20240927T202823Z
UID:14221-1728295200-1728298800@wayneseniorcenter.org
SUMMARY:Silver Sneakers Classic
DESCRIPTION:Focus on strengthening muscles and increasing range of motion using light weights\, stretch bands\, and exercise balls.
URL:https://wayneseniorcenter.org/event/silver-sneakers-classic/
END:VEVENT
BEGIN:VEVENT
DTSTART;TZID=UTC:20241007T093000
DTEND;TZID=UTC:20241007T103000
DTSTAMP:20260423T101256
CREATED:20240927T202623Z
LAST-MODIFIED:20240927T202623Z
UID:14217-1728293400-1728297000@wayneseniorcenter.org
SUMMARY:Brain Fit
DESCRIPTION:Join Andrea as we exercise our brain with fun word puzzles and brain teasers!
URL:https://wayneseniorcenter.org/event/brain-fit/
END:VEVENT
BEGIN:VEVENT
DTSTART;TZID=UTC:20241004T103000
DTEND;TZID=UTC:20241004T113000
DTSTAMP:20260423T101256
CREATED:20240927T202424Z
LAST-MODIFIED:20240927T202424Z
UID:14215-1728037800-1728041400@wayneseniorcenter.org
SUMMARY:Chair Yoga
DESCRIPTION:A well-rounded class that will help with balance\, strengthening\, and relaxation. Have a sturdy chair available. All abilities welcome. In-Person fees – $3 for WSC members\, $6 for non-members.
URL:https://wayneseniorcenter.org/event/chair-yoga/
END:VEVENT
BEGIN:VEVENT
DTSTART;TZID=UTC:20241004T093000
DTEND;TZID=UTC:20241004T103000
DTSTAMP:20260423T101256
CREATED:20240927T202623Z
LAST-MODIFIED:20240927T202623Z
UID:14216-1728034200-1728037800@wayneseniorcenter.org
SUMMARY:Senior Circuit
DESCRIPTION:Join us for a dynamic strength-building\, full-body workout utilizing bands\, weights\, and balls as we cycle through various stations.
URL:https://wayneseniorcenter.org/event/senior-circuit/
END:VEVENT
BEGIN:VEVENT
DTSTART;TZID=UTC:20241003T130000
DTEND;TZID=UTC:20241003T150000
DTSTAMP:20260423T101256
CREATED:20240927T202422Z
LAST-MODIFIED:20240927T202422Z
UID:14211-1727960400-1727967600@wayneseniorcenter.org
SUMMARY:Cards and Games: Open Play
DESCRIPTION:Join us for an afternoon playing games of your choice- Poker\, gin rummy\, pinochle\, mahjong etc. Meet a new friend and start a game of your own. Mahjong teachers/leaders feel free to bring your game set!
URL:https://wayneseniorcenter.org/event/cards-and-games-open-play/
END:VEVENT
BEGIN:VEVENT
DTSTART;TZID=UTC:20241003T123000
DTEND;TZID=UTC:20241003T133000
DTSTAMP:20260423T101256
CREATED:20240927T202424Z
LAST-MODIFIED:20240927T202424Z
UID:14214-1727958600-1727962200@wayneseniorcenter.org
SUMMARY:Tai Chi
DESCRIPTION:Tai Chi is a gentle form of exercise involving a series of graceful movements performed in a slow\, focused manner and accompanied by deep breathing. Excellent for strengthening balance and promoting stress reduction. In-Person fees – $5 for WSC members\, $10 for non-members.
URL:https://wayneseniorcenter.org/event/tai-chi-2/
END:VEVENT
BEGIN:VEVENT
DTSTART;TZID=UTC:20241003T110000
DTEND;TZID=UTC:20241003T130000
DTSTAMP:20260423T101256
CREATED:20240927T202423Z
LAST-MODIFIED:20240927T202423Z
UID:14212-1727953200-1727960400@wayneseniorcenter.org
SUMMARY:Septa Key Card Renewals
DESCRIPTION:Join us on the first Thursday of each month for Septa Key Cardapplications and renewals and other constituent services with a representative from Sen. AmandaCappelletti’s office. The representative is here 11:00AM to 1:00PM\, no need to RSVP.
URL:https://wayneseniorcenter.org/event/septa-key-card-renewals/
END:VEVENT
BEGIN:VEVENT
DTSTART;TZID=UTC:20241003T110000
DTEND;TZID=UTC:20241003T120000
DTSTAMP:20260423T101256
CREATED:20240927T202423Z
LAST-MODIFIED:20240927T202423Z
UID:14213-1727953200-1727956800@wayneseniorcenter.org
SUMMARY:Sit\, Move\, Stretch
DESCRIPTION:This class offers seated or standing: cardio movement\, strengthening\, deep breathing\, and stretching. In-Person fees – free for WSC members\, $3 for non-members.
URL:https://wayneseniorcenter.org/event/sit-move-stretch-2/
END:VEVENT
BEGIN:VEVENT
DTSTART;TZID=UTC:20241002T123000
DTEND;TZID=UTC:20241002T133000
DTSTAMP:20260423T101256
CREATED:20240927T202407Z
LAST-MODIFIED:20240927T202407Z
UID:14207-1727872200-1727875800@wayneseniorcenter.org
SUMMARY:Fooling with Ukes
DESCRIPTION:Dust off your ukes and join Barbara Van Clief (Barley) for a few practice sessions. Learn to play various popular songs with a group of individuals who share your passion for music!
URL:https://wayneseniorcenter.org/event/fooling-with-ukes/
END:VEVENT
BEGIN:VEVENT
DTSTART;TZID=UTC:20241002T110000
DTEND;TZID=UTC:20241002T120000
DTSTAMP:20260423T101256
CREATED:20240927T202407Z
LAST-MODIFIED:20240927T202407Z
UID:14209-1727866800-1727870400@wayneseniorcenter.org
SUMMARY:Tai Chi
DESCRIPTION:Tai Chi is a gentle form of exercise involving a series of graceful movements performed in a slow\, focused manner and accompanied by deep breathing. Excellent for strengthening balance and promoting stress reduction. In-Person fees – $5 for WSC members\, $10 for non-members.
URL:https://wayneseniorcenter.org/event/tai-chi/
END:VEVENT
BEGIN:VEVENT
DTSTART;TZID=UTC:20241002T103000
DTEND;TZID=UTC:20241002T110000
DTSTAMP:20260423T101256
CREATED:20240927T202408Z
LAST-MODIFIED:20240927T202408Z
UID:14210-1727865000-1727866800@wayneseniorcenter.org
SUMMARY:Scattergories
DESCRIPTION:Come challenge yourself to come up with unique answers to various categories based on a randomly selected letter.
URL:https://wayneseniorcenter.org/event/scattergories/
END:VEVENT
BEGIN:VEVENT
DTSTART;TZID=UTC:20241002T093000
DTEND;TZID=UTC:20241002T103000
DTSTAMP:20260423T101256
CREATED:20240927T202407Z
LAST-MODIFIED:20240927T202407Z
UID:14208-1727861400-1727865000@wayneseniorcenter.org
SUMMARY:Slow Flow Yoga
DESCRIPTION:Join Liz Seaden RYT for a challenging flow yoga class at WSC. This full-body workout incorporates both mat-based and standing poses.
URL:https://wayneseniorcenter.org/event/slow-flow-yoga/
END:VEVENT
BEGIN:VEVENT
DTSTART;TZID=UTC:20241001T123000
DTEND;TZID=UTC:20241001T133000
DTSTAMP:20260423T101256
CREATED:20240927T202403Z
LAST-MODIFIED:20240927T202403Z
UID:14202-1727785800-1727789400@wayneseniorcenter.org
SUMMARY:Mindfulness
DESCRIPTION:Practicing mindfulness provides countless benefits to our overall well-being. Join instructor Liz for an hour of virtual mindfulness.
URL:https://wayneseniorcenter.org/event/mindfulness/
END:VEVENT
BEGIN:VEVENT
DTSTART;TZID=UTC:20241001T120000
DTEND;TZID=UTC:20241001T130000
DTSTAMP:20260423T101256
CREATED:20240927T202353Z
LAST-MODIFIED:20240927T202353Z
UID:14201-1727784000-1727787600@wayneseniorcenter.org
SUMMARY:Let's Do Lunch!
DESCRIPTION:Let’s do lunch together! Please see the menu in the newsletter for details on each meal. $5 members / $8 non-members. RSVP required\, in-center dining only.
URL:https://wayneseniorcenter.org/event/lets-do-lunch/
END:VEVENT
BEGIN:VEVENT
DTSTART;TZID=UTC:20241001T110000
DTEND;TZID=UTC:20241001T120000
DTSTAMP:20260423T101256
CREATED:20240927T202403Z
LAST-MODIFIED:20240927T202403Z
UID:14203-1727780400-1727784000@wayneseniorcenter.org
SUMMARY:Sit\, Move\, Stretch
DESCRIPTION:This class offers seated or standing: cardio movement\, strengthening\, deep breathing\, and stretching. In-Person fees – free for WSC members\, $3 for non-members.
URL:https://wayneseniorcenter.org/event/sit-move-stretch/
END:VEVENT
BEGIN:VEVENT
DTSTART;TZID=UTC:20241001T100000
DTEND;TZID=UTC:20241001T110000
DTSTAMP:20260423T101256
CREATED:20240927T202406Z
LAST-MODIFIED:20240927T202406Z
UID:14206-1727776800-1727780400@wayneseniorcenter.org
SUMMARY:Marbling Pumpkins Craft
DESCRIPTION:Join Andrea to decorate pumpkins using marbling techniques which create beautiful swirling patterns.
URL:https://wayneseniorcenter.org/event/marbling-pumpkins-craft/
END:VEVENT
BEGIN:VEVENT
DTSTART;TZID=UTC:20241001T090000
DTEND;TZID=UTC:20241001T100000
DTSTAMP:20260423T101256
CREATED:20240927T202404Z
LAST-MODIFIED:20240927T202404Z
UID:14204-1727773200-1727776800@wayneseniorcenter.org
SUMMARY:Tech Tuesday
DESCRIPTION:Stop by during this time with your tech questions or email Francis at francis@wayneseniorcenter.org to make an appointment. Some Tuesdays will feature a workshop on a certain topic starting at 10am.
URL:https://wayneseniorcenter.org/event/tech-tuesday/
END:VEVENT
END:VCALENDAR