BEGIN:VCALENDAR
VERSION:2.0
PRODID:-//Wayne Senior Center - ECPv6.15.20//NONSGML v1.0//EN
CALSCALE:GREGORIAN
METHOD:PUBLISH
X-WR-CALNAME:Wayne Senior Center
X-ORIGINAL-URL:https://wayneseniorcenter.org
X-WR-CALDESC:Events for Wayne Senior Center
REFRESH-INTERVAL;VALUE=DURATION:PT1H
X-Robots-Tag:noindex
X-PUBLISHED-TTL:PT1H
BEGIN:VTIMEZONE
TZID:UTC
BEGIN:STANDARD
TZOFFSETFROM:+0000
TZOFFSETTO:+0000
TZNAME:UTC
DTSTART:20240101T000000
END:STANDARD
END:VTIMEZONE
BEGIN:VEVENT
DTSTART;TZID=UTC:20250919T103000
DTEND;TZID=UTC:20250919T113000
DTSTAMP:20260423T011932
CREATED:20250822T143316Z
LAST-MODIFIED:20250822T143316Z
UID:15840-1758277800-1758281400@wayneseniorcenter.org
SUMMARY:Chair Yoga
DESCRIPTION:A well-rounded class that will help with balance\, strengthening\, and relaxation. Have a sturdy chair available. All abilities welcome. In-Person fees – $3 for WSC members\, $6 for non-members.
URL:https://wayneseniorcenter.org/event/chair-yoga-47/
END:VEVENT
BEGIN:VEVENT
DTSTART;TZID=UTC:20250922T100000
DTEND;TZID=UTC:20250922T110000
DTSTAMP:20260423T011932
CREATED:20250822T143329Z
LAST-MODIFIED:20250822T143329Z
UID:15843-1758535200-1758538800@wayneseniorcenter.org
SUMMARY:Silver Sneakers Classic
DESCRIPTION:Focus on strengthening muscles and increasing range of motion using light weights\, stretch bands\, and exercise balls.
URL:https://wayneseniorcenter.org/event/silver-sneakers-classic-91/
END:VEVENT
BEGIN:VEVENT
DTSTART;TZID=UTC:20250922T100000
DTEND;TZID=UTC:20250922T120000
DTSTAMP:20260423T011932
CREATED:20250822T143328Z
LAST-MODIFIED:20250822T143328Z
UID:15842-1758535200-1758542400@wayneseniorcenter.org
SUMMARY:Refresher Bridge
DESCRIPTION:Brush up on your bridge skills with friends. Must have previous bridge experience.
URL:https://wayneseniorcenter.org/event/refresher-bridge-46/
END:VEVENT
BEGIN:VEVENT
DTSTART;TZID=UTC:20250922T100000
DTEND;TZID=UTC:20250922T120000
DTSTAMP:20260423T011932
CREATED:20250822T143331Z
LAST-MODIFIED:20250822T143331Z
UID:15845-1758535200-1758542400@wayneseniorcenter.org
SUMMARY:WSC Quilters
DESCRIPTION:WSC quiliting club. All skill levels Welcome. Come by or RSVP by calling the center – (610) 688-6246
URL:https://wayneseniorcenter.org/event/wsc-quilters-46/
END:VEVENT
BEGIN:VEVENT
DTSTART;TZID=UTC:20250922T110000
DTEND;TZID=UTC:20250922T120000
DTSTAMP:20260423T011932
CREATED:20250822T143330Z
LAST-MODIFIED:20250822T143330Z
UID:15844-1758538800-1758542400@wayneseniorcenter.org
SUMMARY:Soul Line Dancing
DESCRIPTION:Kenny James will get you moving and grooving in a fun\, easy to learn dance class. No experience necessary – all can join. $3 members / $6 non-members.
URL:https://wayneseniorcenter.org/event/soul-line-dancing-69/
END:VEVENT
BEGIN:VEVENT
DTSTART;TZID=UTC:20250923T090000
DTEND;TZID=UTC:20250923T110000
DTSTAMP:20260423T011932
CREATED:20250822T143345Z
LAST-MODIFIED:20250822T143345Z
UID:15850-1758618000-1758625200@wayneseniorcenter.org
SUMMARY:Tech Tuesday
DESCRIPTION:Stop by during this time with your tech questions or email Francis at francis@wayneseniorcenter.org to make an appointment. Some Tuesdays will feature a workshop on a certain topic starting at 10am.
URL:https://wayneseniorcenter.org/event/tech-tuesday-33/
END:VEVENT
BEGIN:VEVENT
DTSTART;TZID=UTC:20250923T093000
DTEND;TZID=UTC:20250923T103000
DTSTAMP:20260423T011932
CREATED:20250822T143357Z
LAST-MODIFIED:20250822T143357Z
UID:15851-1758619800-1758623400@wayneseniorcenter.org
SUMMARY:Walking Club (Off-Site)
DESCRIPTION:Join WSC friends for a walk on the Radnor trail – weather permitting. Walkers meet at the trail parking lot (520 Conestoga Road). All abilities welcome. Wear comfortable walking shoes.
URL:https://wayneseniorcenter.org/event/walking-club-off-site-43/
END:VEVENT
BEGIN:VEVENT
DTSTART;TZID=UTC:20250923T093000
DTEND;TZID=UTC:20250923T103000
DTSTAMP:20260423T011932
CREATED:20250822T143359Z
LAST-MODIFIED:20250822T143359Z
UID:15853-1758619800-1758623400@wayneseniorcenter.org
SUMMARY:Breakfast Sponsored by Visiting Angels
DESCRIPTION:Free sponsored breakfast provided by Visiting Angels!
URL:https://wayneseniorcenter.org/event/breakfast-sponsored-by-visiting-angels/
END:VEVENT
BEGIN:VEVENT
DTSTART;TZID=UTC:20250923T100000
DTEND;TZID=UTC:20250923T110000
DTSTAMP:20260423T011932
CREATED:20250822T143358Z
LAST-MODIFIED:20250825T125744Z
UID:15852-1758621600-1758625200@wayneseniorcenter.org
SUMMARY:Smart Phone Tips & Tricks
DESCRIPTION:Get more out of your smart phone with this greatest hits of tips\, tricks\, and frequently asked questions. Bring your phone and any account information / passwords to follow along.
URL:https://wayneseniorcenter.org/event/smart-phone-tips-tricks/
ATTACH;FMTTYPE=image/png:https://wayneseniorcenter.org/wp-content/uploads/2025/08/0923-Smart-Phone-Tips.png
END:VEVENT
BEGIN:VEVENT
DTSTART;TZID=UTC:20250923T100000
DTEND;TZID=UTC:20250923T110000
DTSTAMP:20260423T011932
CREATED:20250822T143359Z
LAST-MODIFIED:20250822T143359Z
UID:15854-1758621600-1758625200@wayneseniorcenter.org
SUMMARY:Falls Prevention Program with Total Performance PT
DESCRIPTION:Total Performance Physical Therapy presents on fall prevention for Falls Prevention Awareness Week!
URL:https://wayneseniorcenter.org/event/falls-prevention-program-with-total-performance-pt/
END:VEVENT
BEGIN:VEVENT
DTSTART;TZID=UTC:20250923T110000
DTEND;TZID=UTC:20250923T120000
DTSTAMP:20260423T011932
CREATED:20250822T143344Z
LAST-MODIFIED:20250822T143344Z
UID:15849-1758625200-1758628800@wayneseniorcenter.org
SUMMARY:Sit\, Move\, Stretch
DESCRIPTION:This class offers seated or standing: cardio movement\, strengthening\, deep breathing\, and stretching. In-Person fees – free for WSC members\, $3 for non-members.
URL:https://wayneseniorcenter.org/event/sit-move-stretch-94/
END:VEVENT
BEGIN:VEVENT
DTSTART;TZID=UTC:20250923T120000
DTEND;TZID=UTC:20250923T130000
DTSTAMP:20260423T011932
CREATED:20250822T143342Z
LAST-MODIFIED:20250822T143342Z
UID:15846-1758628800-1758632400@wayneseniorcenter.org
SUMMARY:September Birthday Lunch
DESCRIPTION:Join us to celebrate members who have a birthday in September!
URL:https://wayneseniorcenter.org/event/september-birthday-lunch/
END:VEVENT
BEGIN:VEVENT
DTSTART;TZID=UTC:20250923T120000
DTEND;TZID=UTC:20250923T130000
DTSTAMP:20260423T011932
CREATED:20250822T143343Z
LAST-MODIFIED:20250822T143343Z
UID:15847-1758628800-1758632400@wayneseniorcenter.org
SUMMARY:Let's Do Lunch!
DESCRIPTION:Let’s do lunch together! Please see the menu in the newsletter for details on each meal. $5 members / $8 non-members. RSVP required\, in-center dining only.
URL:https://wayneseniorcenter.org/event/lets-do-lunch-16/
END:VEVENT
BEGIN:VEVENT
DTSTART;TZID=UTC:20250923T123000
DTEND;TZID=UTC:20250923T133000
DTSTAMP:20260423T011932
CREATED:20250822T143344Z
LAST-MODIFIED:20250822T143344Z
UID:15848-1758630600-1758634200@wayneseniorcenter.org
SUMMARY:Mindfulness
DESCRIPTION:Practicing mindfulness provides countless benefits to our overall well-being. Join instructor Liz for an hour of virtual mindfulness.
URL:https://wayneseniorcenter.org/event/mindfulness-48/
END:VEVENT
BEGIN:VEVENT
DTSTART;TZID=UTC:20250924T100000
DTEND;TZID=UTC:20250924T110000
DTSTAMP:20260423T011932
CREATED:20250822T143400Z
LAST-MODIFIED:20250822T143400Z
UID:15855-1758708000-1758711600@wayneseniorcenter.org
SUMMARY:Coffee Talk with Radnor Police Chaplain
DESCRIPTION:Enjoy coffee\, pastries\, and meaningful discussion with a visiting Radnor Police Chaplain.
URL:https://wayneseniorcenter.org/event/coffee-talk-with-radnor-police-chaplain-12/
END:VEVENT
BEGIN:VEVENT
DTSTART;TZID=UTC:20250924T101500
DTEND;TZID=UTC:20250924T110000
DTSTAMP:20260423T011932
CREATED:20250822T143416Z
LAST-MODIFIED:20250822T143416Z
UID:15860-1758708900-1758711600@wayneseniorcenter.org
SUMMARY:Decade Trivia (1990s / 2000s)
DESCRIPTION:We are turning back the clock with Decade Trivia. Test your knowledge. Come for the nostalgia\, stay for the laughs\, and see which decade is your trivia sweet spot.
URL:https://wayneseniorcenter.org/event/decade-trivia-1990s-2000s/
END:VEVENT
BEGIN:VEVENT
DTSTART;TZID=UTC:20250924T111500
DTEND;TZID=UTC:20250924T120000
DTSTAMP:20260423T011932
CREATED:20250822T143414Z
LAST-MODIFIED:20250822T143414Z
UID:15858-1758712500-1758715200@wayneseniorcenter.org
SUMMARY:Soul Line Dancing
DESCRIPTION:Kenny James will get you moving and grooving in a fun\, easy to learn dance class. No experience necessary – all can join. $3 members / $6 non-members.
URL:https://wayneseniorcenter.org/event/soul-line-dancing-70/
END:VEVENT
BEGIN:VEVENT
DTSTART;TZID=UTC:20250924T123000
DTEND;TZID=UTC:20250924T133000
DTSTAMP:20260423T011932
CREATED:20250822T143412Z
LAST-MODIFIED:20250822T143412Z
UID:15856-1758717000-1758720600@wayneseniorcenter.org
SUMMARY:Fooling with Ukes
DESCRIPTION:Dust off your ukes and join Barbara Van Clief (Barley) for a few practice sessions. Learn to play various popular songs with a group of individuals who share your passion for music!
URL:https://wayneseniorcenter.org/event/fooling-with-ukes-35/
END:VEVENT
BEGIN:VEVENT
DTSTART;TZID=UTC:20250924T123000
DTEND;TZID=UTC:20250924T133000
DTSTAMP:20260423T011932
CREATED:20250822T143413Z
LAST-MODIFIED:20250822T143413Z
UID:15857-1758717000-1758720600@wayneseniorcenter.org
SUMMARY:Silver Sneakers Classic
DESCRIPTION:Focus on strengthening muscles and increasing range of motion using light weights\, stretch bands\, and exercise balls.
URL:https://wayneseniorcenter.org/event/silver-sneakers-classic-92/
END:VEVENT
BEGIN:VEVENT
DTSTART;TZID=UTC:20250924T140000
DTEND;TZID=UTC:20250924T140000
DTSTAMP:20260423T011932
CREATED:20250822T143415Z
LAST-MODIFIED:20250822T143415Z
UID:15859-1758722400-1758722400@wayneseniorcenter.org
SUMMARY:Tai Chi
DESCRIPTION:Tai Chi is a gentle form of exercise involving a series of graceful movements performed in a slow\, focused manner and accompanied by deep breathing. Excellent for strengthening balance and promoting stress reduction. In-Person fees – $5 for WSC members\, $10 for non-members.
URL:https://wayneseniorcenter.org/event/tai-chi-59/
END:VEVENT
BEGIN:VEVENT
DTSTART;TZID=UTC:20250925T090000
DTEND;TZID=UTC:20250925T120000
DTSTAMP:20260423T011932
CREATED:20250822T143429Z
LAST-MODIFIED:20250822T143429Z
UID:15863-1758790800-1758801600@wayneseniorcenter.org
SUMMARY:Scam Jam Sponsored by Rep. Lisa Borowski
DESCRIPTION:Stay safe with tips and presentation from the PA Department of Banking and Securities.
URL:https://wayneseniorcenter.org/event/scam-jam-sponsored-by-rep-lisa-borowski/
END:VEVENT
BEGIN:VEVENT
DTSTART;TZID=UTC:20250925T093000
DTEND;TZID=UTC:20250925T104500
DTSTAMP:20260423T011932
CREATED:20250822T143428Z
LAST-MODIFIED:20250822T143428Z
UID:15862-1758792600-1758797100@wayneseniorcenter.org
SUMMARY:Fresh Start
DESCRIPTION:Join us for Fresh Start—our new\, nutritious and delicious breakfast program! Breakfast will be served every Tuesday and Thursdayfrom 9:30 AM to 10:45 AM. Cost is $3.\nMeals are available on a first-come\, first-served basis\, so be sure to arrive early!\n Please note: the menu is subject to change.
URL:https://wayneseniorcenter.org/event/fresh-start-31/
END:VEVENT
BEGIN:VEVENT
DTSTART;TZID=UTC:20250925T130000
DTEND;TZID=UTC:20250925T150000
DTSTAMP:20260423T011932
CREATED:20250822T143427Z
LAST-MODIFIED:20250822T143427Z
UID:15861-1758805200-1758812400@wayneseniorcenter.org
SUMMARY:Cards and Games: Open Play
DESCRIPTION:Join us for an afternoon playing games of your choice- Poker\, gin rummy\, pinochle\, mahjong etc. Meet a new friend and start a game of your own. Mahjong teachers/leaders feel free to bring your game set!
URL:https://wayneseniorcenter.org/event/cards-and-games-open-play-50/
END:VEVENT
BEGIN:VEVENT
DTSTART;TZID=UTC:20250926T093000
DTEND;TZID=UTC:20250926T103000
DTSTAMP:20260423T011932
CREATED:20250822T143431Z
LAST-MODIFIED:20250822T143431Z
UID:15865-1758879000-1758882600@wayneseniorcenter.org
SUMMARY:Senior Circuit
DESCRIPTION:Join us for a dynamic strength-building\, full-body workout utilizing bands\, weights\, and balls as we cycle through various stations.
URL:https://wayneseniorcenter.org/event/senior-circuit-46/
END:VEVENT
BEGIN:VEVENT
DTSTART;TZID=UTC:20250926T103000
DTEND;TZID=UTC:20250926T113000
DTSTAMP:20260423T011932
CREATED:20250822T143430Z
LAST-MODIFIED:20250822T143430Z
UID:15864-1758882600-1758886200@wayneseniorcenter.org
SUMMARY:Chair Yoga
DESCRIPTION:A well-rounded class that will help with balance\, strengthening\, and relaxation. Have a sturdy chair available. All abilities welcome. In-Person fees – $3 for WSC members\, $6 for non-members.
URL:https://wayneseniorcenter.org/event/chair-yoga-48/
END:VEVENT
BEGIN:VEVENT
DTSTART;TZID=UTC:20250929T100000
DTEND;TZID=UTC:20250929T110000
DTSTAMP:20260423T011932
CREATED:20250822T143443Z
LAST-MODIFIED:20250822T143443Z
UID:15867-1759140000-1759143600@wayneseniorcenter.org
SUMMARY:Silver Sneakers Classic
DESCRIPTION:Focus on strengthening muscles and increasing range of motion using light weights\, stretch bands\, and exercise balls.
URL:https://wayneseniorcenter.org/event/silver-sneakers-classic-93/
END:VEVENT
BEGIN:VEVENT
DTSTART;TZID=UTC:20250929T100000
DTEND;TZID=UTC:20250929T120000
DTSTAMP:20260423T011932
CREATED:20250822T143442Z
LAST-MODIFIED:20250822T143442Z
UID:15866-1759140000-1759147200@wayneseniorcenter.org
SUMMARY:Refresher Bridge
DESCRIPTION:Brush up on your bridge skills with friends. Must have previous bridge experience.
URL:https://wayneseniorcenter.org/event/refresher-bridge-47/
END:VEVENT
BEGIN:VEVENT
DTSTART;TZID=UTC:20250929T100000
DTEND;TZID=UTC:20250929T120000
DTSTAMP:20260423T011932
CREATED:20250822T143445Z
LAST-MODIFIED:20250822T143445Z
UID:15869-1759140000-1759147200@wayneseniorcenter.org
SUMMARY:WSC Quilters
DESCRIPTION:WSC quiliting club. All skill levels Welcome. Come by or RSVP by calling the center – (610) 688-6246
URL:https://wayneseniorcenter.org/event/wsc-quilters-47/
END:VEVENT
BEGIN:VEVENT
DTSTART;TZID=UTC:20250929T110000
DTEND;TZID=UTC:20250929T120000
DTSTAMP:20260423T011932
CREATED:20250822T143444Z
LAST-MODIFIED:20250822T143444Z
UID:15868-1759143600-1759147200@wayneseniorcenter.org
SUMMARY:Soul Line Dancing
DESCRIPTION:Kenny James will get you moving and grooving in a fun\, easy to learn dance class. No experience necessary – all can join. $3 members / $6 non-members.
URL:https://wayneseniorcenter.org/event/soul-line-dancing-71/
END:VEVENT
BEGIN:VEVENT
DTSTART;TZID=UTC:20250930T090000
DTEND;TZID=UTC:20250930T110000
DTSTAMP:20260423T011932
CREATED:20250822T143501Z
LAST-MODIFIED:20250822T143501Z
UID:15874-1759222800-1759230000@wayneseniorcenter.org
SUMMARY:Tech Tuesday
DESCRIPTION:Stop by during this time with your tech questions or email Francis at francis@wayneseniorcenter.org to make an appointment. Some Tuesdays will feature a workshop on a certain topic starting at 10am.
URL:https://wayneseniorcenter.org/event/tech-tuesday-34/
END:VEVENT
END:VCALENDAR