BEGIN:VCALENDAR
VERSION:2.0
PRODID:-//Wayne Senior Center - ECPv6.15.20//NONSGML v1.0//EN
CALSCALE:GREGORIAN
METHOD:PUBLISH
X-WR-CALNAME:Wayne Senior Center
X-ORIGINAL-URL:https://wayneseniorcenter.org
X-WR-CALDESC:Events for Wayne Senior Center
REFRESH-INTERVAL;VALUE=DURATION:PT1H
X-Robots-Tag:noindex
X-PUBLISHED-TTL:PT1H
BEGIN:VTIMEZONE
TZID:UTC
BEGIN:STANDARD
TZOFFSETFROM:+0000
TZOFFSETTO:+0000
TZNAME:UTC
DTSTART:20230101T000000
END:STANDARD
END:VTIMEZONE
BEGIN:VEVENT
DTSTART;TZID=UTC:20241031T101500
DTEND;TZID=UTC:20241031T110000
DTSTAMP:20260422T222610
CREATED:20240927T203329Z
LAST-MODIFIED:20240927T203329Z
UID:14304-1730369700-1730372400@wayneseniorcenter.org
SUMMARY:Halloween Trivia
DESCRIPTION:Join us for some friendly competition using a fun\, game-based learning platform called Kahoot!
URL:https://wayneseniorcenter.org/event/halloween-trivia/
END:VEVENT
BEGIN:VEVENT
DTSTART;TZID=UTC:20241031T093000
DTEND;TZID=UTC:20241031T103000
DTSTAMP:20260422T222610
CREATED:20240927T203343Z
LAST-MODIFIED:20240927T203343Z
UID:14308-1730367000-1730370600@wayneseniorcenter.org
SUMMARY:Zumba Gold
DESCRIPTION:Keep your body moving\, enjoy lively music\, and have fun dancing your cares away. $3 members / $6 non-members
URL:https://wayneseniorcenter.org/event/zumba-gold-4/
END:VEVENT
BEGIN:VEVENT
DTSTART;TZID=UTC:20241030T123000
DTEND;TZID=UTC:20241030T133000
DTSTAMP:20260422T222610
CREATED:20240927T203328Z
LAST-MODIFIED:20240927T203738Z
UID:14302-1730291400-1730295000@wayneseniorcenter.org
SUMMARY:Silver Sneakers Classic
DESCRIPTION:Focus on strengthening muscles and increasing range of motion using light weights\, stretch bands\, and exercise balls.
URL:https://wayneseniorcenter.org/event/silver-sneakers-classic-7/
END:VEVENT
BEGIN:VEVENT
DTSTART;TZID=UTC:20241030T113000
DTEND;TZID=UTC:20241030T123000
DTSTAMP:20260422T222610
CREATED:20240927T203328Z
LAST-MODIFIED:20240927T203328Z
UID:14303-1730287800-1730291400@wayneseniorcenter.org
SUMMARY:Fitness Trainer Help
DESCRIPTION:Do you need assistance with the fitness center equipment? Stop by to see fitness trainer Kenny to get help with the equipment and ask questions about your fitness routine. You must be a fitness center member.
URL:https://wayneseniorcenter.org/event/fitness-trainer-help-4/
END:VEVENT
BEGIN:VEVENT
DTSTART;TZID=UTC:20241030T110000
DTEND;TZID=UTC:20241030T120000
DTSTAMP:20260422T222610
CREATED:20240927T203327Z
LAST-MODIFIED:20240927T203327Z
UID:14301-1730286000-1730289600@wayneseniorcenter.org
SUMMARY:Tai Chi
DESCRIPTION:Tai Chi is a gentle form of exercise involving a series of graceful movements performed in a slow\, focused manner and accompanied by deep breathing. Excellent for strengthening balance and promoting stress reduction. In-Person fees – $5 for WSC members\, $10 for non-members.
URL:https://wayneseniorcenter.org/event/tai-chi-9/
END:VEVENT
BEGIN:VEVENT
DTSTART;TZID=UTC:20241030T100000
DTEND;TZID=UTC:20241030T110000
DTSTAMP:20260422T222610
CREATED:20240927T203313Z
LAST-MODIFIED:20240927T203313Z
UID:14299-1730282400-1730286000@wayneseniorcenter.org
SUMMARY:Coffee Talk with Radnor Police Chaplain
DESCRIPTION:Enjoy coffee\, pastries\, and meaningful discussion with a visiting Radnor Police Chaplain.
URL:https://wayneseniorcenter.org/event/coffee-talk-with-radnor-police-chaplain/
END:VEVENT
BEGIN:VEVENT
DTSTART;TZID=UTC:20241030T093000
DTEND;TZID=UTC:20241030T103000
DTSTAMP:20260422T222610
CREATED:20240927T203314Z
LAST-MODIFIED:20240927T203314Z
UID:14300-1730280600-1730284200@wayneseniorcenter.org
SUMMARY:Slow Flow Yoga
DESCRIPTION:Join Liz Seaden RYT for a challenging flow yoga class at WSC. This full-body workout incorporates both mat-based and standing poses.
URL:https://wayneseniorcenter.org/event/slow-flow-yoga-5/
END:VEVENT
BEGIN:VEVENT
DTSTART;TZID=UTC:20241029T123000
DTEND;TZID=UTC:20241029T133000
DTSTAMP:20260422T222610
CREATED:20240927T203259Z
LAST-MODIFIED:20240927T203259Z
UID:14295-1730205000-1730208600@wayneseniorcenter.org
SUMMARY:Mindfulness
DESCRIPTION:Practicing mindfulness provides countless benefits to our overall well-being. Join instructor Liz for an hour of virtual mindfulness.
URL:https://wayneseniorcenter.org/event/mindfulness-5/
END:VEVENT
BEGIN:VEVENT
DTSTART;TZID=UTC:20241029T120000
DTEND;TZID=UTC:20241029T130000
DTSTAMP:20260422T222610
CREATED:20240927T203259Z
LAST-MODIFIED:20240927T203259Z
UID:14294-1730203200-1730206800@wayneseniorcenter.org
SUMMARY:Let's Do Lunch!
DESCRIPTION:Let’s do lunch together! Please see the menu in the newsletter for details on each meal. $5 members / $8 non-members. RSVP required\, in-center dining only.
URL:https://wayneseniorcenter.org/event/lets-do-lunch-3/
END:VEVENT
BEGIN:VEVENT
DTSTART;TZID=UTC:20241029T110000
DTEND;TZID=UTC:20241029T120000
DTSTAMP:20260422T222610
CREATED:20240927T203312Z
LAST-MODIFIED:20240927T203312Z
UID:14296-1730199600-1730203200@wayneseniorcenter.org
SUMMARY:Sit\, Move\, Stretch
DESCRIPTION:This class offers seated or standing: cardio movement\, strengthening\, deep breathing\, and stretching. In-Person fees – free for WSC members\, $3 for non-members.
URL:https://wayneseniorcenter.org/event/sit-move-stretch-8/
END:VEVENT
BEGIN:VEVENT
DTSTART;TZID=UTC:20241029T101500
DTEND;TZID=UTC:20241029T110000
DTSTAMP:20260422T222610
CREATED:20240927T203313Z
LAST-MODIFIED:20240927T203313Z
UID:14298-1730196900-1730199600@wayneseniorcenter.org
SUMMARY:DIY Candy Corn Fruit Parfait
DESCRIPTION:National Candy Corn Day is in October. We will be celebrating by making a fruit parfait that mimics the vibrant colors of classic candy corn.
URL:https://wayneseniorcenter.org/event/diy-candy-corn-fruit-parfait/
END:VEVENT
BEGIN:VEVENT
DTSTART;TZID=UTC:20241029T090000
DTEND;TZID=UTC:20241029T110000
DTSTAMP:20260422T222610
CREATED:20240927T203313Z
LAST-MODIFIED:20240927T203313Z
UID:14297-1730192400-1730199600@wayneseniorcenter.org
SUMMARY:Tech Tuesday
DESCRIPTION:Stop by during this time with your tech questions or email Francis at francis@wayneseniorcenter.org to make an appointment. Some Tuesdays will feature a workshop on a certain topic starting at 10am.
URL:https://wayneseniorcenter.org/event/tech-tuesday-4/
END:VEVENT
BEGIN:VEVENT
DTSTART;TZID=UTC:20241028T113000
DTEND;TZID=UTC:20241028T130000
DTSTAMP:20260422T222610
CREATED:20240927T204244Z
LAST-MODIFIED:20240927T204412Z
UID:14314-1730115000-1730120400@wayneseniorcenter.org
SUMMARY:Chef's Table: Koren's Kitchen
DESCRIPTION:Join us for another great Chef’s Table event featuring Chef Koren Draper of Koren’s Kitchen. Register by 10/21 – $10 members\, $20 non-members.
URL:https://wayneseniorcenter.org/event/chefs-table-korens-kitchen/
END:VEVENT
BEGIN:VEVENT
DTSTART;TZID=UTC:20241028T100000
DTEND;TZID=UTC:20241028T120000
DTSTAMP:20260422T222610
CREATED:20240927T203257Z
LAST-MODIFIED:20240927T203257Z
UID:14291-1730109600-1730116800@wayneseniorcenter.org
SUMMARY:WSC Quilters
DESCRIPTION:WSC quiliting club. All skill levels Welcome. Come by or RSVP by calling the center – (610) 688-6246
URL:https://wayneseniorcenter.org/event/wsc-quilters-4/
END:VEVENT
BEGIN:VEVENT
DTSTART;TZID=UTC:20241028T100000
DTEND;TZID=UTC:20241028T120000
DTSTAMP:20260422T222610
CREATED:20240927T203245Z
LAST-MODIFIED:20240927T203245Z
UID:14290-1730109600-1730116800@wayneseniorcenter.org
SUMMARY:Refresher Bridge
DESCRIPTION:Brush up on your bridge skills with Lawrie Stetson and Dave Heron. Must have previous bridge experience.
URL:https://wayneseniorcenter.org/event/refresher-bridge-4/
END:VEVENT
BEGIN:VEVENT
DTSTART;TZID=UTC:20241028T100000
DTEND;TZID=UTC:20241028T110000
DTSTAMP:20260422T222610
CREATED:20240927T203258Z
LAST-MODIFIED:20240927T203258Z
UID:14292-1730109600-1730113200@wayneseniorcenter.org
SUMMARY:Silver Sneakers Classic
DESCRIPTION:Focus on strengthening muscles and increasing range of motion using light weights\, stretch bands\, and exercise balls.
URL:https://wayneseniorcenter.org/event/silver-sneakers-classic-6/
END:VEVENT
BEGIN:VEVENT
DTSTART;TZID=UTC:20241028T093000
DTEND;TZID=UTC:20241028T103000
DTSTAMP:20260422T222610
CREATED:20240927T203244Z
LAST-MODIFIED:20240927T203244Z
UID:14289-1730107800-1730111400@wayneseniorcenter.org
SUMMARY:Brain Fit
DESCRIPTION:Join Andrea as we exercise our brain with fun word puzzles and brain teasers!
URL:https://wayneseniorcenter.org/event/brain-fit-4/
END:VEVENT
BEGIN:VEVENT
DTSTART;TZID=UTC:20241025T103000
DTEND;TZID=UTC:20241025T113000
DTSTAMP:20260422T222610
CREATED:20240927T203244Z
LAST-MODIFIED:20240927T203244Z
UID:14287-1729852200-1729855800@wayneseniorcenter.org
SUMMARY:Chair Yoga
DESCRIPTION:A well-rounded class that will help with balance\, strengthening\, and relaxation. Have a sturdy chair available. All abilities welcome. In-Person fees – $3 for WSC members\, $6 for non-members.
URL:https://wayneseniorcenter.org/event/chair-yoga-4/
END:VEVENT
BEGIN:VEVENT
DTSTART;TZID=UTC:20241025T093000
DTEND;TZID=UTC:20241025T103000
DTSTAMP:20260422T222610
CREATED:20240927T203244Z
LAST-MODIFIED:20240927T203244Z
UID:14288-1729848600-1729852200@wayneseniorcenter.org
SUMMARY:Senior Circuit
DESCRIPTION:Join us for a dynamic strength-building\, full-body workout utilizing bands\, weights\, and balls as we cycle through various stations.
URL:https://wayneseniorcenter.org/event/senior-circuit-4/
END:VEVENT
BEGIN:VEVENT
DTSTART;TZID=UTC:20241024T130000
DTEND;TZID=UTC:20241024T150000
DTSTAMP:20260422T222610
CREATED:20240927T203228Z
LAST-MODIFIED:20240927T203228Z
UID:14282-1729774800-1729782000@wayneseniorcenter.org
SUMMARY:Cards and Games: Open Play
DESCRIPTION:Join us for an afternoon playing games of your choice- Poker\, gin rummy\, pinochle\, mahjong etc. Meet a new friend and start a game of your own. Mahjong teachers/leaders feel free to bring your game set!
URL:https://wayneseniorcenter.org/event/cards-and-games-open-play-4/
END:VEVENT
BEGIN:VEVENT
DTSTART;TZID=UTC:20241024T123000
DTEND;TZID=UTC:20241024T133000
DTSTAMP:20260422T222610
CREATED:20240927T203228Z
LAST-MODIFIED:20240927T203228Z
UID:14284-1729773000-1729776600@wayneseniorcenter.org
SUMMARY:Tai Chi
DESCRIPTION:Tai Chi is a gentle form of exercise involving a series of graceful movements performed in a slow\, focused manner and accompanied by deep breathing. Excellent for strengthening balance and promoting stress reduction. In-Person fees – $5 for WSC members\, $10 for non-members.
URL:https://wayneseniorcenter.org/event/tai-chi-8/
END:VEVENT
BEGIN:VEVENT
DTSTART;TZID=UTC:20241024T120000
DTEND;TZID=UTC:20241024T130000
DTSTAMP:20260422T222610
CREATED:20240927T203229Z
LAST-MODIFIED:20240927T203229Z
UID:14285-1729771200-1729774800@wayneseniorcenter.org
SUMMARY:The Men's Group
DESCRIPTION:Catch up with friends over lunch and discuss topics related to men’s lives – hobbies\, family stories\, retirement\, career reflections\, mental & physical health\, or whatever else is on your mind. Call to reserve a Center lunch\, bring your own\, or just stop by to chat.
URL:https://wayneseniorcenter.org/event/the-mens-group-2/
END:VEVENT
BEGIN:VEVENT
DTSTART;TZID=UTC:20241024T110000
DTEND;TZID=UTC:20241024T120000
DTSTAMP:20260422T222610
CREATED:20240927T203228Z
LAST-MODIFIED:20240927T203228Z
UID:14283-1729767600-1729771200@wayneseniorcenter.org
SUMMARY:Sit\, Move\, Stretch
DESCRIPTION:This class offers seated or standing: cardio movement\, strengthening\, deep breathing\, and stretching. In-Person fees – free for WSC members\, $3 for non-members.
URL:https://wayneseniorcenter.org/event/sit-move-stretch-7/
END:VEVENT
BEGIN:VEVENT
DTSTART;TZID=UTC:20241024T093000
DTEND;TZID=UTC:20241024T103000
DTSTAMP:20260422T222610
CREATED:20240927T203243Z
LAST-MODIFIED:20240927T203243Z
UID:14286-1729762200-1729765800@wayneseniorcenter.org
SUMMARY:Zumba Gold
DESCRIPTION:Keep your body moving\, enjoy lively music\, and have fun dancing your cares away. $3 members / $6 non-members
URL:https://wayneseniorcenter.org/event/zumba-gold-3/
END:VEVENT
BEGIN:VEVENT
DTSTART;TZID=UTC:20241024T090000
DTEND;TZID=UTC:20241024T110000
DTSTAMP:20260422T222610
CREATED:20240927T203227Z
LAST-MODIFIED:20240927T203227Z
UID:14281-1729760400-1729767600@wayneseniorcenter.org
SUMMARY:Blood Pressure Screenings
DESCRIPTION:Are you trying to keep track of your blood pressure readings? Have questions about a medication or just need a listening ear? Stop by and speak 1:1 with a nurse.
URL:https://wayneseniorcenter.org/event/blood-pressure-screenings-2/
END:VEVENT
BEGIN:VEVENT
DTSTART;TZID=UTC:20241023T123000
DTEND;TZID=UTC:20241023T133000
DTSTAMP:20260422T222610
CREATED:20240927T203159Z
LAST-MODIFIED:20240927T203159Z
UID:14275-1729686600-1729690200@wayneseniorcenter.org
SUMMARY:Fooling with Ukes
DESCRIPTION:Dust off your ukes and join Barbara Van Clief (Barley) for a few practice sessions. Learn to play various popular songs with a group of individuals who share your passion for music!
URL:https://wayneseniorcenter.org/event/fooling-with-ukes-4/
END:VEVENT
BEGIN:VEVENT
DTSTART;TZID=UTC:20241023T120000
DTEND;TZID=UTC:20241023T140000
DTSTAMP:20260422T222610
CREATED:20240927T203213Z
LAST-MODIFIED:20240927T204354Z
UID:14277-1729684800-1729692000@wayneseniorcenter.org
SUMMARY:Pizza and a Movie: Ghostbusters - Frozen Empire
DESCRIPTION:Join us for a viewing of the film\, “Ghostbusters: Frozen Empire”. When the discovery of an ancient artifact unleashes an evil force\, Ghostbusters new and old must join forces to protect their home and save the world from a second ice age.
URL:https://wayneseniorcenter.org/event/pizza-and-a-movie-ghostbusters-frozen-empire/
END:VEVENT
BEGIN:VEVENT
DTSTART;TZID=UTC:20241023T113000
DTEND;TZID=UTC:20241023T123000
DTSTAMP:20260422T222610
CREATED:20240927T203214Z
LAST-MODIFIED:20240927T203214Z
UID:14280-1729683000-1729686600@wayneseniorcenter.org
SUMMARY:Fitness Trainer Help
DESCRIPTION:Do you need assistance with the fitness center equipment? Stop by to see fitness trainer Kenny to get help with the equipment and ask questions about your fitness routine. You must be a fitness center member.
URL:https://wayneseniorcenter.org/event/fitness-trainer-help-3/
END:VEVENT
BEGIN:VEVENT
DTSTART;TZID=UTC:20241023T110000
DTEND;TZID=UTC:20241023T120000
DTSTAMP:20260422T222610
CREATED:20240927T203214Z
LAST-MODIFIED:20240927T203214Z
UID:14279-1729681200-1729684800@wayneseniorcenter.org
SUMMARY:Tai Chi
DESCRIPTION:Tai Chi is a gentle form of exercise involving a series of graceful movements performed in a slow\, focused manner and accompanied by deep breathing. Excellent for strengthening balance and promoting stress reduction. In-Person fees – $5 for WSC members\, $10 for non-members.
URL:https://wayneseniorcenter.org/event/tai-chi-7/
END:VEVENT
BEGIN:VEVENT
DTSTART;TZID=UTC:20241023T110000
DTEND;TZID=UTC:20241023T120000
DTSTAMP:20260422T222610
CREATED:20240927T203213Z
LAST-MODIFIED:20240927T203213Z
UID:14276-1729681200-1729684800@wayneseniorcenter.org
SUMMARY:Pageturners Bookclub
DESCRIPTION:This month’s selection is “The Women” by Kristin Hannah. Enjoy lively book conversation with a Radnor Memorial Library librarian. All are welcome! Call for more info – (610)688-6246
URL:https://wayneseniorcenter.org/event/pageturners-bookclub/
END:VEVENT
END:VCALENDAR