BEGIN:VCALENDAR
VERSION:2.0
PRODID:-//Wayne Senior Center - ECPv6.15.20//NONSGML v1.0//EN
CALSCALE:GREGORIAN
METHOD:PUBLISH
X-ORIGINAL-URL:https://wayneseniorcenter.org
X-WR-CALDESC:Events for Wayne Senior Center
REFRESH-INTERVAL;VALUE=DURATION:PT1H
X-Robots-Tag:noindex
X-PUBLISHED-TTL:PT1H
BEGIN:VTIMEZONE
TZID:UTC
BEGIN:STANDARD
TZOFFSETFROM:+0000
TZOFFSETTO:+0000
TZNAME:UTC
DTSTART:20230101T000000
END:STANDARD
END:VTIMEZONE
BEGIN:VEVENT
DTSTART;TZID=UTC:20240627T120000
DTEND;TZID=UTC:20240627T130000
DTSTAMP:20260423T002018
CREATED:20240524T225030Z
LAST-MODIFIED:20240524T225030Z
UID:13702-1719489600-1719493200@wayneseniorcenter.org
SUMMARY:The Men's Group (In Center)
DESCRIPTION:Catch up with friends over lunch and discuss topics related to men’s lives – hobbies\, family stories\, retirement\, career reflections\, mental & physical health\, or whatever else is on your mind. Call to reserve a Center lunch\, bring your own\, or just stop by to chat.
URL:https://wayneseniorcenter.org/event/the-mens-group-in-center-12/
END:VEVENT
BEGIN:VEVENT
DTSTART;TZID=UTC:20240627T123000
DTEND;TZID=UTC:20240627T133000
DTSTAMP:20260423T002018
CREATED:20240524T225030Z
LAST-MODIFIED:20240524T225030Z
UID:13701-1719491400-1719495000@wayneseniorcenter.org
SUMMARY:Tai Chi (In Center)
DESCRIPTION:New Time / Additional Class – Tai Chi is a gentle form of exercise involving a series of graceful movements performed in a slow\, focused manner and accompanied by deep breathing. Excellent for strengthening balance and promoting stress reduction. In-Person fees – $5 for WSC members\, $10 for non-members.
URL:https://wayneseniorcenter.org/event/tai-chi-in-center-13/
END:VEVENT
BEGIN:VEVENT
DTSTART;TZID=UTC:20240627T130000
DTEND;TZID=UTC:20240627T150000
DTSTAMP:20260423T002018
CREATED:20240524T224129Z
LAST-MODIFIED:20240524T224129Z
UID:13699-1719493200-1719500400@wayneseniorcenter.org
SUMMARY:Cards and Games: Open Play (In Center)
DESCRIPTION:Join us for an afternoon playing games of your choice- Poker\, gin rummy\, pinochle\, mahjong etc. Meet a new friend and start a game of your own. Mahjong teachers/leaders feel free to bring your game set!
URL:https://wayneseniorcenter.org/event/cards-and-games-open-play-in-center-37/
END:VEVENT
BEGIN:VEVENT
DTSTART;TZID=UTC:20240628T093000
DTEND;TZID=UTC:20240628T103000
DTSTAMP:20260423T002018
CREATED:20240524T225043Z
LAST-MODIFIED:20240524T225043Z
UID:13706-1719567000-1719570600@wayneseniorcenter.org
SUMMARY:Senior Circuit (In Center)
DESCRIPTION:Senior circuit is a unique strength building class held in our fitness center utilizing the gym equipment. Free for Silver Sneakers or $3 for members\, $6 non-members.
URL:https://wayneseniorcenter.org/event/senior-circuit-in-center-3/
END:VEVENT
BEGIN:VEVENT
DTSTART;TZID=UTC:20240628T103000
DTEND;TZID=UTC:20240628T113000
DTSTAMP:20260423T002018
CREATED:20240524T225042Z
LAST-MODIFIED:20240524T225042Z
UID:13705-1719570600-1719574200@wayneseniorcenter.org
SUMMARY:Chair Yoga (In Person and Virtual)
DESCRIPTION:A well-rounded class that will help with balance\, strengthening\, and relaxation. Have a sturdy chair available. All abilities welcome. In-Person fees – $3 for WSC members\, $6 for non-members.
URL:https://wayneseniorcenter.org/event/chair-yoga-in-person-and-virtual-32/
END:VEVENT
BEGIN:VEVENT
DTSTART;TZID=UTC:20240701T100000
DTEND;TZID=UTC:20240701T110000
DTSTAMP:20260423T002018
CREATED:20240628T151729Z
LAST-MODIFIED:20240628T151729Z
UID:13759-1719828000-1719831600@wayneseniorcenter.org
SUMMARY:Silver Sneakers Classic (In Center)
DESCRIPTION:Focus on strengthening muscles and increasing range of movement using light weights\, stretch bands\, and exercise balls. Free for Silver Sneakers or $3 for members\, $6 non-members.
URL:https://wayneseniorcenter.org/event/silver-sneakers-classic-in-center-5/
END:VEVENT
BEGIN:VEVENT
DTSTART;TZID=UTC:20240701T100000
DTEND;TZID=UTC:20240701T120000
DTSTAMP:20260423T002018
CREATED:20240628T151726Z
LAST-MODIFIED:20240628T151726Z
UID:13758-1719828000-1719835200@wayneseniorcenter.org
SUMMARY:Refresher Bridge (In Center)
DESCRIPTION:Brush up on your bridge skills with Lawrie Stetson and Dave Heron. Must have previous bridge experience.
URL:https://wayneseniorcenter.org/event/refresher-bridge-in-center-35/
END:VEVENT
BEGIN:VEVENT
DTSTART;TZID=UTC:20240701T100000
DTEND;TZID=UTC:20240701T120000
DTSTAMP:20260423T002018
CREATED:20240628T151729Z
LAST-MODIFIED:20240628T151729Z
UID:13761-1719828000-1719835200@wayneseniorcenter.org
SUMMARY:WSC Quilters (In Center)
DESCRIPTION:WSC quiliting club. All skill levels Welcome. Come by or RSVP by calling the center – (610) 688-6246
URL:https://wayneseniorcenter.org/event/wsc-quilters-in-center-35/
END:VEVENT
BEGIN:VEVENT
DTSTART;TZID=UTC:20240701T110000
DTEND;TZID=UTC:20240701T120000
DTSTAMP:20260423T002018
CREATED:20240628T151729Z
LAST-MODIFIED:20240628T151729Z
UID:13760-1719831600-1719835200@wayneseniorcenter.org
SUMMARY:Soul Line Dance (In Center)
DESCRIPTION:Kenny James will get you moving and grooving in a fun\, easy to learn dance class. No experience necessary – all can join. $3 members / $6 non-members.
URL:https://wayneseniorcenter.org/event/soul-line-dance-in-center-13/
END:VEVENT
BEGIN:VEVENT
DTSTART;TZID=UTC:20240701T130000
DTEND;TZID=UTC:20240701T150000
DTSTAMP:20260423T002018
CREATED:20240628T151730Z
LAST-MODIFIED:20240628T152753Z
UID:13762-1719838800-1719846000@wayneseniorcenter.org
SUMMARY:Classic Movie Matinee: National Lampoon's Vacation (In Center)
DESCRIPTION:Join us for a viewing of “National Lampoon’s Vacation”\, a summer road trip comedy starring Chevy Chase. The all-American Griswold family just wants to go on an all-American vacation. Everyone is packed\, the route is planned… and absolutely everything goes wrong as a simple trip quickly becomes a madcap cross-country odyssey.
URL:https://wayneseniorcenter.org/event/classic-movie-matinee-national-lampoons-vacation-in-center/
END:VEVENT
BEGIN:VEVENT
DTSTART;TZID=UTC:20240702T090000
DTEND;TZID=UTC:20240702T110000
DTSTAMP:20260423T002018
CREATED:20240628T151732Z
LAST-MODIFIED:20240628T151732Z
UID:13765-1719910800-1719918000@wayneseniorcenter.org
SUMMARY:Tech Tuesday (In Center)
DESCRIPTION:Tuesdays from 11am – 1pm stop in to chat Technology. Stop by between programs\, after grabbing some lunch\, or whenever is convenient for you. Bring specific questions about your device or come in to explore Wayne Senior Center iPads in a no-pressure environment. Or\, come by to share recent accomplishments or knowledge you’d like to share with others\, or just stop in to say hi and learn something new. Stop by during this time or email Francis at francis@wayneseniorcenter.org to make an appointment.
URL:https://wayneseniorcenter.org/event/tech-tuesday-in-center-36/
END:VEVENT
BEGIN:VEVENT
DTSTART;TZID=UTC:20240702T093000
DTEND;TZID=UTC:20240702T103000
DTSTAMP:20260423T002018
CREATED:20240628T151733Z
LAST-MODIFIED:20240628T151733Z
UID:13766-1719912600-1719916200@wayneseniorcenter.org
SUMMARY:Walking Club (Off-Site)
DESCRIPTION:Join Margo\, Destinie\, and WSC friends for a walk on the Radnor trail – weather permitting. Walkers meet at the trail parking lot (520 Conestoga Road). All abilities welcome. Wear comfortable walking shoes.
URL:https://wayneseniorcenter.org/event/walking-club-off-site-9/
END:VEVENT
BEGIN:VEVENT
DTSTART;TZID=UTC:20240702T110000
DTEND;TZID=UTC:20240702T120000
DTSTAMP:20260423T002018
CREATED:20240628T151732Z
LAST-MODIFIED:20240628T151732Z
UID:13764-1719918000-1719921600@wayneseniorcenter.org
SUMMARY:Sit\, Move\, Stretch (In Center and Virtual)
DESCRIPTION:This class offers seated or standing: cardio movement\, strengthening\, deep breathing\, and stretching. In-Person fees – free for WSC members\, $3 for non-members.
URL:https://wayneseniorcenter.org/event/sit-move-stretch-in-center-and-virtual-35/
END:VEVENT
BEGIN:VEVENT
DTSTART;TZID=UTC:20240702T120000
DTEND;TZID=UTC:20240702T130000
DTSTAMP:20260423T002018
CREATED:20240628T151732Z
LAST-MODIFIED:20240628T151732Z
UID:13763-1719921600-1719925200@wayneseniorcenter.org
SUMMARY:Let's Do Lunch! (In Center)
DESCRIPTION:Let’s do lunch together! Please see the menu in the newsletter for details on each meal. $5 members / $8 non-members. RSVP required\, in-center dining only.
URL:https://wayneseniorcenter.org/event/lets-do-lunch-in-center-5/
END:VEVENT
BEGIN:VEVENT
DTSTART;TZID=UTC:20240702T123000
DTEND;TZID=UTC:20240702T140000
DTSTAMP:20260423T002018
CREATED:20240628T151733Z
LAST-MODIFIED:20240628T151733Z
UID:13767-1719923400-1719928800@wayneseniorcenter.org
SUMMARY:Opera Performance by David Arlen (In Center)
DESCRIPTION:Join us for an afternoon of Song with David Arlen\, Bass Man! This is a free program!
URL:https://wayneseniorcenter.org/event/opera-performance-by-david-arlen-in-center/
END:VEVENT
BEGIN:VEVENT
DTSTART;TZID=UTC:20240703T110000
DTEND;TZID=UTC:20240703T120000
DTSTAMP:20260423T002018
CREATED:20240628T151749Z
LAST-MODIFIED:20240628T151749Z
UID:13769-1720004400-1720008000@wayneseniorcenter.org
SUMMARY:Tai Chi (In Center and Virtual)
DESCRIPTION:Tai Chi is a gentle form of exercise involving a series of graceful movements performed in a slow\, focused manner and accompanied by deep breathing. Excellent for strengthening balance and promoting stress reduction. In-Person fees – $5 for WSC members\, $10 for non-members.
URL:https://wayneseniorcenter.org/event/tai-chi-in-center-and-virtual-36/
END:VEVENT
BEGIN:VEVENT
DTSTART;TZID=UTC:20240703T113000
DTEND;TZID=UTC:20240703T123000
DTSTAMP:20260423T002018
CREATED:20240628T151749Z
LAST-MODIFIED:20240628T153043Z
UID:13770-1720006200-1720009800@wayneseniorcenter.org
SUMMARY:Fitness Trainer (In Center)
DESCRIPTION:Curious about the equipment in the fitness center? Stop by to meet our fitness trainer\, Kathleen.
URL:https://wayneseniorcenter.org/event/fitness-trainer-in-center/
END:VEVENT
BEGIN:VEVENT
DTSTART;TZID=UTC:20240703T123000
DTEND;TZID=UTC:20240703T133000
DTSTAMP:20260423T002018
CREATED:20240628T151749Z
LAST-MODIFIED:20240628T151749Z
UID:13768-1720009800-1720013400@wayneseniorcenter.org
SUMMARY:Silver Sneakers Classic (In Center)
DESCRIPTION:Focus on strengthening muscles and increasing range of movement using light weights\, stretch bands\, and exercise balls. Free for Silver Sneakers or $3 for members\, $6 non-members.
URL:https://wayneseniorcenter.org/event/silver-sneakers-classic-in-center-6/
END:VEVENT
BEGIN:VEVENT
DTSTART;TZID=UTC:20240708T100000
DTEND;TZID=UTC:20240708T110000
DTSTAMP:20260423T002018
CREATED:20240628T151803Z
LAST-MODIFIED:20240628T151803Z
UID:13773-1720432800-1720436400@wayneseniorcenter.org
SUMMARY:Silver Sneakers Classic (In Center)
DESCRIPTION:Focus on strengthening muscles and increasing range of movement using light weights\, stretch bands\, and exercise balls. Free for Silver Sneakers or $3 for members\, $6 non-members.
URL:https://wayneseniorcenter.org/event/silver-sneakers-classic-in-center-7/
END:VEVENT
BEGIN:VEVENT
DTSTART;TZID=UTC:20240708T100000
DTEND;TZID=UTC:20240708T120000
DTSTAMP:20260423T002018
CREATED:20240628T151750Z
LAST-MODIFIED:20240628T151750Z
UID:13771-1720432800-1720440000@wayneseniorcenter.org
SUMMARY:Refresher Bridge (In Center)
DESCRIPTION:Brush up on your bridge skills with Lawrie Stetson and Dave Heron. Must have previous bridge experience.
URL:https://wayneseniorcenter.org/event/refresher-bridge-in-center-36/
END:VEVENT
BEGIN:VEVENT
DTSTART;TZID=UTC:20240708T100000
DTEND;TZID=UTC:20240708T120000
DTSTAMP:20260423T002018
CREATED:20240628T151804Z
LAST-MODIFIED:20240628T151804Z
UID:13775-1720432800-1720440000@wayneseniorcenter.org
SUMMARY:WSC Quilters (In Center)
DESCRIPTION:WSC quiliting club. All skill levels Welcome. Come by or RSVP by calling the center – (610) 688-6246
URL:https://wayneseniorcenter.org/event/wsc-quilters-in-center-36/
END:VEVENT
BEGIN:VEVENT
DTSTART;TZID=UTC:20240708T110000
DTEND;TZID=UTC:20240708T120000
DTSTAMP:20260423T002018
CREATED:20240628T151804Z
LAST-MODIFIED:20240628T151804Z
UID:13774-1720436400-1720440000@wayneseniorcenter.org
SUMMARY:Soul Line Dance (In Center)
DESCRIPTION:Kenny James will get you moving and grooving in a fun\, easy to learn dance class. No experience necessary – all can join. $3 members / $6 non-members.
URL:https://wayneseniorcenter.org/event/soul-line-dance-in-center-14/
END:VEVENT
BEGIN:VEVENT
DTSTART;TZID=UTC:20240708T140000
DTEND;TZID=UTC:20240708T150000
DTSTAMP:20260423T002018
CREATED:20240628T151750Z
LAST-MODIFIED:20240628T151750Z
UID:13772-1720447200-1720450800@wayneseniorcenter.org
SUMMARY:Seasons Grief & Loss Group (In Center)
DESCRIPTION:Join others in a safe space to listen\, share\, and heal in conversation about losses you have experienced. We will learn how grief can effect our everyday life and ways to manage the range of feelings and symptoms. Facilitated by Holiticare Hospice
URL:https://wayneseniorcenter.org/event/seasons-grief-loss-group-in-center-2/
END:VEVENT
BEGIN:VEVENT
DTSTART;TZID=UTC:20240709T090000
DTEND;TZID=UTC:20240709T110000
DTSTAMP:20260423T002018
CREATED:20240628T151819Z
LAST-MODIFIED:20240628T151819Z
UID:13779-1720515600-1720522800@wayneseniorcenter.org
SUMMARY:Tech Tuesday (In Center)
DESCRIPTION:Tuesdays from 11am – 1pm stop in to chat Technology. Stop by between programs\, after grabbing some lunch\, or whenever is convenient for you. Bring specific questions about your device or come in to explore Wayne Senior Center iPads in a no-pressure environment. Or\, come by to share recent accomplishments or knowledge you’d like to share with others\, or just stop in to say hi and learn something new. Stop by during this time or email Francis at francis@wayneseniorcenter.org to make an appointment.
URL:https://wayneseniorcenter.org/event/tech-tuesday-in-center-37/
END:VEVENT
BEGIN:VEVENT
DTSTART;TZID=UTC:20240709T093000
DTEND;TZID=UTC:20240709T103000
DTSTAMP:20260423T002018
CREATED:20240628T151819Z
LAST-MODIFIED:20240628T151819Z
UID:13780-1720517400-1720521000@wayneseniorcenter.org
SUMMARY:Walking Club (Off-Site)
DESCRIPTION:Join Margo\, Destinie\, and WSC friends for a walk on the Radnor trail – weather permitting. Walkers meet at the trail parking lot (520 Conestoga Road). All abilities welcome. Wear comfortable walking shoes.
URL:https://wayneseniorcenter.org/event/walking-club-off-site-10/
END:VEVENT
BEGIN:VEVENT
DTSTART;TZID=UTC:20240709T100000
DTEND;TZID=UTC:20240709T110000
DTSTAMP:20260423T002018
CREATED:20240628T151820Z
LAST-MODIFIED:20240628T152836Z
UID:13781-1720519200-1720522800@wayneseniorcenter.org
SUMMARY:Learn to Use ParkMobile (In Center)
DESCRIPTION:Bring your phone to setup and learn how to use the ParkMobile App\, Radnor Township’s new mobile parking payment system. The ParkMobile app can be used to pay for parking in place of the parking lot kiosks\, to extend parking time without going back out to the car\, and is available in Philly and many other towns and cities across the country.
URL:https://wayneseniorcenter.org/event/learn-to-use-parkmobile-in-center/
END:VEVENT
BEGIN:VEVENT
DTSTART;TZID=UTC:20240709T110000
DTEND;TZID=UTC:20240709T120000
DTSTAMP:20260423T002018
CREATED:20240628T151818Z
LAST-MODIFIED:20240628T151818Z
UID:13778-1720522800-1720526400@wayneseniorcenter.org
SUMMARY:Sit\, Move\, Stretch (In Center and Virtual)
DESCRIPTION:This class offers seated or standing: cardio movement\, strengthening\, deep breathing\, and stretching. In-Person fees – free for WSC members\, $3 for non-members.
URL:https://wayneseniorcenter.org/event/sit-move-stretch-in-center-and-virtual-36/
END:VEVENT
BEGIN:VEVENT
DTSTART;TZID=UTC:20240709T120000
DTEND;TZID=UTC:20240709T130000
DTSTAMP:20260423T002018
CREATED:20240628T151805Z
LAST-MODIFIED:20240628T151805Z
UID:13776-1720526400-1720530000@wayneseniorcenter.org
SUMMARY:Let's Do Lunch! (In Center)
DESCRIPTION:Let’s do lunch together! Please see the menu in the newsletter for details on each meal. $5 members / $8 non-members. RSVP required\, in-center dining only.
URL:https://wayneseniorcenter.org/event/lets-do-lunch-in-center-6/
END:VEVENT
BEGIN:VEVENT
DTSTART;TZID=UTC:20240709T123000
DTEND;TZID=UTC:20240709T130000
DTSTAMP:20260423T002018
CREATED:20240628T151805Z
LAST-MODIFIED:20240628T151805Z
UID:13777-1720528200-1720530000@wayneseniorcenter.org
SUMMARY:Mindfulness (In Center)
DESCRIPTION:Practicing mindfulness provides countless benefits to our overall well-being. Join instructor Liz for an hour of virtual mindfulness.
URL:https://wayneseniorcenter.org/event/mindfulness-in-center-26/
END:VEVENT
BEGIN:VEVENT
DTSTART;TZID=UTC:20240710T093000
DTEND;TZID=UTC:20240710T103000
DTSTAMP:20260423T002018
CREATED:20240628T151835Z
LAST-MODIFIED:20240628T151835Z
UID:13786-1720603800-1720607400@wayneseniorcenter.org
SUMMARY:Yoga at The Willows Park Preserve (Off Site)
DESCRIPTION:Join Liz Seaden\, RYT for an all abilities yoga class under the tent at The Willows! Drop in is $15 per class.
URL:https://wayneseniorcenter.org/event/yoga-at-the-willows-park-preserve-off-site/
END:VEVENT
END:VCALENDAR