BEGIN:VCALENDAR
VERSION:2.0
PRODID:-//Wayne Senior Center - ECPv6.15.20//NONSGML v1.0//EN
CALSCALE:GREGORIAN
METHOD:PUBLISH
X-WR-CALNAME:Wayne Senior Center
X-ORIGINAL-URL:https://wayneseniorcenter.org
X-WR-CALDESC:Events for Wayne Senior Center
REFRESH-INTERVAL;VALUE=DURATION:PT1H
X-Robots-Tag:noindex
X-PUBLISHED-TTL:PT1H
BEGIN:VTIMEZONE
TZID:UTC
BEGIN:STANDARD
TZOFFSETFROM:+0000
TZOFFSETTO:+0000
TZNAME:UTC
DTSTART:20230101T000000
END:STANDARD
END:VTIMEZONE
BEGIN:VEVENT
DTSTART;TZID=UTC:20241121T120000
DTEND;TZID=UTC:20241121T130000
DTSTAMP:20260423T081842
CREATED:20241022T190043Z
LAST-MODIFIED:20241022T190043Z
UID:14406-1732190400-1732194000@wayneseniorcenter.org
SUMMARY:The Men's Group
DESCRIPTION:Catch up with friends over lunch and discuss topics related to men’s lives – hobbies\, family stories\, retirement\, career reflections\, mental & physical health\, or whatever else is on your mind. Call to reserve a Center lunch\, bring your own\, or just stop by to chat.
URL:https://wayneseniorcenter.org/event/the-mens-group-4/
END:VEVENT
BEGIN:VEVENT
DTSTART;TZID=UTC:20241121T110000
DTEND;TZID=UTC:20241121T120000
DTSTAMP:20260423T081842
CREATED:20241022T190042Z
LAST-MODIFIED:20241022T190042Z
UID:14405-1732186800-1732190400@wayneseniorcenter.org
SUMMARY:Sit\, Move\, Stretch
DESCRIPTION:This class offers seated or standing: cardio movement\, strengthening\, deep breathing\, and stretching. In-Person fees – free for WSC members\, $3 for non-members.
URL:https://wayneseniorcenter.org/event/sit-move-stretch-13/
END:VEVENT
BEGIN:VEVENT
DTSTART;TZID=UTC:20241121T101500
DTEND;TZID=UTC:20241121T110000
DTSTAMP:20260423T081842
CREATED:20241022T190044Z
LAST-MODIFIED:20241022T190044Z
UID:14408-1732184100-1732186800@wayneseniorcenter.org
SUMMARY:Thanksgiving Jeopardy
DESCRIPTION:Test your Thanksgiving knowledge with fun Thanksgiving-themed Jeopardy.
URL:https://wayneseniorcenter.org/event/thanksgiving-jeopardy/
END:VEVENT
BEGIN:VEVENT
DTSTART;TZID=UTC:20241121T093000
DTEND;TZID=UTC:20241121T103000
DTSTAMP:20260423T081842
CREATED:20241022T190044Z
LAST-MODIFIED:20241022T190044Z
UID:14407-1732181400-1732185000@wayneseniorcenter.org
SUMMARY:Zumba Gold
DESCRIPTION:Keep your body moving\, enjoy lively music\, and have fun dancing your cares away. $3 members / $6 non-members
URL:https://wayneseniorcenter.org/event/zumba-gold-7/
END:VEVENT
BEGIN:VEVENT
DTSTART;TZID=UTC:20241121T090000
DTEND;TZID=UTC:20241121T110000
DTSTAMP:20260423T081842
CREATED:20241022T190029Z
LAST-MODIFIED:20241022T190029Z
UID:14403-1732179600-1732186800@wayneseniorcenter.org
SUMMARY:Blood Pressure Screenings
DESCRIPTION:Are you trying to keep track of your blood pressure readings? Have questions about a medication or just need a listening ear? Stop by and speak 1:1 with a nurse.
URL:https://wayneseniorcenter.org/event/blood-pressure-screenings-4/
END:VEVENT
BEGIN:VEVENT
DTSTART;TZID=UTC:20241120T123000
DTEND;TZID=UTC:20241120T133000
DTSTAMP:20260423T081842
CREATED:20241022T190015Z
LAST-MODIFIED:20241022T190015Z
UID:14399-1732105800-1732109400@wayneseniorcenter.org
SUMMARY:Fooling with Ukes
DESCRIPTION:Dust off your ukes and join Barbara Van Clief (Barley) for a few practice sessions. Learn to play various popular songs with a group of individuals who share your passion for music!
URL:https://wayneseniorcenter.org/event/fooling-with-ukes-6/
END:VEVENT
BEGIN:VEVENT
DTSTART;TZID=UTC:20241120T120000
DTEND;TZID=UTC:20241120T140000
DTSTAMP:20260423T081842
CREATED:20241022T190028Z
LAST-MODIFIED:20241022T190028Z
UID:14401-1732104000-1732111200@wayneseniorcenter.org
SUMMARY:Pizza and a Movie: Thelma
DESCRIPTION:Join us for a viewing of the film\, “Thelma”\, starring June Squib. When 93-year-old Thelma Post gets duped by a phone scammer pretending to be her grandson\, she sets out on a treacherous quest across the city to reclaim what was taken from her.
URL:https://wayneseniorcenter.org/event/pizza-and-a-movie-thelma/
END:VEVENT
BEGIN:VEVENT
DTSTART;TZID=UTC:20241120T113000
DTEND;TZID=UTC:20241120T123000
DTSTAMP:20260423T081842
CREATED:20241022T190014Z
LAST-MODIFIED:20241022T190014Z
UID:14398-1732102200-1732105800@wayneseniorcenter.org
SUMMARY:Fitness Trainer Help
DESCRIPTION:Do you need assistance with the fitness center equipment? Stop by to see fitness trainer Kenny to get help with the equipment and ask questions about your fitness routine. You must be a fitness center member.
URL:https://wayneseniorcenter.org/event/fitness-trainer-help-7/
END:VEVENT
BEGIN:VEVENT
DTSTART;TZID=UTC:20241120T110000
DTEND;TZID=UTC:20241120T120000
DTSTAMP:20260423T081842
CREATED:20241022T190029Z
LAST-MODIFIED:20241022T190029Z
UID:14402-1732100400-1732104000@wayneseniorcenter.org
SUMMARY:Tai Chi
DESCRIPTION:Tai Chi is a gentle form of exercise involving a series of graceful movements performed in a slow\, focused manner and accompanied by deep breathing. Excellent for strengthening balance and promoting stress reduction. In-Person fees – $5 for WSC members\, $10 for non-members.
URL:https://wayneseniorcenter.org/event/tai-chi-16/
END:VEVENT
BEGIN:VEVENT
DTSTART;TZID=UTC:20241120T110000
DTEND;TZID=UTC:20241120T120000
DTSTAMP:20260423T081842
CREATED:20241022T190027Z
LAST-MODIFIED:20241022T190027Z
UID:14400-1732100400-1732104000@wayneseniorcenter.org
SUMMARY:Pageturners Bookclub
DESCRIPTION:This month’s selection is “The Measure” by Nikki Erlick. When every person\, all over the globe\, receives a small wooden box bearing the same inscription and a single piece of string inside\, the world is thrown into a collective frenzy\, in this novel told through multiple perspectives that introduces an unforgettable cast of characters. Enjoy lively book conversation with a Radnor Memorial Library librarian. All are welcome! Call for more info – (610)688-6246
URL:https://wayneseniorcenter.org/event/pageturners-bookclub-2/
END:VEVENT
BEGIN:VEVENT
DTSTART;TZID=UTC:20241120T100000
DTEND;TZID=UTC:20241120T110000
DTSTAMP:20260423T081842
CREATED:20241022T190014Z
LAST-MODIFIED:20241022T190014Z
UID:14397-1732096800-1732100400@wayneseniorcenter.org
SUMMARY:Coffee Talk with Radnor Police Chaplain
DESCRIPTION:Enjoy coffee\, pastries\, and meaningful discussion with a visiting Radnor Police Chaplain.
URL:https://wayneseniorcenter.org/event/coffee-talk-with-radnor-police-chaplain-2/
END:VEVENT
BEGIN:VEVENT
DTSTART;TZID=UTC:20241119T150000
DTEND;TZID=UTC:20241119T160000
DTSTAMP:20260423T081842
CREATED:20241022T185957Z
LAST-MODIFIED:20241022T185957Z
UID:14390-1732028400-1732032000@wayneseniorcenter.org
SUMMARY:Memoir Writing (Virtual)
DESCRIPTION:Join Sara Wenger\, MFA for a memoir writing workshop. Sara will share memoir excerpts as well as writing exercises to help you write your unique life experiences so they can be passed on to children\, grandchildren\, friends and others. No prior writing experience is necessary! The class is appropriate for both novice and seasoned writers
URL:https://wayneseniorcenter.org/event/memoir-writing-virtual-14/
END:VEVENT
BEGIN:VEVENT
DTSTART;TZID=UTC:20241119T123000
DTEND;TZID=UTC:20241119T133000
DTSTAMP:20260423T081842
CREATED:20241022T185958Z
LAST-MODIFIED:20241022T185958Z
UID:14391-1732019400-1732023000@wayneseniorcenter.org
SUMMARY:Mindfulness
DESCRIPTION:Practicing mindfulness provides countless benefits to our overall well-being. Join instructor Liz for an hour of virtual mindfulness.
URL:https://wayneseniorcenter.org/event/mindfulness-7/
END:VEVENT
BEGIN:VEVENT
DTSTART;TZID=UTC:20241119T121500
DTEND;TZID=UTC:20241119T130000
DTSTAMP:20260423T081842
CREATED:20241022T190000Z
LAST-MODIFIED:20241022T190000Z
UID:14394-1732018500-1732021200@wayneseniorcenter.org
SUMMARY:Shipley School Kindergarten Visit
DESCRIPTION:The kindergarten classes from Shipley School will be visiting WSC this fall. The children will share some songs\, cards\, and fall decorations with us.
URL:https://wayneseniorcenter.org/event/shipley-school-kindergarten-visit-2/
END:VEVENT
BEGIN:VEVENT
DTSTART;TZID=UTC:20241119T120000
DTEND;TZID=UTC:20241119T130000
DTSTAMP:20260423T081842
CREATED:20241022T185945Z
LAST-MODIFIED:20241022T185945Z
UID:14389-1732017600-1732021200@wayneseniorcenter.org
SUMMARY:Let's Do Lunch!
DESCRIPTION:Let’s do lunch together! Please see the menu in the newsletter for details on each meal. $5 members / $8 non-members. RSVP required\, in-center dining only.
URL:https://wayneseniorcenter.org/event/lets-do-lunch-4/
END:VEVENT
BEGIN:VEVENT
DTSTART;TZID=UTC:20241119T110000
DTEND;TZID=UTC:20241119T120000
DTSTAMP:20260423T081842
CREATED:20241022T185959Z
LAST-MODIFIED:20241022T185959Z
UID:14392-1732014000-1732017600@wayneseniorcenter.org
SUMMARY:Sit\, Move\, Stretch
DESCRIPTION:This class offers seated or standing: cardio movement\, strengthening\, deep breathing\, and stretching. In-Person fees – free for WSC members\, $3 for non-members.
URL:https://wayneseniorcenter.org/event/sit-move-stretch-12/
END:VEVENT
BEGIN:VEVENT
DTSTART;TZID=UTC:20241119T101500
DTEND;TZID=UTC:20241119T110000
DTSTAMP:20260423T081842
CREATED:20241022T190013Z
LAST-MODIFIED:20241022T190013Z
UID:14396-1732011300-1732014000@wayneseniorcenter.org
SUMMARY:Mason Jar Fall Lantern Craft
DESCRIPTION:Keep the fall colors alive this season by creating your own mason jar fall lantern. Join Andrea as we use a few simple supplies to illuminate your home this fall!
URL:https://wayneseniorcenter.org/event/mason-jar-fall-lantern-craft/
END:VEVENT
BEGIN:VEVENT
DTSTART;TZID=UTC:20241119T100000
DTEND;TZID=UTC:20241119T110000
DTSTAMP:20260423T081842
CREATED:20241022T190012Z
LAST-MODIFIED:20241022T193347Z
UID:14395-1732010400-1732014000@wayneseniorcenter.org
SUMMARY:What's New in iOS 18?
DESCRIPTION:The latest major update to your iPhone’s software included changes to the Photos app and the addition of many other talked-about features including texting via satellite. Come by to learn about some of these changes whether you’ve already updated\, recently got a new phone\, or are debating whether or not you should update.
URL:https://wayneseniorcenter.org/event/whats-new-in-ios-18/
END:VEVENT
BEGIN:VEVENT
DTSTART;TZID=UTC:20241119T093000
DTEND;TZID=UTC:20241119T103000
DTSTAMP:20260423T081842
CREATED:20241022T185944Z
LAST-MODIFIED:20241022T185944Z
UID:14388-1732008600-1732012200@wayneseniorcenter.org
SUMMARY:Brain Fit
DESCRIPTION:Join Andrea as we exercise our brain with fun word puzzles and brain teasers!
URL:https://wayneseniorcenter.org/event/brain-fit-6/
END:VEVENT
BEGIN:VEVENT
DTSTART;TZID=UTC:20241119T090000
DTEND;TZID=UTC:20241119T110000
DTSTAMP:20260423T081842
CREATED:20241022T185959Z
LAST-MODIFIED:20241022T185959Z
UID:14393-1732006800-1732014000@wayneseniorcenter.org
SUMMARY:Tech Tuesday
DESCRIPTION:Stop by during this time with your tech questions or email Francis at francis@wayneseniorcenter.org to make an appointment. Some Tuesdays will feature a workshop on a certain topic starting at 10am.
URL:https://wayneseniorcenter.org/event/tech-tuesday-6/
END:VEVENT
BEGIN:VEVENT
DTSTART;TZID=UTC:20241118T123000
DTEND;TZID=UTC:20241118T133000
DTSTAMP:20260423T081842
CREATED:20241022T185943Z
LAST-MODIFIED:20241022T185943Z
UID:14386-1731933000-1731936600@wayneseniorcenter.org
SUMMARY:Tai Chi
DESCRIPTION:Tai Chi is a gentle form of exercise involving a series of graceful movements performed in a slow\, focused manner and accompanied by deep breathing. Excellent for strengthening balance and promoting stress reduction. In-Person fees – $5 for WSC members\, $10 for non-members.
URL:https://wayneseniorcenter.org/event/tai-chi-15/
END:VEVENT
BEGIN:VEVENT
DTSTART;TZID=UTC:20241118T110000
DTEND;TZID=UTC:20241118T120000
DTSTAMP:20260423T081842
CREATED:20241022T185942Z
LAST-MODIFIED:20241022T185942Z
UID:14385-1731927600-1731931200@wayneseniorcenter.org
SUMMARY:Soul Line Dance
DESCRIPTION:Kenny James will get you moving and grooving in a fun\, easy to learn dance class. No experience necessary – all can join. $3 members / $6 non-members.
URL:https://wayneseniorcenter.org/event/soul-line-dance-6/
END:VEVENT
BEGIN:VEVENT
DTSTART;TZID=UTC:20241118T100000
DTEND;TZID=UTC:20241118T120000
DTSTAMP:20260423T081842
CREATED:20241022T185944Z
LAST-MODIFIED:20241022T185944Z
UID:14387-1731924000-1731931200@wayneseniorcenter.org
SUMMARY:WSC Quilters
DESCRIPTION:WSC quiliting club. All skill levels Welcome. Come by or RSVP by calling the center – (610) 688-6246
URL:https://wayneseniorcenter.org/event/wsc-quilters-7/
END:VEVENT
BEGIN:VEVENT
DTSTART;TZID=UTC:20241118T100000
DTEND;TZID=UTC:20241118T120000
DTSTAMP:20260423T081842
CREATED:20241022T185929Z
LAST-MODIFIED:20241022T185929Z
UID:14383-1731924000-1731931200@wayneseniorcenter.org
SUMMARY:Refresher Bridge
DESCRIPTION:Brush up on your bridge skills with Lawrie Stetson and Dave Heron. Must have previous bridge experience.
URL:https://wayneseniorcenter.org/event/refresher-bridge-7/
END:VEVENT
BEGIN:VEVENT
DTSTART;TZID=UTC:20241118T100000
DTEND;TZID=UTC:20241118T110000
DTSTAMP:20260423T081842
CREATED:20241022T185930Z
LAST-MODIFIED:20241022T185930Z
UID:14384-1731924000-1731927600@wayneseniorcenter.org
SUMMARY:Silver Sneakers Classic
DESCRIPTION:Focus on strengthening muscles and increasing range of motion using light weights\, stretch bands\, and exercise balls.
URL:https://wayneseniorcenter.org/event/silver-sneakers-classic-12/
END:VEVENT
BEGIN:VEVENT
DTSTART;TZID=UTC:20241115T103000
DTEND;TZID=UTC:20241115T113000
DTSTAMP:20260423T081842
CREATED:20241022T185928Z
LAST-MODIFIED:20241022T185928Z
UID:14381-1731666600-1731670200@wayneseniorcenter.org
SUMMARY:Chair Yoga
DESCRIPTION:A well-rounded class that will help with balance\, strengthening\, and relaxation. Have a sturdy chair available. All abilities welcome. In-Person fees – $3 for WSC members\, $6 for non-members.
URL:https://wayneseniorcenter.org/event/chair-yoga-7/
END:VEVENT
BEGIN:VEVENT
DTSTART;TZID=UTC:20241115T093000
DTEND;TZID=UTC:20241115T103000
DTSTAMP:20260423T081842
CREATED:20241022T185929Z
LAST-MODIFIED:20241022T185929Z
UID:14382-1731663000-1731666600@wayneseniorcenter.org
SUMMARY:Senior Circuit
DESCRIPTION:Join us for a dynamic strength-building\, full-body workout utilizing bands\, weights\, and balls as we cycle through various stations.
URL:https://wayneseniorcenter.org/event/senior-circuit-7/
END:VEVENT
BEGIN:VEVENT
DTSTART;TZID=UTC:20241114T130000
DTEND;TZID=UTC:20241114T150000
DTSTAMP:20260423T081842
CREATED:20241022T185851Z
LAST-MODIFIED:20241022T185851Z
UID:14377-1731589200-1731596400@wayneseniorcenter.org
SUMMARY:Cards and Games: Open Play
DESCRIPTION:Join us for an afternoon playing games of your choice- Poker\, gin rummy\, pinochle\, mahjong etc. Meet a new friend and start a game of your own. Mahjong teachers/leaders feel free to bring your game set!
URL:https://wayneseniorcenter.org/event/cards-and-games-open-play-7/
END:VEVENT
BEGIN:VEVENT
DTSTART;TZID=UTC:20241114T120000
DTEND;TZID=UTC:20241114T130000
DTSTAMP:20260423T081842
CREATED:20241022T185927Z
LAST-MODIFIED:20241022T193424Z
UID:14380-1731585600-1731589200@wayneseniorcenter.org
SUMMARY:Thanksgiving Lunch
DESCRIPTION:Gather around the table for a delicious\, catered Thanksgiving lunch with your friends at Wayne Senior Center. RSVP and pay by November 8\, $6 for members $10 non-members.
URL:https://wayneseniorcenter.org/event/thanksgiving-lunch/
END:VEVENT
BEGIN:VEVENT
DTSTART;TZID=UTC:20241114T113000
DTEND;TZID=UTC:20241114T120000
DTSTAMP:20260423T081842
CREATED:20241022T185852Z
LAST-MODIFIED:20241022T185852Z
UID:14379-1731583800-1731585600@wayneseniorcenter.org
SUMMARY:Mountain Dulcimer with Gail Garin
DESCRIPTION:Join us at the Center as Gail Garin entertains us with her Mountain Dulcimer\, performing a selection of traditional American and British/Irish classics. Join us around the table afterwards for our Thanksgiving lunch!
URL:https://wayneseniorcenter.org/event/mountain-dulcimer-with-gail-garin/
END:VEVENT
END:VCALENDAR