BEGIN:VCALENDAR
VERSION:2.0
PRODID:-//Wayne Senior Center - ECPv6.15.20//NONSGML v1.0//EN
CALSCALE:GREGORIAN
METHOD:PUBLISH
X-WR-CALNAME:Wayne Senior Center
X-ORIGINAL-URL:https://wayneseniorcenter.org
X-WR-CALDESC:Events for Wayne Senior Center
REFRESH-INTERVAL;VALUE=DURATION:PT1H
X-Robots-Tag:noindex
X-PUBLISHED-TTL:PT1H
BEGIN:VTIMEZONE
TZID:UTC
BEGIN:STANDARD
TZOFFSETFROM:+0000
TZOFFSETTO:+0000
TZNAME:UTC
DTSTART:20240101T000000
END:STANDARD
END:VTIMEZONE
BEGIN:VEVENT
DTSTART;TZID=UTC:20250827T100000
DTEND;TZID=UTC:20250827T110000
DTSTAMP:20260423T015956
CREATED:20250728T130137Z
LAST-MODIFIED:20250728T130137Z
UID:15687-1756288800-1756292400@wayneseniorcenter.org
SUMMARY:Coffee Talk with Radnor Police Chaplain
DESCRIPTION:Enjoy coffee\, pastries\, and meaningful discussion with a visiting Radnor Police Chaplain.
URL:https://wayneseniorcenter.org/event/coffee-talk-with-radnor-police-chaplain-11/
END:VEVENT
BEGIN:VEVENT
DTSTART;TZID=UTC:20250827T111500
DTEND;TZID=UTC:20250827T120000
DTSTAMP:20260423T015956
CREATED:20250728T130140Z
LAST-MODIFIED:20250728T130140Z
UID:15690-1756293300-1756296000@wayneseniorcenter.org
SUMMARY:Soul Line Dancing
DESCRIPTION:Kenny James will get you moving and grooving in a fun\, easy to learn dance class. No experience necessary – all can join. $3 members / $6 non-members.
URL:https://wayneseniorcenter.org/event/soul-line-dancing-63/
END:VEVENT
BEGIN:VEVENT
DTSTART;TZID=UTC:20250827T123000
DTEND;TZID=UTC:20250827T133000
DTSTAMP:20260423T015956
CREATED:20250728T130138Z
LAST-MODIFIED:20250728T130138Z
UID:15688-1756297800-1756301400@wayneseniorcenter.org
SUMMARY:Fooling with Ukes
DESCRIPTION:Dust off your ukes and join Barbara Van Clief (Barley) for a few practice sessions. Learn to play various popular songs with a group of individuals who share your passion for music!
URL:https://wayneseniorcenter.org/event/fooling-with-ukes-31/
END:VEVENT
BEGIN:VEVENT
DTSTART;TZID=UTC:20250827T123000
DTEND;TZID=UTC:20250827T133000
DTSTAMP:20260423T015956
CREATED:20250728T130139Z
LAST-MODIFIED:20250728T130139Z
UID:15689-1756297800-1756301400@wayneseniorcenter.org
SUMMARY:Silver Sneakers Classic
DESCRIPTION:Focus on strengthening muscles and increasing range of motion using light weights\, stretch bands\, and exercise balls.
URL:https://wayneseniorcenter.org/event/silver-sneakers-classic-85/
END:VEVENT
BEGIN:VEVENT
DTSTART;TZID=UTC:20250827T140000
DTEND;TZID=UTC:20250827T140000
DTSTAMP:20260423T015956
CREATED:20250728T130151Z
LAST-MODIFIED:20250728T130151Z
UID:15691-1756303200-1756303200@wayneseniorcenter.org
SUMMARY:Tai Chi
DESCRIPTION:Tai Chi is a gentle form of exercise involving a series of graceful movements performed in a slow\, focused manner and accompanied by deep breathing. Excellent for strengthening balance and promoting stress reduction. In-Person fees – $5 for WSC members\, $10 for non-members.
URL:https://wayneseniorcenter.org/event/tai-chi-55/
END:VEVENT
BEGIN:VEVENT
DTSTART;TZID=UTC:20250828T093000
DTEND;TZID=UTC:20250828T104500
DTSTAMP:20260423T015956
CREATED:20250728T130154Z
LAST-MODIFIED:20250728T130154Z
UID:15694-1756373400-1756377900@wayneseniorcenter.org
SUMMARY:Fresh Start
DESCRIPTION:Join us for Fresh Start—our new\, nutritious and delicious breakfast program! Breakfast will be served every Tuesday and Thursdayfrom 9:30 AM to 10:45 AM. Cost is $3.\nMeals are available on a first-come\, first-served basis\, so be sure to arrive early!\n Please note: the menu is subject to change.
URL:https://wayneseniorcenter.org/event/fresh-start-24/
END:VEVENT
BEGIN:VEVENT
DTSTART;TZID=UTC:20250828T100000
DTEND;TZID=UTC:20250828T110000
DTSTAMP:20260423T015956
CREATED:20250728T130152Z
LAST-MODIFIED:20250728T133250Z
UID:15692-1756375200-1756378800@wayneseniorcenter.org
SUMMARY:Cardio Drumming with Andrea
DESCRIPTION:Join Andrea once a month for a fun\, rhythmic\, seated exercise class that gets you moving and grooving. Each month will have a fun theme! $3 for members\, $6 non-members
URL:https://wayneseniorcenter.org/event/cardio-drumming-with-andrea-10/
ATTACH;FMTTYPE=image/png:https://wayneseniorcenter.org/wp-content/uploads/2025/07/0828-Cardio-Drumming.png
END:VEVENT
BEGIN:VEVENT
DTSTART;TZID=UTC:20250828T110000
DTEND;TZID=UTC:20250828T120000
DTSTAMP:20260423T015956
CREATED:20250728T130206Z
LAST-MODIFIED:20250728T130206Z
UID:15696-1756378800-1756382400@wayneseniorcenter.org
SUMMARY:Sit\, Move\, Stretch
DESCRIPTION:This class offers seated or standing: cardio movement\, strengthening\, deep breathing\, and stretching. In-Person fees – free for WSC members\, $3 for non-members.
URL:https://wayneseniorcenter.org/event/sit-move-stretch-87/
END:VEVENT
BEGIN:VEVENT
DTSTART;TZID=UTC:20250828T123000
DTEND;TZID=UTC:20250828T143000
DTSTAMP:20260423T015956
CREATED:20250728T130155Z
LAST-MODIFIED:20250728T130155Z
UID:15695-1756384200-1756391400@wayneseniorcenter.org
SUMMARY:Popcorn & A Movie: "Heads of State"
DESCRIPTION:Join us for a viewing for the film\, “Heads of State” (2025). U.S. President Will Derringer and British Prime Minister Sam Clarke have a not-so-friendly and very public rivalry. However\, when Air Force One gets shot down over enemy territory\, they find themselves on the run and working together to thwart a global conspiracy that threatens the entire free world.
URL:https://wayneseniorcenter.org/event/popcorn-a-movie-heads-of-state/
END:VEVENT
BEGIN:VEVENT
DTSTART;TZID=UTC:20250828T130000
DTEND;TZID=UTC:20250828T150000
DTSTAMP:20260423T015956
CREATED:20250728T130153Z
LAST-MODIFIED:20250728T130153Z
UID:15693-1756386000-1756393200@wayneseniorcenter.org
SUMMARY:Cards and Games: Open Play
DESCRIPTION:Join us for an afternoon playing games of your choice- Poker\, gin rummy\, pinochle\, mahjong etc. Meet a new friend and start a game of your own. Mahjong teachers/leaders feel free to bring your game set!
URL:https://wayneseniorcenter.org/event/cards-and-games-open-play-46/
END:VEVENT
BEGIN:VEVENT
DTSTART;TZID=UTC:20250829T093000
DTEND;TZID=UTC:20250829T103000
DTSTAMP:20260423T015956
CREATED:20250728T130208Z
LAST-MODIFIED:20250728T130208Z
UID:15698-1756459800-1756463400@wayneseniorcenter.org
SUMMARY:Senior Circuit
DESCRIPTION:Join us for a dynamic strength-building\, full-body workout utilizing bands\, weights\, and balls as we cycle through various stations.
URL:https://wayneseniorcenter.org/event/senior-circuit-42/
END:VEVENT
BEGIN:VEVENT
DTSTART;TZID=UTC:20250829T103000
DTEND;TZID=UTC:20250829T113000
DTSTAMP:20260423T015956
CREATED:20250728T130207Z
LAST-MODIFIED:20250728T130207Z
UID:15697-1756463400-1756467000@wayneseniorcenter.org
SUMMARY:Chair Yoga
DESCRIPTION:A well-rounded class that will help with balance\, strengthening\, and relaxation. Have a sturdy chair available. All abilities welcome. In-Person fees – $3 for WSC members\, $6 for non-members.
URL:https://wayneseniorcenter.org/event/chair-yoga-44/
END:VEVENT
BEGIN:VEVENT
DTSTART;TZID=UTC:20250902T093000
DTEND;TZID=UTC:20250902T103000
DTSTAMP:20260423T015956
CREATED:20250822T142309Z
LAST-MODIFIED:20250822T142309Z
UID:15779-1756805400-1756809000@wayneseniorcenter.org
SUMMARY:Walking Club (Off-Site)
DESCRIPTION:Join WSC friends for a walk on the Radnor trail – weather permitting. Walkers meet at the trail parking lot (520 Conestoga Road). All abilities welcome. Wear comfortable walking shoes.
URL:https://wayneseniorcenter.org/event/walking-club-off-site-40/
END:VEVENT
BEGIN:VEVENT
DTSTART;TZID=UTC:20250902T093000
DTEND;TZID=UTC:20250902T104500
DTSTAMP:20260423T015956
CREATED:20250822T142302Z
LAST-MODIFIED:20250822T142302Z
UID:15776-1756805400-1756809900@wayneseniorcenter.org
SUMMARY:Fresh Start
DESCRIPTION:Join us for Fresh Start—our new\, nutritious and delicious breakfast program! Breakfast will be served every Tuesday and Thursdayfrom 9:30 AM to 10:45 AM. Cost is $3.\nMeals are available on a first-come\, first-served basis\, so be sure to arrive early!\n Please note: the menu is subject to change.
URL:https://wayneseniorcenter.org/event/fresh-start-25/
END:VEVENT
BEGIN:VEVENT
DTSTART;TZID=UTC:20250902T101500
DTEND;TZID=UTC:20250902T110000
DTSTAMP:20260423T015956
CREATED:20250822T142310Z
LAST-MODIFIED:20250822T142310Z
UID:15780-1756808100-1756810800@wayneseniorcenter.org
SUMMARY:DIY Affirmation Cards
DESCRIPTION:Join us as we kick off National Senior Center Month with a fun and meaningful craft. Create your own personalized affirmation card – small\, powerful reminders that highlight your strength\, wisdom\, and joy. Uplift yourself and others and add a little daily positivity to your life. Call or visit the Center to register!
URL:https://wayneseniorcenter.org/event/diy-affirmation-cards/
END:VEVENT
BEGIN:VEVENT
DTSTART;TZID=UTC:20250902T110000
DTEND;TZID=UTC:20250902T120000
DTSTAMP:20260423T015956
CREATED:20250822T142308Z
LAST-MODIFIED:20250822T142308Z
UID:15778-1756810800-1756814400@wayneseniorcenter.org
SUMMARY:Sit\, Move\, Stretch
DESCRIPTION:This class offers seated or standing: cardio movement\, strengthening\, deep breathing\, and stretching. In-Person fees – free for WSC members\, $3 for non-members.
URL:https://wayneseniorcenter.org/event/sit-move-stretch-88/
END:VEVENT
BEGIN:VEVENT
DTSTART;TZID=UTC:20250902T123000
DTEND;TZID=UTC:20250902T133000
DTSTAMP:20260423T015956
CREATED:20250822T142307Z
LAST-MODIFIED:20250822T142307Z
UID:15777-1756816200-1756819800@wayneseniorcenter.org
SUMMARY:Mindfulness
DESCRIPTION:Practicing mindfulness provides countless benefits to our overall well-being. Join instructor Liz for an hour of virtual mindfulness.
URL:https://wayneseniorcenter.org/event/mindfulness-45/
END:VEVENT
BEGIN:VEVENT
DTSTART;TZID=UTC:20250903T101500
DTEND;TZID=UTC:20250903T110000
DTSTAMP:20260423T015956
CREATED:20250822T142317Z
LAST-MODIFIED:20250822T142317Z
UID:15785-1756894500-1756897200@wayneseniorcenter.org
SUMMARY:Decade Trivia (1950s / 60s)
DESCRIPTION:We are turning back the clock with Decade Trivia. Test your knowledge. Come for the nostalgia\, stay for the laughs\, and see which decade is your trivia sweet spot.
URL:https://wayneseniorcenter.org/event/decade-trivia-1950s-60s/
END:VEVENT
BEGIN:VEVENT
DTSTART;TZID=UTC:20250903T111500
DTEND;TZID=UTC:20250903T120000
DTSTAMP:20260423T015956
CREATED:20250822T142316Z
LAST-MODIFIED:20250822T142316Z
UID:15783-1756898100-1756900800@wayneseniorcenter.org
SUMMARY:Soul Line Dancing
DESCRIPTION:Kenny James will get you moving and grooving in a fun\, easy to learn dance class. No experience necessary – all can join. $3 members / $6 non-members.
URL:https://wayneseniorcenter.org/event/soul-line-dancing-64/
END:VEVENT
BEGIN:VEVENT
DTSTART;TZID=UTC:20250903T123000
DTEND;TZID=UTC:20250903T133000
DTSTAMP:20260423T015956
CREATED:20250822T142314Z
LAST-MODIFIED:20250822T142314Z
UID:15781-1756902600-1756906200@wayneseniorcenter.org
SUMMARY:Fooling with Ukes
DESCRIPTION:Dust off your ukes and join Barbara Van Clief (Barley) for a few practice sessions. Learn to play various popular songs with a group of individuals who share your passion for music!
URL:https://wayneseniorcenter.org/event/fooling-with-ukes-32/
END:VEVENT
BEGIN:VEVENT
DTSTART;TZID=UTC:20250903T123000
DTEND;TZID=UTC:20250903T133000
DTSTAMP:20260423T015956
CREATED:20250822T142314Z
LAST-MODIFIED:20250822T142314Z
UID:15782-1756902600-1756906200@wayneseniorcenter.org
SUMMARY:Silver Sneakers Classic
DESCRIPTION:Focus on strengthening muscles and increasing range of motion using light weights\, stretch bands\, and exercise balls.
URL:https://wayneseniorcenter.org/event/silver-sneakers-classic-86/
END:VEVENT
BEGIN:VEVENT
DTSTART;TZID=UTC:20250903T140000
DTEND;TZID=UTC:20250903T140000
DTSTAMP:20260423T015956
CREATED:20250822T142316Z
LAST-MODIFIED:20250822T142316Z
UID:15784-1756908000-1756908000@wayneseniorcenter.org
SUMMARY:Tai Chi
DESCRIPTION:Tai Chi is a gentle form of exercise involving a series of graceful movements performed in a slow\, focused manner and accompanied by deep breathing. Excellent for strengthening balance and promoting stress reduction. In-Person fees – $5 for WSC members\, $10 for non-members.
URL:https://wayneseniorcenter.org/event/tai-chi-56/
END:VEVENT
BEGIN:VEVENT
DTSTART;TZID=UTC:20250904T090000
DTEND;TZID=UTC:20250904T110000
DTSTAMP:20260423T015956
CREATED:20250822T142320Z
LAST-MODIFIED:20250822T142320Z
UID:15786-1756976400-1756983600@wayneseniorcenter.org
SUMMARY:Blood Pressure Screenings
DESCRIPTION:Are you trying to keep track of your blood pressure readings? Have questions about a medication or just need a listening ear? Stop by and speak 1:1 with a nurse.
URL:https://wayneseniorcenter.org/event/blood-pressure-screenings-23/
END:VEVENT
BEGIN:VEVENT
DTSTART;TZID=UTC:20250904T093000
DTEND;TZID=UTC:20250904T104500
DTSTAMP:20260423T015956
CREATED:20250822T142322Z
LAST-MODIFIED:20250822T142322Z
UID:15788-1756978200-1756982700@wayneseniorcenter.org
SUMMARY:Fresh Start
DESCRIPTION:Join us for Fresh Start—our new\, nutritious and delicious breakfast program! Breakfast will be served every Tuesday and Thursdayfrom 9:30 AM to 10:45 AM. Cost is $3.\nMeals are available on a first-come\, first-served basis\, so be sure to arrive early!\n Please note: the menu is subject to change.
URL:https://wayneseniorcenter.org/event/fresh-start-26/
END:VEVENT
BEGIN:VEVENT
DTSTART;TZID=UTC:20250904T100000
DTEND;TZID=UTC:20250904T110000
DTSTAMP:20260423T015956
CREATED:20250822T142356Z
LAST-MODIFIED:20250822T142356Z
UID:15792-1756980000-1756983600@wayneseniorcenter.org
SUMMARY:Eagles Kickoff Celebration
DESCRIPTION:Join us as we kick off the football season with an Eagles-themed celebration. Let’s cheer on the Birds and get pumped up for a great season!
URL:https://wayneseniorcenter.org/event/eagles-kickoff-celebration/
END:VEVENT
BEGIN:VEVENT
DTSTART;TZID=UTC:20250904T110000
DTEND;TZID=UTC:20250904T120000
DTSTAMP:20260423T015956
CREATED:20250822T142324Z
LAST-MODIFIED:20250822T142324Z
UID:15790-1756983600-1756987200@wayneseniorcenter.org
SUMMARY:Sit\, Move\, Stretch
DESCRIPTION:This class offers seated or standing: cardio movement\, strengthening\, deep breathing\, and stretching. In-Person fees – free for WSC members\, $3 for non-members.
URL:https://wayneseniorcenter.org/event/sit-move-stretch-89/
END:VEVENT
BEGIN:VEVENT
DTSTART;TZID=UTC:20250904T110000
DTEND;TZID=UTC:20250904T130000
DTSTAMP:20260423T015956
CREATED:20250822T142323Z
LAST-MODIFIED:20250822T142323Z
UID:15789-1756983600-1756990800@wayneseniorcenter.org
SUMMARY:Septa Key Card Renewals
DESCRIPTION:Join us on the first Thursday of each month for Septa Key Cardapplications and renewals and other constituent services with a representative from Sen. AmandaCappelletti’s office. The representative is here 11:00AM to 1:00PM\, no need to RSVP.
URL:https://wayneseniorcenter.org/event/septa-key-card-renewals-12/
END:VEVENT
BEGIN:VEVENT
DTSTART;TZID=UTC:20250904T120000
DTEND;TZID=UTC:20250904T130000
DTSTAMP:20260423T015956
CREATED:20250822T142355Z
LAST-MODIFIED:20250822T142355Z
UID:15791-1756987200-1756990800@wayneseniorcenter.org
SUMMARY:Men's Group
DESCRIPTION:Catch up with friends over lunch and discuss topics related to men’s lives – hobbies\, family stories\, retirement\, career reflections\, mental & physical health\, or whatever else is on your mind. Call to reserve a Center lunch\, bring your own\, or just stop by to chat.
URL:https://wayneseniorcenter.org/event/mens-group-4/
END:VEVENT
BEGIN:VEVENT
DTSTART;TZID=UTC:20250904T130000
DTEND;TZID=UTC:20250904T150000
DTSTAMP:20260423T015956
CREATED:20250822T142321Z
LAST-MODIFIED:20250822T142321Z
UID:15787-1756990800-1756998000@wayneseniorcenter.org
SUMMARY:Cards and Games: Open Play
DESCRIPTION:Join us for an afternoon playing games of your choice- Poker\, gin rummy\, pinochle\, mahjong etc. Meet a new friend and start a game of your own. Mahjong teachers/leaders feel free to bring your game set!
URL:https://wayneseniorcenter.org/event/cards-and-games-open-play-47/
END:VEVENT
BEGIN:VEVENT
DTSTART;TZID=UTC:20250905T093000
DTEND;TZID=UTC:20250905T103000
DTSTAMP:20260423T015956
CREATED:20250822T142358Z
LAST-MODIFIED:20250822T142358Z
UID:15794-1757064600-1757068200@wayneseniorcenter.org
SUMMARY:Senior Circuit
DESCRIPTION:Join us for a dynamic strength-building\, full-body workout utilizing bands\, weights\, and balls as we cycle through various stations.
URL:https://wayneseniorcenter.org/event/senior-circuit-43/
END:VEVENT
END:VCALENDAR