BEGIN:VCALENDAR
VERSION:2.0
PRODID:-//Wayne Senior Center - ECPv6.15.20//NONSGML v1.0//EN
CALSCALE:GREGORIAN
METHOD:PUBLISH
X-WR-CALNAME:Wayne Senior Center
X-ORIGINAL-URL:https://wayneseniorcenter.org
X-WR-CALDESC:Events for Wayne Senior Center
REFRESH-INTERVAL;VALUE=DURATION:PT1H
X-Robots-Tag:noindex
X-PUBLISHED-TTL:PT1H
BEGIN:VTIMEZONE
TZID:UTC
BEGIN:STANDARD
TZOFFSETFROM:+0000
TZOFFSETTO:+0000
TZNAME:UTC
DTSTART:20240101T000000
END:STANDARD
END:VTIMEZONE
BEGIN:VEVENT
DTSTART;TZID=UTC:20250820T111500
DTEND;TZID=UTC:20250820T120000
DTSTAMP:20260423T035005
CREATED:20250728T130024Z
LAST-MODIFIED:20250728T130024Z
UID:15664-1755688500-1755691200@wayneseniorcenter.org
SUMMARY:Soul Line Dancing
DESCRIPTION:Kenny James will get you moving and grooving in a fun\, easy to learn dance class. No experience necessary – all can join. $3 members / $6 non-members.
URL:https://wayneseniorcenter.org/event/soul-line-dancing-61/
END:VEVENT
BEGIN:VEVENT
DTSTART;TZID=UTC:20250820T123000
DTEND;TZID=UTC:20250820T133000
DTSTAMP:20260423T035005
CREATED:20250728T130021Z
LAST-MODIFIED:20250728T130021Z
UID:15661-1755693000-1755696600@wayneseniorcenter.org
SUMMARY:Fooling with Ukes
DESCRIPTION:Dust off your ukes and join Barbara Van Clief (Barley) for a few practice sessions. Learn to play various popular songs with a group of individuals who share your passion for music!
URL:https://wayneseniorcenter.org/event/fooling-with-ukes-30/
END:VEVENT
BEGIN:VEVENT
DTSTART;TZID=UTC:20250820T123000
DTEND;TZID=UTC:20250820T133000
DTSTAMP:20260423T035005
CREATED:20250728T130023Z
LAST-MODIFIED:20250728T130023Z
UID:15663-1755693000-1755696600@wayneseniorcenter.org
SUMMARY:Silver Sneakers Classic
DESCRIPTION:Focus on strengthening muscles and increasing range of motion using light weights\, stretch bands\, and exercise balls.
URL:https://wayneseniorcenter.org/event/silver-sneakers-classic-83/
END:VEVENT
BEGIN:VEVENT
DTSTART;TZID=UTC:20250820T140000
DTEND;TZID=UTC:20250820T140000
DTSTAMP:20260423T035005
CREATED:20250728T130025Z
LAST-MODIFIED:20250728T130025Z
UID:15665-1755698400-1755698400@wayneseniorcenter.org
SUMMARY:Tai Chi
DESCRIPTION:Tai Chi is a gentle form of exercise involving a series of graceful movements performed in a slow\, focused manner and accompanied by deep breathing. Excellent for strengthening balance and promoting stress reduction. In-Person fees – $5 for WSC members\, $10 for non-members.
URL:https://wayneseniorcenter.org/event/tai-chi-54/
END:VEVENT
BEGIN:VEVENT
DTSTART;TZID=UTC:20250821T090000
DTEND;TZID=UTC:20250821T110000
DTSTAMP:20260423T035005
CREATED:20250728T130037Z
LAST-MODIFIED:20250728T130037Z
UID:15667-1755766800-1755774000@wayneseniorcenter.org
SUMMARY:Blood Pressure Screenings
DESCRIPTION:Are you trying to keep track of your blood pressure readings? Have questions about a medication or just need a listening ear? Stop by and speak 1:1 with a nurse.
URL:https://wayneseniorcenter.org/event/blood-pressure-screenings-22/
END:VEVENT
BEGIN:VEVENT
DTSTART;TZID=UTC:20250821T093000
DTEND;TZID=UTC:20250821T104500
DTSTAMP:20260423T035005
CREATED:20250728T130039Z
LAST-MODIFIED:20250728T130039Z
UID:15669-1755768600-1755773100@wayneseniorcenter.org
SUMMARY:Fresh Start
DESCRIPTION:Join us for Fresh Start—our new\, nutritious and delicious breakfast program! Breakfast will be served every Tuesday and Thursdayfrom 9:30 AM to 10:45 AM. Cost is $3.\nMeals are available on a first-come\, first-served basis\, so be sure to arrive early!\n Please note: the menu is subject to change.
URL:https://wayneseniorcenter.org/event/fresh-start-22/
END:VEVENT
BEGIN:VEVENT
DTSTART;TZID=UTC:20250821T101500
DTEND;TZID=UTC:20250821T110000
DTSTAMP:20260423T035005
CREATED:20250728T130052Z
LAST-MODIFIED:20250728T130052Z
UID:15672-1755771300-1755774000@wayneseniorcenter.org
SUMMARY:Armchair Travel with Ginny
DESCRIPTION:Join Ginny for a thrilling armchair safari adventure. Ginny will guide us through the wild – all without needing to pickup a bag.
URL:https://wayneseniorcenter.org/event/armchair-travel-with-ginny/
END:VEVENT
BEGIN:VEVENT
DTSTART;TZID=UTC:20250821T110000
DTEND;TZID=UTC:20250821T120000
DTSTAMP:20260423T035005
CREATED:20250728T130040Z
LAST-MODIFIED:20250728T130040Z
UID:15670-1755774000-1755777600@wayneseniorcenter.org
SUMMARY:Sit\, Move\, Stretch
DESCRIPTION:This class offers seated or standing: cardio movement\, strengthening\, deep breathing\, and stretching. In-Person fees – free for WSC members\, $3 for non-members.
URL:https://wayneseniorcenter.org/event/sit-move-stretch-85/
END:VEVENT
BEGIN:VEVENT
DTSTART;TZID=UTC:20250821T120000
DTEND;TZID=UTC:20250821T130000
DTSTAMP:20260423T035005
CREATED:20250728T130051Z
LAST-MODIFIED:20250728T130051Z
UID:15671-1755777600-1755781200@wayneseniorcenter.org
SUMMARY:The Men's Group
DESCRIPTION:Catch up with friends over lunch and discuss topics related to men’s lives – hobbies\, family stories\, retirement\, career reflections\, mental & physical health\, or whatever else is on your mind. Call to reserve a Center lunch\, bring your own\, or just stop by to chat.
URL:https://wayneseniorcenter.org/event/the-mens-group-19/
END:VEVENT
BEGIN:VEVENT
DTSTART;TZID=UTC:20250821T130000
DTEND;TZID=UTC:20250821T150000
DTSTAMP:20260423T035005
CREATED:20250728T130038Z
LAST-MODIFIED:20250728T130038Z
UID:15668-1755781200-1755788400@wayneseniorcenter.org
SUMMARY:Cards and Games: Open Play
DESCRIPTION:Join us for an afternoon playing games of your choice- Poker\, gin rummy\, pinochle\, mahjong etc. Meet a new friend and start a game of your own. Mahjong teachers/leaders feel free to bring your game set!
URL:https://wayneseniorcenter.org/event/cards-and-games-open-play-45/
END:VEVENT
BEGIN:VEVENT
DTSTART;TZID=UTC:20250822T093000
DTEND;TZID=UTC:20250822T103000
DTSTAMP:20260423T035005
CREATED:20250728T130053Z
LAST-MODIFIED:20250728T130053Z
UID:15674-1755855000-1755858600@wayneseniorcenter.org
SUMMARY:Senior Circuit
DESCRIPTION:Join us for a dynamic strength-building\, full-body workout utilizing bands\, weights\, and balls as we cycle through various stations.
URL:https://wayneseniorcenter.org/event/senior-circuit-41/
END:VEVENT
BEGIN:VEVENT
DTSTART;TZID=UTC:20250822T103000
DTEND;TZID=UTC:20250822T113000
DTSTAMP:20260423T035005
CREATED:20250728T130053Z
LAST-MODIFIED:20250728T130053Z
UID:15673-1755858600-1755862200@wayneseniorcenter.org
SUMMARY:Chair Yoga
DESCRIPTION:A well-rounded class that will help with balance\, strengthening\, and relaxation. Have a sturdy chair available. All abilities welcome. In-Person fees – $3 for WSC members\, $6 for non-members.
URL:https://wayneseniorcenter.org/event/chair-yoga-43/
END:VEVENT
BEGIN:VEVENT
DTSTART;TZID=UTC:20250825T100000
DTEND;TZID=UTC:20250825T110000
DTSTAMP:20260423T035005
CREATED:20250728T130106Z
LAST-MODIFIED:20250728T130106Z
UID:15676-1756116000-1756119600@wayneseniorcenter.org
SUMMARY:Silver Sneakers Classic
DESCRIPTION:Focus on strengthening muscles and increasing range of motion using light weights\, stretch bands\, and exercise balls.
URL:https://wayneseniorcenter.org/event/silver-sneakers-classic-84/
END:VEVENT
BEGIN:VEVENT
DTSTART;TZID=UTC:20250825T100000
DTEND;TZID=UTC:20250825T120000
DTSTAMP:20260423T035005
CREATED:20250728T130054Z
LAST-MODIFIED:20250728T130054Z
UID:15675-1756116000-1756123200@wayneseniorcenter.org
SUMMARY:Refresher Bridge
DESCRIPTION:Brush up on your bridge skills with friends. Must have previous bridge experience.
URL:https://wayneseniorcenter.org/event/refresher-bridge-43/
END:VEVENT
BEGIN:VEVENT
DTSTART;TZID=UTC:20250825T100000
DTEND;TZID=UTC:20250825T120000
DTSTAMP:20260423T035005
CREATED:20250728T130108Z
LAST-MODIFIED:20250728T130108Z
UID:15678-1756116000-1756123200@wayneseniorcenter.org
SUMMARY:WSC Quilters
DESCRIPTION:WSC quiliting club. All skill levels Welcome. Come by or RSVP by calling the center – (610) 688-6246
URL:https://wayneseniorcenter.org/event/wsc-quilters-43/
END:VEVENT
BEGIN:VEVENT
DTSTART;TZID=UTC:20250825T110000
DTEND;TZID=UTC:20250825T120000
DTSTAMP:20260423T035005
CREATED:20250728T130107Z
LAST-MODIFIED:20250728T130107Z
UID:15677-1756119600-1756123200@wayneseniorcenter.org
SUMMARY:Soul Line Dancing
DESCRIPTION:Kenny James will get you moving and grooving in a fun\, easy to learn dance class. No experience necessary – all can join. $3 members / $6 non-members.
URL:https://wayneseniorcenter.org/event/soul-line-dancing-62/
END:VEVENT
BEGIN:VEVENT
DTSTART;TZID=UTC:20250826T090000
DTEND;TZID=UTC:20250826T110000
DTSTAMP:20260423T035005
CREATED:20250728T130124Z
LAST-MODIFIED:20250728T130124Z
UID:15684-1756198800-1756206000@wayneseniorcenter.org
SUMMARY:Tech Tuesday
DESCRIPTION:Stop by during this time with your tech questions or email Francis at francis@wayneseniorcenter.org to make an appointment. Some Tuesdays will feature a workshop on a certain topic starting at 10am.
URL:https://wayneseniorcenter.org/event/tech-tuesday-30/
END:VEVENT
BEGIN:VEVENT
DTSTART;TZID=UTC:20250826T093000
DTEND;TZID=UTC:20250826T100000
DTSTAMP:20260423T035005
CREATED:20250728T130123Z
LAST-MODIFIED:20250728T130123Z
UID:15683-1756200600-1756202400@wayneseniorcenter.org
SUMMARY:Walking Club (Off-Site)
DESCRIPTION:Join WSC friends for a walk on the Radnor trail – weather permitting. Walkers meet at the trail parking lot (520 Conestoga Road). All abilities welcome. Wear comfortable walking shoes.
URL:https://wayneseniorcenter.org/event/walking-club-off-site-39/
END:VEVENT
BEGIN:VEVENT
DTSTART;TZID=UTC:20250826T093000
DTEND;TZID=UTC:20250826T104500
DTSTAMP:20260423T035005
CREATED:20250728T130109Z
LAST-MODIFIED:20250728T130109Z
UID:15679-1756200600-1756205100@wayneseniorcenter.org
SUMMARY:Fresh Start
DESCRIPTION:Join us for Fresh Start—our new\, nutritious and delicious breakfast program! Breakfast will be served every Tuesday and Thursdayfrom 9:30 AM to 10:45 AM. Cost is $3.\nMeals are available on a first-come\, first-served basis\, so be sure to arrive early!\n Please note: the menu is subject to change.
URL:https://wayneseniorcenter.org/event/fresh-start-23/
END:VEVENT
BEGIN:VEVENT
DTSTART;TZID=UTC:20250826T100000
DTEND;TZID=UTC:20250826T110000
DTSTAMP:20260423T035005
CREATED:20250728T130125Z
LAST-MODIFIED:20250728T130125Z
UID:15685-1756202400-1756206000@wayneseniorcenter.org
SUMMARY:Summer Bug Safety with Delaware County Health Department
DESCRIPTION:Join us for an informative session with the Delaware County Health Department as they share tips on how to stay safe from moquito-borne illnesses and provide updates on their current programs and services. Don’t miss this opportunity to learn how to protect yourself and your community!
URL:https://wayneseniorcenter.org/event/summer-bug-safety-with-delaware-county-health-department/
END:VEVENT
BEGIN:VEVENT
DTSTART;TZID=UTC:20250826T110000
DTEND;TZID=UTC:20250826T120000
DTSTAMP:20260423T035005
CREATED:20250728T130122Z
LAST-MODIFIED:20250728T130122Z
UID:15682-1756206000-1756209600@wayneseniorcenter.org
SUMMARY:Sit\, Move\, Stretch
DESCRIPTION:This class offers seated or standing: cardio movement\, strengthening\, deep breathing\, and stretching. In-Person fees – free for WSC members\, $3 for non-members.
URL:https://wayneseniorcenter.org/event/sit-move-stretch-86/
END:VEVENT
BEGIN:VEVENT
DTSTART;TZID=UTC:20250826T120000
DTEND;TZID=UTC:20250826T130000
DTSTAMP:20260423T035005
CREATED:20250728T130136Z
LAST-MODIFIED:20250728T130136Z
UID:15686-1756209600-1756213200@wayneseniorcenter.org
SUMMARY:August Birthday Lunch and Gameshow with Kenny
DESCRIPTION:Join us to celebrate members who have a birthday in August! Let’s celebrate with laughter and friendly competition during gameshow-style entertainment hosted by Kenny James!
URL:https://wayneseniorcenter.org/event/august-birthday-lunch-and-gameshow-with-kenny/
END:VEVENT
BEGIN:VEVENT
DTSTART;TZID=UTC:20250826T123000
DTEND;TZID=UTC:20250826T133000
DTSTAMP:20260423T035005
CREATED:20250728T130121Z
LAST-MODIFIED:20250728T130121Z
UID:15681-1756211400-1756215000@wayneseniorcenter.org
SUMMARY:Mindfulness
DESCRIPTION:Practicing mindfulness provides countless benefits to our overall well-being. Join instructor Liz for an hour of virtual mindfulness.
URL:https://wayneseniorcenter.org/event/mindfulness-44/
END:VEVENT
BEGIN:VEVENT
DTSTART;TZID=UTC:20250826T150000
DTEND;TZID=UTC:20250826T160000
DTSTAMP:20260423T035005
CREATED:20250728T130109Z
LAST-MODIFIED:20250728T130109Z
UID:15680-1756220400-1756224000@wayneseniorcenter.org
SUMMARY:Memoir Writing (Virtual)
DESCRIPTION:Join Sara Wenger\, MFA for a memoir writing workshop. Sara will share memoir excerpts as well as writing exercises to help you write your unique life experiences so they can be passed on to children\, grandchildren\, friends and others. No prior writing experience is necessary! The class is appropriate for both novice and seasoned writers
URL:https://wayneseniorcenter.org/event/memoir-writing-virtual-23/
END:VEVENT
BEGIN:VEVENT
DTSTART;TZID=UTC:20250827T100000
DTEND;TZID=UTC:20250827T110000
DTSTAMP:20260423T035005
CREATED:20250728T130137Z
LAST-MODIFIED:20250728T130137Z
UID:15687-1756288800-1756292400@wayneseniorcenter.org
SUMMARY:Coffee Talk with Radnor Police Chaplain
DESCRIPTION:Enjoy coffee\, pastries\, and meaningful discussion with a visiting Radnor Police Chaplain.
URL:https://wayneseniorcenter.org/event/coffee-talk-with-radnor-police-chaplain-11/
END:VEVENT
BEGIN:VEVENT
DTSTART;TZID=UTC:20250827T111500
DTEND;TZID=UTC:20250827T120000
DTSTAMP:20260423T035005
CREATED:20250728T130140Z
LAST-MODIFIED:20250728T130140Z
UID:15690-1756293300-1756296000@wayneseniorcenter.org
SUMMARY:Soul Line Dancing
DESCRIPTION:Kenny James will get you moving and grooving in a fun\, easy to learn dance class. No experience necessary – all can join. $3 members / $6 non-members.
URL:https://wayneseniorcenter.org/event/soul-line-dancing-63/
END:VEVENT
BEGIN:VEVENT
DTSTART;TZID=UTC:20250827T123000
DTEND;TZID=UTC:20250827T133000
DTSTAMP:20260423T035005
CREATED:20250728T130138Z
LAST-MODIFIED:20250728T130138Z
UID:15688-1756297800-1756301400@wayneseniorcenter.org
SUMMARY:Fooling with Ukes
DESCRIPTION:Dust off your ukes and join Barbara Van Clief (Barley) for a few practice sessions. Learn to play various popular songs with a group of individuals who share your passion for music!
URL:https://wayneseniorcenter.org/event/fooling-with-ukes-31/
END:VEVENT
BEGIN:VEVENT
DTSTART;TZID=UTC:20250827T123000
DTEND;TZID=UTC:20250827T133000
DTSTAMP:20260423T035005
CREATED:20250728T130139Z
LAST-MODIFIED:20250728T130139Z
UID:15689-1756297800-1756301400@wayneseniorcenter.org
SUMMARY:Silver Sneakers Classic
DESCRIPTION:Focus on strengthening muscles and increasing range of motion using light weights\, stretch bands\, and exercise balls.
URL:https://wayneseniorcenter.org/event/silver-sneakers-classic-85/
END:VEVENT
BEGIN:VEVENT
DTSTART;TZID=UTC:20250827T140000
DTEND;TZID=UTC:20250827T140000
DTSTAMP:20260423T035005
CREATED:20250728T130151Z
LAST-MODIFIED:20250728T130151Z
UID:15691-1756303200-1756303200@wayneseniorcenter.org
SUMMARY:Tai Chi
DESCRIPTION:Tai Chi is a gentle form of exercise involving a series of graceful movements performed in a slow\, focused manner and accompanied by deep breathing. Excellent for strengthening balance and promoting stress reduction. In-Person fees – $5 for WSC members\, $10 for non-members.
URL:https://wayneseniorcenter.org/event/tai-chi-55/
END:VEVENT
BEGIN:VEVENT
DTSTART;TZID=UTC:20250828T093000
DTEND;TZID=UTC:20250828T104500
DTSTAMP:20260423T035005
CREATED:20250728T130154Z
LAST-MODIFIED:20250728T130154Z
UID:15694-1756373400-1756377900@wayneseniorcenter.org
SUMMARY:Fresh Start
DESCRIPTION:Join us for Fresh Start—our new\, nutritious and delicious breakfast program! Breakfast will be served every Tuesday and Thursdayfrom 9:30 AM to 10:45 AM. Cost is $3.\nMeals are available on a first-come\, first-served basis\, so be sure to arrive early!\n Please note: the menu is subject to change.
URL:https://wayneseniorcenter.org/event/fresh-start-24/
END:VEVENT
END:VCALENDAR