BEGIN:VCALENDAR
VERSION:2.0
PRODID:-//Wayne Senior Center - ECPv6.15.20//NONSGML v1.0//EN
CALSCALE:GREGORIAN
METHOD:PUBLISH
X-WR-CALNAME:Wayne Senior Center
X-ORIGINAL-URL:https://wayneseniorcenter.org
X-WR-CALDESC:Events for Wayne Senior Center
REFRESH-INTERVAL;VALUE=DURATION:PT1H
X-Robots-Tag:noindex
X-PUBLISHED-TTL:PT1H
BEGIN:VTIMEZONE
TZID:UTC
BEGIN:STANDARD
TZOFFSETFROM:+0000
TZOFFSETTO:+0000
TZNAME:UTC
DTSTART:20230101T000000
END:STANDARD
END:VTIMEZONE
BEGIN:VEVENT
DTSTART;TZID=UTC:20240131T110000
DTEND;TZID=UTC:20240131T120000
DTSTAMP:20260421T114315
CREATED:20231218T204606Z
LAST-MODIFIED:20231218T204606Z
UID:12953-1706698800-1706702400@wayneseniorcenter.org
SUMMARY:Tai Chi (In Center and Virtual)
DESCRIPTION:Tai Chi is a gentle form of exercise involving a series of graceful movements performed in a slow\, focused manner and accompanied by deep breathing. Excellent for strengthening balance and promoting stress reduction. In-Person fees – $5 for WSC members\, $10 for non-members.
URL:https://wayneseniorcenter.org/event/tai-chi-in-center-and-virtual-17/
CATEGORIES:Fitness
END:VEVENT
BEGIN:VEVENT
DTSTART;TZID=UTC:20240131T120000
DTEND;TZID=UTC:20240131T140000
DTSTAMP:20260421T114315
CREATED:20231218T204606Z
LAST-MODIFIED:20231221T200918Z
UID:12951-1706702400-1706709600@wayneseniorcenter.org
SUMMARY:Pizza and a Movie: Indiana Jones and the Dial of Destiny (In Center)
DESCRIPTION:Join us for a viewing of the film\, Indiana Jones and the Dial of Destiny (2023). Archaeologist Indiana Jones races against time to retrieve a legendary artifact that can change the course of history. $3 for WSC members\, $6 for non-members.
URL:https://wayneseniorcenter.org/event/pizza-and-a-movie-indiana-jones-and-the-dial-of-destiny-in-center/
CATEGORIES:Social
ATTACH;FMTTYPE=image/png:https://wayneseniorcenter.org/wp-content/uploads/2023/12/0131-Pizza-Movie.png
END:VEVENT
BEGIN:VEVENT
DTSTART;TZID=UTC:20240201T090000
DTEND;TZID=UTC:20240201T110000
DTSTAMP:20260421T114315
CREATED:20240126T221017Z
LAST-MODIFIED:20240126T221017Z
UID:13035-1706778000-1706785200@wayneseniorcenter.org
SUMMARY:Blood Pressure Screenings (In Center)
DESCRIPTION:Are you trying to keep track of your blood pressure readings? Have questions about a medication or just need a listening ear? Stop by and speak 1:1 with a nurse.
URL:https://wayneseniorcenter.org/event/blood-pressure-screenings-in-center-10/
END:VEVENT
BEGIN:VEVENT
DTSTART;TZID=UTC:20240201T093000
DTEND;TZID=UTC:20240201T103000
DTSTAMP:20260421T114315
CREATED:20240126T221018Z
LAST-MODIFIED:20240126T221018Z
UID:13039-1706779800-1706783400@wayneseniorcenter.org
SUMMARY:Zumba Gold (In Center)
DESCRIPTION:Keep your body moving\, enjoy lively music\, and have fun dancing your cares away. $3 members / $6 non-members
URL:https://wayneseniorcenter.org/event/zumba-gold-in-center-16/
END:VEVENT
BEGIN:VEVENT
DTSTART;TZID=UTC:20240201T101500
DTEND;TZID=UTC:20240201T110000
DTSTAMP:20260421T114315
CREATED:20240126T221020Z
LAST-MODIFIED:20240126T221020Z
UID:13040-1706782500-1706785200@wayneseniorcenter.org
SUMMARY:Meet Social Work Student: Lorraine (In Center)
DESCRIPTION:Come by to meet the new social work student – Lorraine!
URL:https://wayneseniorcenter.org/event/meet-social-work-student-lorraine-in-center/
END:VEVENT
BEGIN:VEVENT
DTSTART;TZID=UTC:20240201T110000
DTEND;TZID=UTC:20240201T120000
DTSTAMP:20260421T114315
CREATED:20240126T221018Z
LAST-MODIFIED:20240126T221018Z
UID:13038-1706785200-1706788800@wayneseniorcenter.org
SUMMARY:Sit\, Move\, Stretch (In Center)
DESCRIPTION:Gentle Movement\, stretching\, and relaxation. Free for WSC members\, $3 for non-members. RSVP by calling the center – (610) 688-6246
URL:https://wayneseniorcenter.org/event/sit-move-stretch-in-center-16/
END:VEVENT
BEGIN:VEVENT
DTSTART;TZID=UTC:20240201T110000
DTEND;TZID=UTC:20240201T130000
DTSTAMP:20260421T114315
CREATED:20240126T221018Z
LAST-MODIFIED:20240126T221018Z
UID:13037-1706785200-1706792400@wayneseniorcenter.org
SUMMARY:Septa Key Card Renewals (In Center)
DESCRIPTION:Join us on the first Thursday of each month for Septa Key Cardapplications and renewals and other constituent services with a representative from Sen. AmandaCappelletti’s office. The representative is here 11:00AM to 1:00PM\, no need to RSVP.
URL:https://wayneseniorcenter.org/event/septa-key-card-renewals-in-center-5/
END:VEVENT
BEGIN:VEVENT
DTSTART;TZID=UTC:20240201T130000
DTEND;TZID=UTC:20240201T150000
DTSTAMP:20260421T114315
CREATED:20240126T221018Z
LAST-MODIFIED:20240126T221018Z
UID:13036-1706792400-1706799600@wayneseniorcenter.org
SUMMARY:Cards and Games: Open Play (In Center)
DESCRIPTION:Join us for an afternoon playing games of your choice- Poker\, gin rummy\, pinochle\, mahjong etc. Meet a new friend and start a game of your own. Mahjong teachers/leaders feel free to bring your game set!
URL:https://wayneseniorcenter.org/event/cards-and-games-open-play-in-center-16/
END:VEVENT
BEGIN:VEVENT
DTSTART;TZID=UTC:20240202T103000
DTEND;TZID=UTC:20240202T113000
DTSTAMP:20260421T114315
CREATED:20240126T221020Z
LAST-MODIFIED:20240126T221020Z
UID:13041-1706869800-1706873400@wayneseniorcenter.org
SUMMARY:Chair Yoga (In Person and Virtual)
DESCRIPTION:A well-rounded class that will help with balance\, strengthening\, and relaxation. Have a sturdy chair available. All abilities welcome. In-Person fees – $3 for WSC members\, $6 for non-members.
URL:https://wayneseniorcenter.org/event/chair-yoga-in-person-and-virtual-12/
END:VEVENT
BEGIN:VEVENT
DTSTART;TZID=UTC:20240205T100000
DTEND;TZID=UTC:20240205T120000
DTSTAMP:20260421T114315
CREATED:20240126T221020Z
LAST-MODIFIED:20240126T221020Z
UID:13043-1707127200-1707134400@wayneseniorcenter.org
SUMMARY:Refresher Bridge (In Center)
DESCRIPTION:Brush up on your bridge skills with Lawrie Stetson and Dave Heron. Must have previous bridge experience.
URL:https://wayneseniorcenter.org/event/refresher-bridge-in-center-16/
END:VEVENT
BEGIN:VEVENT
DTSTART;TZID=UTC:20240205T100000
DTEND;TZID=UTC:20240205T120000
DTSTAMP:20260421T114315
CREATED:20240126T221035Z
LAST-MODIFIED:20240126T221035Z
UID:13045-1707127200-1707134400@wayneseniorcenter.org
SUMMARY:WSC Quilters (In Center)
DESCRIPTION:WSC quiliting club. All skill levels Welcome. Come by or RSVP by calling the center – (610) 688-6246
URL:https://wayneseniorcenter.org/event/wsc-quilters-in-center-16/
END:VEVENT
BEGIN:VEVENT
DTSTART;TZID=UTC:20240205T130000
DTEND;TZID=UTC:20240205T140000
DTSTAMP:20260421T114315
CREATED:20240126T221021Z
LAST-MODIFIED:20240126T221021Z
UID:13044-1707138000-1707141600@wayneseniorcenter.org
SUMMARY:Strength and Balance (Virtual)
DESCRIPTION:Move\, stretch\, and improve your balance\, both seated and standing\, along with instructor Cathi from home. All abilities welcome!
URL:https://wayneseniorcenter.org/event/strength-and-balance-virtual-16/
END:VEVENT
BEGIN:VEVENT
DTSTART;TZID=UTC:20240205T130000
DTEND;TZID=UTC:20240205T150000
DTSTAMP:20260421T114315
CREATED:20240126T221020Z
LAST-MODIFIED:20240126T223238Z
UID:13042-1707138000-1707145200@wayneseniorcenter.org
SUMMARY:Classic Movie Matinee: Gentlemen Prefer Blondes (1953) (In Center)
DESCRIPTION:Join us for a viewing of the film\, Gentlemen Prefer Blondes (1953) starring Marilyn Monroe and Jane Russell. Showgirls Lorelei Lee and Dorothy Shaw travel to Paris\, pursued by a private detective hired by the suspicious father of Lorelei’s Fiance\, as well as a rich\, enamored old man and many other doting admirers.
URL:https://wayneseniorcenter.org/event/classic-movie-matinee-gentlemen-prefer-blondes-1953-in-center/
END:VEVENT
BEGIN:VEVENT
DTSTART;TZID=UTC:20240206T090000
DTEND;TZID=UTC:20240206T110000
DTSTAMP:20260421T114315
CREATED:20240126T221036Z
LAST-MODIFIED:20240126T221036Z
UID:13049-1707210000-1707217200@wayneseniorcenter.org
SUMMARY:Tech Tuesday (In Center)
DESCRIPTION:Tuesdays from 11am – 1pm stop in to chat Technology. Stop by between programs\, after grabbing some lunch\, or whenever is convenient for you. Bring specific questions about your device or come in to explore Wayne Senior Center iPads in a no-pressure environment. Or\, come by to share recent accomplishments or knowledge you’d like to share with others\, or just stop in to say hi and learn something new. Stop by during this time or email Francis at francis@wayneseniorcenter.org to make an appointment.
URL:https://wayneseniorcenter.org/event/tech-tuesday-in-center-16/
END:VEVENT
BEGIN:VEVENT
DTSTART;TZID=UTC:20240206T100000
DTEND;TZID=UTC:20240206T110000
DTSTAMP:20260421T114315
CREATED:20240126T221051Z
LAST-MODIFIED:20240126T223218Z
UID:13050-1707213600-1707217200@wayneseniorcenter.org
SUMMARY:Digital Coupons & Grocery Store Apps (In Center)
DESCRIPTION:Bring your device to learn more about using apps for stores like Acme or CVS to access your rewards account and ‘clip’ digital coupons.
URL:https://wayneseniorcenter.org/event/digital-coupons-grocery-store-apps-in-center/
END:VEVENT
BEGIN:VEVENT
DTSTART;TZID=UTC:20240206T110000
DTEND;TZID=UTC:20240206T120000
DTSTAMP:20260421T114315
CREATED:20240126T221036Z
LAST-MODIFIED:20240126T221036Z
UID:13048-1707217200-1707220800@wayneseniorcenter.org
SUMMARY:Sit\, Move\, Stretch (In Center and Virtual)
DESCRIPTION:This class offers seated or standing: cardio movement\, strengthening\, deep breathing\, and stretching. In-Person fees – free for WSC members\, $3 for non-members.
URL:https://wayneseniorcenter.org/event/sit-move-stretch-in-center-and-virtual-16/
END:VEVENT
BEGIN:VEVENT
DTSTART;TZID=UTC:20240206T120000
DTEND;TZID=UTC:20240206T130000
DTSTAMP:20260421T114315
CREATED:20240126T221036Z
LAST-MODIFIED:20240126T221036Z
UID:13046-1707220800-1707224400@wayneseniorcenter.org
SUMMARY:Let's Do Lunch! - Fan Favorites (In Center)
DESCRIPTION:Let’s do lunch together in the Center! This month the special lunch will include favorites from 2023 including loaded southwest sweet potatoes and vegetable lasagna. The menu will change weekly. Quantity of meals are limited so make sure to reserve your spot! $5 for members\, $8 for non-members. Call for more information and to reserve a meal – (610)688-6246
URL:https://wayneseniorcenter.org/event/lets-do-lunch-fan-favorites-in-center/
END:VEVENT
BEGIN:VEVENT
DTSTART;TZID=UTC:20240206T123000
DTEND;TZID=UTC:20240206T130000
DTSTAMP:20260421T114315
CREATED:20240126T221036Z
LAST-MODIFIED:20240126T221036Z
UID:13047-1707222600-1707224400@wayneseniorcenter.org
SUMMARY:Mindfulness (In Center)
DESCRIPTION:Practicing mindfulness provides countless benefits to our overall well-being. Join instructor Liz for an hour of virtual mindfulness.
URL:https://wayneseniorcenter.org/event/mindfulness-in-center-10/
END:VEVENT
BEGIN:VEVENT
DTSTART;TZID=UTC:20240207T100000
DTEND;TZID=UTC:20240207T110000
DTSTAMP:20260421T114315
CREATED:20240126T221051Z
LAST-MODIFIED:20240126T221051Z
UID:13051-1707300000-1707303600@wayneseniorcenter.org
SUMMARY:Drums Alive (In Center)
DESCRIPTION:Join us for a fun\, rhythmic\, seated exercise class that gets you moving and grooving!
URL:https://wayneseniorcenter.org/event/drums-alive-in-center-12/
END:VEVENT
BEGIN:VEVENT
DTSTART;TZID=UTC:20240207T100000
DTEND;TZID=UTC:20240207T110000
DTSTAMP:20260421T114315
CREATED:20240126T221052Z
LAST-MODIFIED:20240126T221052Z
UID:13053-1707300000-1707303600@wayneseniorcenter.org
SUMMARY:Strength and Cardio (Virtual)
DESCRIPTION:Move\, stretch\, and tone both seated and standing along with instructor Cathi from home. All abilities welcome!
URL:https://wayneseniorcenter.org/event/strength-and-cardio-virtual-18/
END:VEVENT
BEGIN:VEVENT
DTSTART;TZID=UTC:20240207T110000
DTEND;TZID=UTC:20240207T120000
DTSTAMP:20260421T114315
CREATED:20240126T221052Z
LAST-MODIFIED:20240126T221052Z
UID:13054-1707303600-1707307200@wayneseniorcenter.org
SUMMARY:Tai Chi (In Center and Virtual)
DESCRIPTION:Tai Chi is a gentle form of exercise involving a series of graceful movements performed in a slow\, focused manner and accompanied by deep breathing. Excellent for strengthening balance and promoting stress reduction. In-Person fees – $5 for WSC members\, $10 for non-members.
URL:https://wayneseniorcenter.org/event/tai-chi-in-center-and-virtual-18/
END:VEVENT
BEGIN:VEVENT
DTSTART;TZID=UTC:20240207T123000
DTEND;TZID=UTC:20240207T133000
DTSTAMP:20260421T114315
CREATED:20240126T221052Z
LAST-MODIFIED:20240126T221052Z
UID:13052-1707309000-1707312600@wayneseniorcenter.org
SUMMARY:Fool Around with Ukes (In Center)
DESCRIPTION:Dust off your ukes and join Barbara Van Clief (Barley) for a few practice sessions. Learn to play various popular songs with a group of individuals who share your passion for music!
URL:https://wayneseniorcenter.org/event/fool-around-with-ukes-in-center-3/
END:VEVENT
BEGIN:VEVENT
DTSTART;TZID=UTC:20240208T093000
DTEND;TZID=UTC:20240208T103000
DTSTAMP:20260421T114315
CREATED:20240126T221107Z
LAST-MODIFIED:20240126T221107Z
UID:13058-1707384600-1707388200@wayneseniorcenter.org
SUMMARY:Zumba Gold (In Center)
DESCRIPTION:Keep your body moving\, enjoy lively music\, and have fun dancing your cares away. $3 members / $6 non-members
URL:https://wayneseniorcenter.org/event/zumba-gold-in-center-17/
END:VEVENT
BEGIN:VEVENT
DTSTART;TZID=UTC:20240208T103000
DTEND;TZID=UTC:20240208T110000
DTSTAMP:20260421T114315
CREATED:20240126T221107Z
LAST-MODIFIED:20240126T223157Z
UID:13059-1707388200-1707390000@wayneseniorcenter.org
SUMMARY:Handkerchief Spinning Demonstration (In Center)
DESCRIPTION:Join us for a traditional handkerchief spinning demonstration led by Honglei Yuan in celebration of Chinese New Year!
URL:https://wayneseniorcenter.org/event/handkerchief-spinning-demonstration-in-center/
END:VEVENT
BEGIN:VEVENT
DTSTART;TZID=UTC:20240208T110000
DTEND;TZID=UTC:20240208T120000
DTSTAMP:20260421T114315
CREATED:20240126T221106Z
LAST-MODIFIED:20240126T221106Z
UID:13056-1707390000-1707393600@wayneseniorcenter.org
SUMMARY:Sit\, Move\, Stretch (In Center)
DESCRIPTION:Gentle Movement\, stretching\, and relaxation. Free for WSC members\, $3 for non-members. RSVP by calling the center – (610) 688-6246
URL:https://wayneseniorcenter.org/event/sit-move-stretch-in-center-17/
END:VEVENT
BEGIN:VEVENT
DTSTART;TZID=UTC:20240208T120000
DTEND;TZID=UTC:20240208T130000
DTSTAMP:20260421T114315
CREATED:20240126T221107Z
LAST-MODIFIED:20240126T221107Z
UID:13057-1707393600-1707397200@wayneseniorcenter.org
SUMMARY:The Men's Group (In Center)
DESCRIPTION:From family stories\, thoughts on retirement\, to the news and a good joke\, come enjoy the company of other men! This men’s only meeting is an opportunity to chat about whatever is on your mind. You may enjoy the Center lunch or bring your own if you wish. Drinks and dessert will be provided.
URL:https://wayneseniorcenter.org/event/the-mens-group-in-center-4/
END:VEVENT
BEGIN:VEVENT
DTSTART;TZID=UTC:20240208T130000
DTEND;TZID=UTC:20240208T150000
DTSTAMP:20260421T114315
CREATED:20240126T221106Z
LAST-MODIFIED:20240126T221106Z
UID:13055-1707397200-1707404400@wayneseniorcenter.org
SUMMARY:Cards and Games: Open Play (In Center)
DESCRIPTION:Join us for an afternoon playing games of your choice- Poker\, gin rummy\, pinochle\, mahjong etc. Meet a new friend and start a game of your own. Mahjong teachers/leaders feel free to bring your game set!
URL:https://wayneseniorcenter.org/event/cards-and-games-open-play-in-center-17/
END:VEVENT
BEGIN:VEVENT
DTSTART;TZID=UTC:20240209T103000
DTEND;TZID=UTC:20240209T113000
DTSTAMP:20260421T114315
CREATED:20240126T221121Z
LAST-MODIFIED:20240126T221121Z
UID:13060-1707474600-1707478200@wayneseniorcenter.org
SUMMARY:Chair Yoga (In Person and Virtual)
DESCRIPTION:A well-rounded class that will help with balance\, strengthening\, and relaxation. Have a sturdy chair available. All abilities welcome. In-Person fees – $3 for WSC members\, $6 for non-members.
URL:https://wayneseniorcenter.org/event/chair-yoga-in-person-and-virtual-13/
END:VEVENT
BEGIN:VEVENT
DTSTART;TZID=UTC:20240212T100000
DTEND;TZID=UTC:20240212T120000
DTSTAMP:20260421T114315
CREATED:20240126T221121Z
LAST-MODIFIED:20240126T221121Z
UID:13061-1707732000-1707739200@wayneseniorcenter.org
SUMMARY:Refresher Bridge (In Center)
DESCRIPTION:Brush up on your bridge skills with Lawrie Stetson and Dave Heron. Must have previous bridge experience.
URL:https://wayneseniorcenter.org/event/refresher-bridge-in-center-17/
END:VEVENT
BEGIN:VEVENT
DTSTART;TZID=UTC:20240212T100000
DTEND;TZID=UTC:20240212T120000
DTSTAMP:20260421T114315
CREATED:20240126T221122Z
LAST-MODIFIED:20240126T221122Z
UID:13064-1707732000-1707739200@wayneseniorcenter.org
SUMMARY:WSC Quilters (In Center)
DESCRIPTION:WSC quiliting club. All skill levels Welcome. Come by or RSVP by calling the center – (610) 688-6246
URL:https://wayneseniorcenter.org/event/wsc-quilters-in-center-17/
END:VEVENT
END:VCALENDAR