BEGIN:VCALENDAR
VERSION:2.0
PRODID:-//Wayne Senior Center - ECPv6.15.20//NONSGML v1.0//EN
CALSCALE:GREGORIAN
METHOD:PUBLISH
X-ORIGINAL-URL:https://wayneseniorcenter.org
X-WR-CALDESC:Events for Wayne Senior Center
REFRESH-INTERVAL;VALUE=DURATION:PT1H
X-Robots-Tag:noindex
X-PUBLISHED-TTL:PT1H
BEGIN:VTIMEZONE
TZID:UTC
BEGIN:STANDARD
TZOFFSETFROM:+0000
TZOFFSETTO:+0000
TZNAME:UTC
DTSTART:20240101T000000
END:STANDARD
END:VTIMEZONE
BEGIN:VEVENT
DTSTART;TZID=UTC:20250812T090000
DTEND;TZID=UTC:20250812T110000
DTSTAMP:20260423T094013
CREATED:20250728T125906Z
LAST-MODIFIED:20250728T125906Z
UID:15636-1754989200-1754996400@wayneseniorcenter.org
SUMMARY:Tech Tuesday
DESCRIPTION:Stop by during this time with your tech questions or email Francis at francis@wayneseniorcenter.org to make an appointment. Some Tuesdays will feature a workshop on a certain topic starting at 10am.
URL:https://wayneseniorcenter.org/event/tech-tuesday-28/
END:VEVENT
BEGIN:VEVENT
DTSTART;TZID=UTC:20250812T093000
DTEND;TZID=UTC:20250812T100000
DTSTAMP:20260423T094013
CREATED:20250728T125854Z
LAST-MODIFIED:20250728T125854Z
UID:15635-1754991000-1754992800@wayneseniorcenter.org
SUMMARY:Walking Club (Off-Site)
DESCRIPTION:Join WSC friends for a walk on the Radnor trail – weather permitting. Walkers meet at the trail parking lot (520 Conestoga Road). All abilities welcome. Wear comfortable walking shoes.
URL:https://wayneseniorcenter.org/event/walking-club-off-site-37/
END:VEVENT
BEGIN:VEVENT
DTSTART;TZID=UTC:20250812T093000
DTEND;TZID=UTC:20250812T104500
DTSTAMP:20260423T094013
CREATED:20250728T125852Z
LAST-MODIFIED:20250728T125852Z
UID:15632-1754991000-1754995500@wayneseniorcenter.org
SUMMARY:Fresh Start
DESCRIPTION:Join us for Fresh Start—our new\, nutritious and delicious breakfast program! Breakfast will be served every Tuesday and Thursdayfrom 9:30 AM to 10:45 AM. Cost is $3.\nMeals are available on a first-come\, first-served basis\, so be sure to arrive early!\n Please note: the menu is subject to change.
URL:https://wayneseniorcenter.org/event/fresh-start-19/
END:VEVENT
BEGIN:VEVENT
DTSTART;TZID=UTC:20250812T101500
DTEND;TZID=UTC:20250812T110000
DTSTAMP:20260423T094013
CREATED:20250728T125908Z
LAST-MODIFIED:20250729T155322Z
UID:15638-1754993700-1754996400@wayneseniorcenter.org
SUMMARY:Reducing Fatigue and Boosting Your Energy Presentation
DESCRIPTION:Join us for an informative session on the most common causes of fatigue – and practical steps you can take to feel more energized everyday.
URL:https://wayneseniorcenter.org/event/reducing-fatigue-and-boosting-your-energy-presentation/
END:VEVENT
BEGIN:VEVENT
DTSTART;TZID=UTC:20250812T110000
DTEND;TZID=UTC:20250812T120000
DTSTAMP:20260423T094013
CREATED:20250728T125854Z
LAST-MODIFIED:20250728T125854Z
UID:15634-1754996400-1755000000@wayneseniorcenter.org
SUMMARY:Sit\, Move\, Stretch
DESCRIPTION:This class offers seated or standing: cardio movement\, strengthening\, deep breathing\, and stretching. In-Person fees – free for WSC members\, $3 for non-members.
URL:https://wayneseniorcenter.org/event/sit-move-stretch-82/
END:VEVENT
BEGIN:VEVENT
DTSTART;TZID=UTC:20250812T120000
DTEND;TZID=UTC:20250812T130000
DTSTAMP:20260423T094013
CREATED:20250728T125907Z
LAST-MODIFIED:20250728T125907Z
UID:15637-1755000000-1755003600@wayneseniorcenter.org
SUMMARY:Let's Do Lunch!
DESCRIPTION:Let’s do lunch together! Please see the menu in the newsletter for details on each meal. $5 members / $8 non-members. RSVP required\, in-center dining only.
URL:https://wayneseniorcenter.org/event/lets-do-lunch-14/
END:VEVENT
BEGIN:VEVENT
DTSTART;TZID=UTC:20250812T123000
DTEND;TZID=UTC:20250812T133000
DTSTAMP:20260423T094013
CREATED:20250728T125853Z
LAST-MODIFIED:20250728T125853Z
UID:15633-1755001800-1755005400@wayneseniorcenter.org
SUMMARY:Mindfulness
DESCRIPTION:Practicing mindfulness provides countless benefits to our overall well-being. Join instructor Liz for an hour of virtual mindfulness.
URL:https://wayneseniorcenter.org/event/mindfulness-42/
END:VEVENT
BEGIN:VEVENT
DTSTART;TZID=UTC:20250813T100000
DTEND;TZID=UTC:20250813T110000
DTSTAMP:20260423T094013
CREATED:20250728T125923Z
LAST-MODIFIED:20250728T133126Z
UID:15643-1755079200-1755082800@wayneseniorcenter.org
SUMMARY:Do I Need a VPN? and More About Digital Privacy
DESCRIPTION:What is a VPN (‘Virtual Private Network’) and why would I need one? Learn more about this privacy technology and other tips\, techniques\, and considerations for maintaining your privacy online.
URL:https://wayneseniorcenter.org/event/do-i-need-a-vpn-and-more-about-digital-privacy/
ATTACH;FMTTYPE=image/png:https://wayneseniorcenter.org/wp-content/uploads/2025/07/0813-VPN.png
END:VEVENT
BEGIN:VEVENT
DTSTART;TZID=UTC:20250813T111500
DTEND;TZID=UTC:20250813T120000
DTSTAMP:20260423T094013
CREATED:20250728T125921Z
LAST-MODIFIED:20250728T125921Z
UID:15641-1755083700-1755086400@wayneseniorcenter.org
SUMMARY:Soul Line Dancing
DESCRIPTION:Kenny James will get you moving and grooving in a fun\, easy to learn dance class. No experience necessary – all can join. $3 members / $6 non-members.
URL:https://wayneseniorcenter.org/event/soul-line-dancing-59/
END:VEVENT
BEGIN:VEVENT
DTSTART;TZID=UTC:20250813T123000
DTEND;TZID=UTC:20250813T133000
DTSTAMP:20260423T094013
CREATED:20250728T125908Z
LAST-MODIFIED:20250728T125908Z
UID:15639-1755088200-1755091800@wayneseniorcenter.org
SUMMARY:Fooling with Ukes
DESCRIPTION:Dust off your ukes and join Barbara Van Clief (Barley) for a few practice sessions. Learn to play various popular songs with a group of individuals who share your passion for music!
URL:https://wayneseniorcenter.org/event/fooling-with-ukes-29/
END:VEVENT
BEGIN:VEVENT
DTSTART;TZID=UTC:20250813T123000
DTEND;TZID=UTC:20250813T133000
DTSTAMP:20260423T094013
CREATED:20250728T125909Z
LAST-MODIFIED:20250728T125909Z
UID:15640-1755088200-1755091800@wayneseniorcenter.org
SUMMARY:Silver Sneakers Classic
DESCRIPTION:Focus on strengthening muscles and increasing range of motion using light weights\, stretch bands\, and exercise balls.
URL:https://wayneseniorcenter.org/event/silver-sneakers-classic-81/
END:VEVENT
BEGIN:VEVENT
DTSTART;TZID=UTC:20250813T140000
DTEND;TZID=UTC:20250813T140000
DTSTAMP:20260423T094013
CREATED:20250728T125922Z
LAST-MODIFIED:20250728T125922Z
UID:15642-1755093600-1755093600@wayneseniorcenter.org
SUMMARY:Tai Chi
DESCRIPTION:Tai Chi is a gentle form of exercise involving a series of graceful movements performed in a slow\, focused manner and accompanied by deep breathing. Excellent for strengthening balance and promoting stress reduction. In-Person fees – $5 for WSC members\, $10 for non-members.
URL:https://wayneseniorcenter.org/event/tai-chi-53/
END:VEVENT
BEGIN:VEVENT
DTSTART;TZID=UTC:20250814T093000
DTEND;TZID=UTC:20250814T104500
DTSTAMP:20260423T094013
CREATED:20250728T125924Z
LAST-MODIFIED:20250728T125924Z
UID:15645-1755163800-1755168300@wayneseniorcenter.org
SUMMARY:Fresh Start
DESCRIPTION:Join us for Fresh Start—our new\, nutritious and delicious breakfast program! Breakfast will be served every Tuesday and Thursdayfrom 9:30 AM to 10:45 AM. Cost is $3.\nMeals are available on a first-come\, first-served basis\, so be sure to arrive early!\n Please note: the menu is subject to change.
URL:https://wayneseniorcenter.org/event/fresh-start-20/
END:VEVENT
BEGIN:VEVENT
DTSTART;TZID=UTC:20250814T101500
DTEND;TZID=UTC:20250814T110000
DTSTAMP:20260423T094013
CREATED:20250728T125937Z
LAST-MODIFIED:20250728T125937Z
UID:15647-1755166500-1755169200@wayneseniorcenter.org
SUMMARY:Drumming Circle
DESCRIPTION:Generate positive energy with Negar Jahanbin in a relaxing and tension reducing drum circle.
URL:https://wayneseniorcenter.org/event/drumming-circle-2/
END:VEVENT
BEGIN:VEVENT
DTSTART;TZID=UTC:20250814T110000
DTEND;TZID=UTC:20250814T120000
DTSTAMP:20260423T094013
CREATED:20250728T125936Z
LAST-MODIFIED:20250728T125936Z
UID:15646-1755169200-1755172800@wayneseniorcenter.org
SUMMARY:Sit\, Move\, Stretch
DESCRIPTION:This class offers seated or standing: cardio movement\, strengthening\, deep breathing\, and stretching. In-Person fees – free for WSC members\, $3 for non-members.
URL:https://wayneseniorcenter.org/event/sit-move-stretch-83/
END:VEVENT
BEGIN:VEVENT
DTSTART;TZID=UTC:20250814T130000
DTEND;TZID=UTC:20250814T150000
DTSTAMP:20260423T094013
CREATED:20250728T125924Z
LAST-MODIFIED:20250728T125924Z
UID:15644-1755176400-1755183600@wayneseniorcenter.org
SUMMARY:Cards and Games: Open Play
DESCRIPTION:Join us for an afternoon playing games of your choice- Poker\, gin rummy\, pinochle\, mahjong etc. Meet a new friend and start a game of your own. Mahjong teachers/leaders feel free to bring your game set!
URL:https://wayneseniorcenter.org/event/cards-and-games-open-play-44/
END:VEVENT
BEGIN:VEVENT
DTSTART;TZID=UTC:20250815T103000
DTEND;TZID=UTC:20250815T113000
DTSTAMP:20260423T094013
CREATED:20250728T125938Z
LAST-MODIFIED:20250728T125938Z
UID:15648-1755253800-1755257400@wayneseniorcenter.org
SUMMARY:Chair Yoga
DESCRIPTION:A well-rounded class that will help with balance\, strengthening\, and relaxation. Have a sturdy chair available. All abilities welcome. In-Person fees – $3 for WSC members\, $6 for non-members.
URL:https://wayneseniorcenter.org/event/chair-yoga-42/
END:VEVENT
BEGIN:VEVENT
DTSTART;TZID=UTC:20250818T100000
DTEND;TZID=UTC:20250818T110000
DTSTAMP:20260423T094013
CREATED:20250728T125940Z
LAST-MODIFIED:20250728T125940Z
UID:15650-1755511200-1755514800@wayneseniorcenter.org
SUMMARY:Silver Sneakers Classic
DESCRIPTION:Focus on strengthening muscles and increasing range of motion using light weights\, stretch bands\, and exercise balls.
URL:https://wayneseniorcenter.org/event/silver-sneakers-classic-82/
END:VEVENT
BEGIN:VEVENT
DTSTART;TZID=UTC:20250818T100000
DTEND;TZID=UTC:20250818T120000
DTSTAMP:20260423T094013
CREATED:20250728T125939Z
LAST-MODIFIED:20250728T125939Z
UID:15649-1755511200-1755518400@wayneseniorcenter.org
SUMMARY:Refresher Bridge
DESCRIPTION:Brush up on your bridge skills with friends. Must have previous bridge experience.
URL:https://wayneseniorcenter.org/event/refresher-bridge-42/
END:VEVENT
BEGIN:VEVENT
DTSTART;TZID=UTC:20250818T100000
DTEND;TZID=UTC:20250818T120000
DTSTAMP:20260423T094013
CREATED:20250728T125952Z
LAST-MODIFIED:20250728T125952Z
UID:15652-1755511200-1755518400@wayneseniorcenter.org
SUMMARY:WSC Quilters
DESCRIPTION:WSC quiliting club. All skill levels Welcome. Come by or RSVP by calling the center – (610) 688-6246
URL:https://wayneseniorcenter.org/event/wsc-quilters-42/
END:VEVENT
BEGIN:VEVENT
DTSTART;TZID=UTC:20250818T110000
DTEND;TZID=UTC:20250818T120000
DTSTAMP:20260423T094013
CREATED:20250728T125951Z
LAST-MODIFIED:20250728T125951Z
UID:15651-1755514800-1755518400@wayneseniorcenter.org
SUMMARY:Soul Line Dancing
DESCRIPTION:Kenny James will get you moving and grooving in a fun\, easy to learn dance class. No experience necessary – all can join. $3 members / $6 non-members.
URL:https://wayneseniorcenter.org/event/soul-line-dancing-60/
END:VEVENT
BEGIN:VEVENT
DTSTART;TZID=UTC:20250819T090000
DTEND;TZID=UTC:20250819T110000
DTSTAMP:20260423T094013
CREATED:20250728T130008Z
LAST-MODIFIED:20250728T130008Z
UID:15658-1755594000-1755601200@wayneseniorcenter.org
SUMMARY:Tech Tuesday
DESCRIPTION:Stop by during this time with your tech questions or email Francis at francis@wayneseniorcenter.org to make an appointment. Some Tuesdays will feature a workshop on a certain topic starting at 10am.
URL:https://wayneseniorcenter.org/event/tech-tuesday-29/
END:VEVENT
BEGIN:VEVENT
DTSTART;TZID=UTC:20250819T093000
DTEND;TZID=UTC:20250819T100000
DTSTAMP:20260423T094013
CREATED:20250728T130007Z
LAST-MODIFIED:20250728T130007Z
UID:15657-1755595800-1755597600@wayneseniorcenter.org
SUMMARY:Walking Club (Off-Site)
DESCRIPTION:Join WSC friends for a walk on the Radnor trail – weather permitting. Walkers meet at the trail parking lot (520 Conestoga Road). All abilities welcome. Wear comfortable walking shoes.
URL:https://wayneseniorcenter.org/event/walking-club-off-site-38/
END:VEVENT
BEGIN:VEVENT
DTSTART;TZID=UTC:20250819T093000
DTEND;TZID=UTC:20250819T104500
DTSTAMP:20260423T094013
CREATED:20250728T125953Z
LAST-MODIFIED:20250728T125953Z
UID:15653-1755595800-1755600300@wayneseniorcenter.org
SUMMARY:Fresh Start
DESCRIPTION:Join us for Fresh Start—our new\, nutritious and delicious breakfast program! Breakfast will be served every Tuesday and Thursdayfrom 9:30 AM to 10:45 AM. Cost is $3.\nMeals are available on a first-come\, first-served basis\, so be sure to arrive early!\n Please note: the menu is subject to change.
URL:https://wayneseniorcenter.org/event/fresh-start-21/
END:VEVENT
BEGIN:VEVENT
DTSTART;TZID=UTC:20250819T100000
DTEND;TZID=UTC:20250819T110000
DTSTAMP:20260423T094013
CREATED:20250728T130009Z
LAST-MODIFIED:20250728T133213Z
UID:15659-1755597600-1755601200@wayneseniorcenter.org
SUMMARY:Summer Travel Tech Tips: Uber
DESCRIPTION:Practice navigating using Google Maps on your phone. Explore the various features and functions to customize your journey – add a stop along the way\, save important destinations\, input voice commands\, download a map to use without cell service\, and more. Bring your device and any relevant account information – Apple Account password\, Google account on Android\, etc.
URL:https://wayneseniorcenter.org/event/summer-travel-tech-tips-uber/
ATTACH;FMTTYPE=image/png:https://wayneseniorcenter.org/wp-content/uploads/2025/07/0819-Travel-Tech-Tips.png
END:VEVENT
BEGIN:VEVENT
DTSTART;TZID=UTC:20250819T103000
DTEND;TZID=UTC:20250819T110000
DTSTAMP:20260423T094013
CREATED:20250728T125954Z
LAST-MODIFIED:20250728T125954Z
UID:15654-1755599400-1755601200@wayneseniorcenter.org
SUMMARY:Large Jenga Game
DESCRIPTION:Test your Jenga skills by trying to remove one block at a time without making the tower fall over!
URL:https://wayneseniorcenter.org/event/large-jenga-game-12/
END:VEVENT
BEGIN:VEVENT
DTSTART;TZID=UTC:20250819T110000
DTEND;TZID=UTC:20250819T120000
DTSTAMP:20260423T094013
CREATED:20250728T130006Z
LAST-MODIFIED:20250728T130006Z
UID:15656-1755601200-1755604800@wayneseniorcenter.org
SUMMARY:Sit\, Move\, Stretch
DESCRIPTION:This class offers seated or standing: cardio movement\, strengthening\, deep breathing\, and stretching. In-Person fees – free for WSC members\, $3 for non-members.
URL:https://wayneseniorcenter.org/event/sit-move-stretch-84/
END:VEVENT
BEGIN:VEVENT
DTSTART;TZID=UTC:20250819T120000
DTEND;TZID=UTC:20250819T130000
DTSTAMP:20260423T094013
CREATED:20250728T130010Z
LAST-MODIFIED:20250728T130010Z
UID:15660-1755604800-1755608400@wayneseniorcenter.org
SUMMARY:Jazz Piano with Sammy
DESCRIPTION:Enjoy some jazz piano music played by high school student\, Sammy\, while you enjoy a delicious lunch!
URL:https://wayneseniorcenter.org/event/jazz-piano-with-sammy/
END:VEVENT
BEGIN:VEVENT
DTSTART;TZID=UTC:20250819T123000
DTEND;TZID=UTC:20250819T133000
DTSTAMP:20260423T094013
CREATED:20250728T125955Z
LAST-MODIFIED:20250728T125955Z
UID:15655-1755606600-1755610200@wayneseniorcenter.org
SUMMARY:Mindfulness
DESCRIPTION:Practicing mindfulness provides countless benefits to our overall well-being. Join instructor Liz for an hour of virtual mindfulness.
URL:https://wayneseniorcenter.org/event/mindfulness-43/
END:VEVENT
BEGIN:VEVENT
DTSTART;TZID=UTC:20250820T100000
DTEND;TZID=UTC:20250820T110000
DTSTAMP:20260423T094013
CREATED:20250728T130036Z
LAST-MODIFIED:20250728T130036Z
UID:15666-1755684000-1755687600@wayneseniorcenter.org
SUMMARY:Games and Gab on the Patio
DESCRIPTION:Join us for a relaxing and fun-filled time on the patio. Enjoy classic games and great conversation in the fresh air. Whtether you’re in the mood for a friendly game of cards or just want to chat and connect\, this is the perfect way to spend the morning at WSC!
URL:https://wayneseniorcenter.org/event/games-and-gab-on-the-patio-2/
END:VEVENT
END:VCALENDAR