BEGIN:VCALENDAR
VERSION:2.0
PRODID:-//Wayne Senior Center - ECPv6.15.20//NONSGML v1.0//EN
CALSCALE:GREGORIAN
METHOD:PUBLISH
X-ORIGINAL-URL:https://wayneseniorcenter.org
X-WR-CALDESC:Events for Wayne Senior Center
REFRESH-INTERVAL;VALUE=DURATION:PT1H
X-Robots-Tag:noindex
X-PUBLISHED-TTL:PT1H
BEGIN:VTIMEZONE
TZID:UTC
BEGIN:STANDARD
TZOFFSETFROM:+0000
TZOFFSETTO:+0000
TZNAME:UTC
DTSTART:20230101T000000
END:STANDARD
END:VTIMEZONE
BEGIN:VEVENT
DTSTART;TZID=UTC:20240521T093000
DTEND;TZID=UTC:20240521T103000
DTSTAMP:20260422T151548
CREATED:20240426T000933Z
LAST-MODIFIED:20240426T000933Z
UID:13556-1716283800-1716287400@wayneseniorcenter.org
SUMMARY:Walking Club (Off-Site)
DESCRIPTION:Join Margo\, Destinie\, and WSC friends for a walk on the Radnor trail – weather permitting. Walkers meet at the trail parking lot (520 Conestoga Road). All abilities welcome. Wear comfortable walking shoes.
URL:https://wayneseniorcenter.org/event/walking-club-off-site-3/
END:VEVENT
BEGIN:VEVENT
DTSTART;TZID=UTC:20240521T110000
DTEND;TZID=UTC:20240521T120000
DTSTAMP:20260422T151548
CREATED:20240426T000932Z
LAST-MODIFIED:20240426T000932Z
UID:13554-1716289200-1716292800@wayneseniorcenter.org
SUMMARY:Sit\, Move\, Stretch (In Center and Virtual)
DESCRIPTION:This class offers seated or standing: cardio movement\, strengthening\, deep breathing\, and stretching. In-Person fees – free for WSC members\, $3 for non-members.
URL:https://wayneseniorcenter.org/event/sit-move-stretch-in-center-and-virtual-29/
END:VEVENT
BEGIN:VEVENT
DTSTART;TZID=UTC:20240521T123000
DTEND;TZID=UTC:20240521T130000
DTSTAMP:20260422T151548
CREATED:20240426T000932Z
LAST-MODIFIED:20240426T000932Z
UID:13553-1716294600-1716296400@wayneseniorcenter.org
SUMMARY:Mindfulness (In Center)
DESCRIPTION:Practicing mindfulness provides countless benefits to our overall well-being. Join instructor Liz for an hour of virtual mindfulness.
URL:https://wayneseniorcenter.org/event/mindfulness-in-center-22/
END:VEVENT
BEGIN:VEVENT
DTSTART;TZID=UTC:20240522T113000
DTEND;TZID=UTC:20240522T130000
DTSTAMP:20260422T151548
CREATED:20240426T000947Z
LAST-MODIFIED:20240426T001248Z
UID:13557-1716377400-1716382800@wayneseniorcenter.org
SUMMARY:Chef's Table: At the Table (In Center)
DESCRIPTION:Join us for Chef’s Table\, wonderful program where community chefs from local restaurants demo a special dish and then serve a delicious lunch from their restaurant right here at Wayne Senior Center! This month will feature Tara Buzan-Hardy and Alex Hardy of At the Table. Tara and Alex will provide a cooking demonstration at 11:30am followed by a specially prepared meal at 12:00pm. Seating is limited – you must reserve and pay in advance. $10 members / $20 non-members.
URL:https://wayneseniorcenter.org/event/chefs-table-at-the-table-in-center/
END:VEVENT
BEGIN:VEVENT
DTSTART;TZID=UTC:20240522T123000
DTEND;TZID=UTC:20240522T133000
DTSTAMP:20260422T151548
CREATED:20240426T000947Z
LAST-MODIFIED:20240426T000947Z
UID:13559-1716381000-1716384600@wayneseniorcenter.org
SUMMARY:Fooling with Ukes (In Center)
DESCRIPTION:Dust off your ukes and join Barbara Van Clief (Barley) for a few practice sessions. Learn to play various popular songs with a group of individuals who share your passion for music!
URL:https://wayneseniorcenter.org/event/fooling-with-ukes-in-center-4/
END:VEVENT
BEGIN:VEVENT
DTSTART;TZID=UTC:20240522T170000
DTEND;TZID=UTC:20240522T180000
DTSTAMP:20260422T151548
CREATED:20240426T000947Z
LAST-MODIFIED:20240426T001308Z
UID:13558-1716397200-1716400800@wayneseniorcenter.org
SUMMARY:Life Care Planning: How to Find\, Afford & Manage the Highest Quality Care (In Center)
DESCRIPTION:Part of the 3-part Conversations series presented by Anderson Elder Law. Wine and light bites will be served. Call to RSVP 610-688-6246
URL:https://wayneseniorcenter.org/event/life-care-planning-how-to-find-afford-manage-the-highest-quality-care-in-center/
END:VEVENT
BEGIN:VEVENT
DTSTART;TZID=UTC:20240523T093000
DTEND;TZID=UTC:20240523T103000
DTSTAMP:20260422T151548
CREATED:20240426T001002Z
LAST-MODIFIED:20240426T001002Z
UID:13564-1716456600-1716460200@wayneseniorcenter.org
SUMMARY:Zumba Gold (In Center)
DESCRIPTION:Keep your body moving\, enjoy lively music\, and have fun dancing your cares away. $3 members / $6 non-members
URL:https://wayneseniorcenter.org/event/zumba-gold-in-center-32/
END:VEVENT
BEGIN:VEVENT
DTSTART;TZID=UTC:20240523T100000
DTEND;TZID=UTC:20240523T110000
DTSTAMP:20260422T151548
CREATED:20240426T001002Z
LAST-MODIFIED:20240426T001002Z
UID:13565-1716458400-1716462000@wayneseniorcenter.org
SUMMARY:National Lei Day Workshop (In Center)
DESCRIPTION:A lei is a beautiful string or necklace of flowers native to the tropics\, notably the islands of Hawaii. Lei Day honors a popular custom of presenting visitors with leis as soon as they arrive. Join us as we create our own Lei and enjoy music.
URL:https://wayneseniorcenter.org/event/national-lei-day-workshop-in-center/
END:VEVENT
BEGIN:VEVENT
DTSTART;TZID=UTC:20240523T110000
DTEND;TZID=UTC:20240523T120000
DTSTAMP:20260422T151548
CREATED:20240426T001002Z
LAST-MODIFIED:20240426T001002Z
UID:13562-1716462000-1716465600@wayneseniorcenter.org
SUMMARY:Sit\, Move\, Stretch (In Center)
DESCRIPTION:Gentle Movement\, stretching\, and relaxation. Free for WSC members\, $3 for non-members. RSVP by calling the center – (610) 688-6246
URL:https://wayneseniorcenter.org/event/sit-move-stretch-in-center-31/
END:VEVENT
BEGIN:VEVENT
DTSTART;TZID=UTC:20240523T120000
DTEND;TZID=UTC:20240523T130000
DTSTAMP:20260422T151548
CREATED:20240426T000947Z
LAST-MODIFIED:20240426T000947Z
UID:13560-1716465600-1716469200@wayneseniorcenter.org
SUMMARY:May Birthday Lunch (In Center)
DESCRIPTION:Join us to celebrate members who have birthdays this month! We will exchange cards\, sing songs\, and eat cake!
URL:https://wayneseniorcenter.org/event/may-birthday-lunch-in-center/
END:VEVENT
BEGIN:VEVENT
DTSTART;TZID=UTC:20240523T123000
DTEND;TZID=UTC:20240523T133000
DTSTAMP:20260422T151548
CREATED:20240426T001002Z
LAST-MODIFIED:20240426T001002Z
UID:13563-1716467400-1716471000@wayneseniorcenter.org
SUMMARY:Tai Chi (In Center)
DESCRIPTION:New Time / Additional Class – Tai Chi is a gentle form of exercise involving a series of graceful movements performed in a slow\, focused manner and accompanied by deep breathing. Excellent for strengthening balance and promoting stress reduction. In-Person fees – $5 for WSC members\, $10 for non-members.
URL:https://wayneseniorcenter.org/event/tai-chi-in-center-8/
END:VEVENT
BEGIN:VEVENT
DTSTART;TZID=UTC:20240523T130000
DTEND;TZID=UTC:20240523T150000
DTSTAMP:20260422T151548
CREATED:20240426T000948Z
LAST-MODIFIED:20240426T000948Z
UID:13561-1716469200-1716476400@wayneseniorcenter.org
SUMMARY:Cards and Games: Open Play (In Center)
DESCRIPTION:Join us for an afternoon playing games of your choice- Poker\, gin rummy\, pinochle\, mahjong etc. Meet a new friend and start a game of your own. Mahjong teachers/leaders feel free to bring your game set!
URL:https://wayneseniorcenter.org/event/cards-and-games-open-play-in-center-32/
END:VEVENT
BEGIN:VEVENT
DTSTART;TZID=UTC:20240524T103000
DTEND;TZID=UTC:20240524T113000
DTSTAMP:20260422T151548
CREATED:20240426T001003Z
LAST-MODIFIED:20240426T001003Z
UID:13566-1716546600-1716550200@wayneseniorcenter.org
SUMMARY:Chair Yoga (In Person and Virtual)
DESCRIPTION:A well-rounded class that will help with balance\, strengthening\, and relaxation. Have a sturdy chair available. All abilities welcome. In-Person fees – $3 for WSC members\, $6 for non-members.
URL:https://wayneseniorcenter.org/event/chair-yoga-in-person-and-virtual-27/
END:VEVENT
BEGIN:VEVENT
DTSTART;TZID=UTC:20240528T090000
DTEND;TZID=UTC:20240528T110000
DTSTAMP:20260422T151548
CREATED:20240426T001017Z
LAST-MODIFIED:20240426T001017Z
UID:13569-1716886800-1716894000@wayneseniorcenter.org
SUMMARY:Tech Tuesday (In Center)
DESCRIPTION:Tuesdays from 11am – 1pm stop in to chat Technology. Stop by between programs\, after grabbing some lunch\, or whenever is convenient for you. Bring specific questions about your device or come in to explore Wayne Senior Center iPads in a no-pressure environment. Or\, come by to share recent accomplishments or knowledge you’d like to share with others\, or just stop in to say hi and learn something new. Stop by during this time or email Francis at francis@wayneseniorcenter.org to make an appointment.
URL:https://wayneseniorcenter.org/event/tech-tuesday-in-center-31/
END:VEVENT
BEGIN:VEVENT
DTSTART;TZID=UTC:20240528T093000
DTEND;TZID=UTC:20240528T103000
DTSTAMP:20260422T151548
CREATED:20240426T001018Z
LAST-MODIFIED:20240426T001018Z
UID:13570-1716888600-1716892200@wayneseniorcenter.org
SUMMARY:Walking Club (Off-Site)
DESCRIPTION:Join Margo\, Destinie\, and WSC friends for a walk on the Radnor trail – weather permitting. Walkers meet at the trail parking lot (520 Conestoga Road). All abilities welcome. Wear comfortable walking shoes.
URL:https://wayneseniorcenter.org/event/walking-club-off-site-4/
END:VEVENT
BEGIN:VEVENT
DTSTART;TZID=UTC:20240528T110000
DTEND;TZID=UTC:20240528T120000
DTSTAMP:20260422T151548
CREATED:20240426T001017Z
LAST-MODIFIED:20240426T001017Z
UID:13568-1716894000-1716897600@wayneseniorcenter.org
SUMMARY:Sit\, Move\, Stretch (In Center and Virtual)
DESCRIPTION:This class offers seated or standing: cardio movement\, strengthening\, deep breathing\, and stretching. In-Person fees – free for WSC members\, $3 for non-members.
URL:https://wayneseniorcenter.org/event/sit-move-stretch-in-center-and-virtual-30/
END:VEVENT
BEGIN:VEVENT
DTSTART;TZID=UTC:20240528T123000
DTEND;TZID=UTC:20240528T130000
DTSTAMP:20260422T151548
CREATED:20240426T001017Z
LAST-MODIFIED:20240426T001017Z
UID:13567-1716899400-1716901200@wayneseniorcenter.org
SUMMARY:Mindfulness (In Center)
DESCRIPTION:Practicing mindfulness provides countless benefits to our overall well-being. Join instructor Liz for an hour of virtual mindfulness.
URL:https://wayneseniorcenter.org/event/mindfulness-in-center-23/
END:VEVENT
BEGIN:VEVENT
DTSTART;TZID=UTC:20240529T100000
DTEND;TZID=UTC:20240529T110000
DTSTAMP:20260422T151548
CREATED:20240426T001032Z
LAST-MODIFIED:20240426T001032Z
UID:13573-1716976800-1716980400@wayneseniorcenter.org
SUMMARY:Coffee Talk with Radnor Police Chaplain (In Center)
DESCRIPTION:Enjoy coffee\, pastries\, and meaningful discussion with a visiting Radnor Police Chaplain.
URL:https://wayneseniorcenter.org/event/coffee-talk-with-radnor-police-chaplain-in-center/
END:VEVENT
BEGIN:VEVENT
DTSTART;TZID=UTC:20240529T110000
DTEND;TZID=UTC:20240529T120000
DTSTAMP:20260422T151548
CREATED:20240426T001018Z
LAST-MODIFIED:20240426T001018Z
UID:13571-1716980400-1716984000@wayneseniorcenter.org
SUMMARY:Pageturners Bookclub (In Center)
DESCRIPTION:This month’s selection is “Remarkably Bright Creatures” by Shelby Van Pelt. Enjoy lively book conversation with a Radnor Memorial Library librarian. All are welcome! Call for more info – (610)688-6246
URL:https://wayneseniorcenter.org/event/pageturners-bookclub-in-center-8/
END:VEVENT
BEGIN:VEVENT
DTSTART;TZID=UTC:20240529T110000
DTEND;TZID=UTC:20240529T120000
DTSTAMP:20260422T151548
CREATED:20240426T001032Z
LAST-MODIFIED:20240426T001032Z
UID:13572-1716980400-1716984000@wayneseniorcenter.org
SUMMARY:Tai Chi (In Center and Virtual)
DESCRIPTION:Tai Chi is a gentle form of exercise involving a series of graceful movements performed in a slow\, focused manner and accompanied by deep breathing. Excellent for strengthening balance and promoting stress reduction. In-Person fees – $5 for WSC members\, $10 for non-members.
URL:https://wayneseniorcenter.org/event/tai-chi-in-center-and-virtual-32/
END:VEVENT
BEGIN:VEVENT
DTSTART;TZID=UTC:20240529T120000
DTEND;TZID=UTC:20240529T130000
DTSTAMP:20260422T151548
CREATED:20240426T001032Z
LAST-MODIFIED:20240426T001357Z
UID:13574-1716984000-1716987600@wayneseniorcenter.org
SUMMARY:Pizza and a Movie: The Boys in the Boat (2023) (In Center)
DESCRIPTION:Join us for a viewing of the film\, The Boys in the Boat (2023)\, a sports drama film directed by George Clooney. A 1930s story centered on the University of Washington’s rowing team\, from their Depression-era beginnings to winning gold at the 1936 Berlin Olympics.
URL:https://wayneseniorcenter.org/event/pizza-and-a-movie-the-boys-in-the-boat-2023-in-center/
END:VEVENT
BEGIN:VEVENT
DTSTART;TZID=UTC:20240530T093000
DTEND;TZID=UTC:20240530T103000
DTSTAMP:20260422T151548
CREATED:20240426T001047Z
LAST-MODIFIED:20240426T001047Z
UID:13579-1717061400-1717065000@wayneseniorcenter.org
SUMMARY:Zumba Gold (In Center)
DESCRIPTION:Keep your body moving\, enjoy lively music\, and have fun dancing your cares away. $3 members / $6 non-members
URL:https://wayneseniorcenter.org/event/zumba-gold-in-center-33/
END:VEVENT
BEGIN:VEVENT
DTSTART;TZID=UTC:20240530T110000
DTEND;TZID=UTC:20240530T120000
DTSTAMP:20260422T151548
CREATED:20240426T001033Z
LAST-MODIFIED:20240426T001033Z
UID:13576-1717066800-1717070400@wayneseniorcenter.org
SUMMARY:Sit\, Move\, Stretch (In Center)
DESCRIPTION:Gentle Movement\, stretching\, and relaxation. Free for WSC members\, $3 for non-members. RSVP by calling the center – (610) 688-6246
URL:https://wayneseniorcenter.org/event/sit-move-stretch-in-center-32/
END:VEVENT
BEGIN:VEVENT
DTSTART;TZID=UTC:20240530T120000
DTEND;TZID=UTC:20240530T130000
DTSTAMP:20260422T151548
CREATED:20240426T001047Z
LAST-MODIFIED:20240426T001047Z
UID:13578-1717070400-1717074000@wayneseniorcenter.org
SUMMARY:The Men's Group (In Center)
DESCRIPTION:From family stories\, thoughts on retirement\, to the news and a good joke\, come enjoy the company of other men! This men’s only meeting is an opportunity to chat about whatever is on your mind. You may enjoy the Center lunch for $2.50 or bring your own if you wish. Drinks and dessert will be provided.
URL:https://wayneseniorcenter.org/event/the-mens-group-in-center-10/
END:VEVENT
BEGIN:VEVENT
DTSTART;TZID=UTC:20240530T123000
DTEND;TZID=UTC:20240530T133000
DTSTAMP:20260422T151548
CREATED:20240426T001047Z
LAST-MODIFIED:20240426T001047Z
UID:13577-1717072200-1717075800@wayneseniorcenter.org
SUMMARY:Tai Chi (In Center)
DESCRIPTION:New Time / Additional Class – Tai Chi is a gentle form of exercise involving a series of graceful movements performed in a slow\, focused manner and accompanied by deep breathing. Excellent for strengthening balance and promoting stress reduction. In-Person fees – $5 for WSC members\, $10 for non-members.
URL:https://wayneseniorcenter.org/event/tai-chi-in-center-9/
END:VEVENT
BEGIN:VEVENT
DTSTART;TZID=UTC:20240530T130000
DTEND;TZID=UTC:20240530T150000
DTSTAMP:20260422T151548
CREATED:20240426T001032Z
LAST-MODIFIED:20240426T001032Z
UID:13575-1717074000-1717081200@wayneseniorcenter.org
SUMMARY:Cards and Games: Open Play (In Center)
DESCRIPTION:Join us for an afternoon playing games of your choice- Poker\, gin rummy\, pinochle\, mahjong etc. Meet a new friend and start a game of your own. Mahjong teachers/leaders feel free to bring your game set!
URL:https://wayneseniorcenter.org/event/cards-and-games-open-play-in-center-33/
END:VEVENT
BEGIN:VEVENT
DTSTART;TZID=UTC:20240531T103000
DTEND;TZID=UTC:20240531T113000
DTSTAMP:20260422T151548
CREATED:20240426T001047Z
LAST-MODIFIED:20240426T001047Z
UID:13580-1717151400-1717155000@wayneseniorcenter.org
SUMMARY:Chair Yoga (In Person and Virtual)
DESCRIPTION:A well-rounded class that will help with balance\, strengthening\, and relaxation. Have a sturdy chair available. All abilities welcome. In-Person fees – $3 for WSC members\, $6 for non-members.
URL:https://wayneseniorcenter.org/event/chair-yoga-in-person-and-virtual-28/
END:VEVENT
BEGIN:VEVENT
DTSTART;TZID=UTC:20240603T100000
DTEND;TZID=UTC:20240603T120000
DTSTAMP:20260422T151548
CREATED:20240524T222454Z
LAST-MODIFIED:20240524T222454Z
UID:13630-1717408800-1717416000@wayneseniorcenter.org
SUMMARY:Refresher Bridge (In Center)
DESCRIPTION:Brush up on your bridge skills with Lawrie Stetson and Dave Heron. Must have previous bridge experience.
URL:https://wayneseniorcenter.org/event/refresher-bridge-in-center-31/
END:VEVENT
BEGIN:VEVENT
DTSTART;TZID=UTC:20240603T100000
DTEND;TZID=UTC:20240603T120000
DTSTAMP:20260422T151548
CREATED:20240524T222458Z
LAST-MODIFIED:20240524T222458Z
UID:13632-1717408800-1717416000@wayneseniorcenter.org
SUMMARY:WSC Quilters (In Center)
DESCRIPTION:WSC quiliting club. All skill levels Welcome. Come by or RSVP by calling the center – (610) 688-6246
URL:https://wayneseniorcenter.org/event/wsc-quilters-in-center-31/
END:VEVENT
BEGIN:VEVENT
DTSTART;TZID=UTC:20240603T110000
DTEND;TZID=UTC:20240603T120000
DTSTAMP:20260422T151548
CREATED:20240524T222458Z
LAST-MODIFIED:20240524T222458Z
UID:13631-1717412400-1717416000@wayneseniorcenter.org
SUMMARY:Soul Line Dance (In Center)
DESCRIPTION:Kenny James will get you moving and grooving in a fun\, easy to learn dance class. No experience necessary – all can join. $3 members / $6 non-members.
URL:https://wayneseniorcenter.org/event/soul-line-dance-in-center-9/
END:VEVENT
END:VCALENDAR