BEGIN:VCALENDAR
VERSION:2.0
PRODID:-//Wayne Senior Center - ECPv6.15.20//NONSGML v1.0//EN
CALSCALE:GREGORIAN
METHOD:PUBLISH
X-WR-CALNAME:Wayne Senior Center
X-ORIGINAL-URL:https://wayneseniorcenter.org
X-WR-CALDESC:Events for Wayne Senior Center
REFRESH-INTERVAL;VALUE=DURATION:PT1H
X-Robots-Tag:noindex
X-PUBLISHED-TTL:PT1H
BEGIN:VTIMEZONE
TZID:UTC
BEGIN:STANDARD
TZOFFSETFROM:+0000
TZOFFSETTO:+0000
TZNAME:UTC
DTSTART:20240101T000000
END:STANDARD
END:VTIMEZONE
BEGIN:VEVENT
DTSTART;TZID=UTC:20250728T100000
DTEND;TZID=UTC:20250728T120000
DTSTAMP:20260422T223753
CREATED:20250627T175446Z
LAST-MODIFIED:20250627T175446Z
UID:15558-1753696800-1753704000@wayneseniorcenter.org
SUMMARY:WSC Quilters
DESCRIPTION:WSC quiliting club. All skill levels Welcome. Come by or RSVP by calling the center – (610) 688-6246
URL:https://wayneseniorcenter.org/event/wsc-quilters-39/
END:VEVENT
BEGIN:VEVENT
DTSTART;TZID=UTC:20250728T110000
DTEND;TZID=UTC:20250728T120000
DTSTAMP:20260422T223753
CREATED:20250627T175229Z
LAST-MODIFIED:20250627T175229Z
UID:15537-1753700400-1753704000@wayneseniorcenter.org
SUMMARY:Soul Line Dancing
DESCRIPTION:Kenny James will get you moving and grooving in a fun\, easy to learn dance class. No experience necessary – all can join. $3 members / $6 non-members.
URL:https://wayneseniorcenter.org/event/soul-line-dancing-53/
END:VEVENT
BEGIN:VEVENT
DTSTART;TZID=UTC:20250729T090000
DTEND;TZID=UTC:20250729T110000
DTSTAMP:20260422T223753
CREATED:20250627T172900Z
LAST-MODIFIED:20250627T172900Z
UID:15475-1753779600-1753786800@wayneseniorcenter.org
SUMMARY:Tech Tuesday
DESCRIPTION:Stop by during this time with your tech questions with our Digital Navigator\, Francis.
URL:https://wayneseniorcenter.org/event/tech-tuesday-26/
END:VEVENT
BEGIN:VEVENT
DTSTART;TZID=UTC:20250729T093000
DTEND;TZID=UTC:20250729T100000
DTSTAMP:20260422T223753
CREATED:20250627T175429Z
LAST-MODIFIED:20250627T175429Z
UID:15551-1753781400-1753783200@wayneseniorcenter.org
SUMMARY:Walking Club (Off-Site)
DESCRIPTION:Join WSC friends for a walk on the Radnor trail – weather permitting. Walkers meet at the trail parking lot (520 Conestoga Road). All abilities welcome. Wear comfortable walking shoes.
URL:https://wayneseniorcenter.org/event/walking-club-off-site-35/
END:VEVENT
BEGIN:VEVENT
DTSTART;TZID=UTC:20250729T093000
DTEND;TZID=UTC:20250729T104500
DTSTAMP:20260422T223753
CREATED:20250627T173259Z
LAST-MODIFIED:20250627T173259Z
UID:15484-1753781400-1753785900@wayneseniorcenter.org
SUMMARY:Fresh Start
DESCRIPTION:Join us for Fresh Start—our new\, nutritious and delicious breakfast program! Breakfast will be served every Tuesday and Thursdayfrom 9:30 AM to 10:45 AM. Cost is $3.\nMeals are available on a first-come\, first-served basis\, so be sure to arrive early!\n Please note: the menu is subject to change.
URL:https://wayneseniorcenter.org/event/fresh-start-15/
END:VEVENT
BEGIN:VEVENT
DTSTART;TZID=UTC:20250729T103000
DTEND;TZID=UTC:20250729T110000
DTSTAMP:20260422T223753
CREATED:20250627T175432Z
LAST-MODIFIED:20250627T175432Z
UID:15554-1753785000-1753786800@wayneseniorcenter.org
SUMMARY:Weekly Trivia
DESCRIPTION:Join Andrea for a fun and exciting challenge every week. Show off your smarts across a range of trivia categories and have a blast with friends.
URL:https://wayneseniorcenter.org/event/weekly-trivia-11/
END:VEVENT
BEGIN:VEVENT
DTSTART;TZID=UTC:20250729T110000
DTEND;TZID=UTC:20250729T120000
DTSTAMP:20260422T223753
CREATED:20250627T175039Z
LAST-MODIFIED:20250627T175039Z
UID:15529-1753786800-1753790400@wayneseniorcenter.org
SUMMARY:Sit\, Move\, Stretch
DESCRIPTION:This class offers seated or standing: cardio movement\, strengthening\, deep breathing\, and stretching. In-Person fees – free for WSC members\, $3 for non-members.
URL:https://wayneseniorcenter.org/event/sit-move-stretch-78/
END:VEVENT
BEGIN:VEVENT
DTSTART;TZID=UTC:20250729T123000
DTEND;TZID=UTC:20250729T133000
DTSTAMP:20260422T223753
CREATED:20250627T173659Z
LAST-MODIFIED:20250627T173659Z
UID:15495-1753792200-1753795800@wayneseniorcenter.org
SUMMARY:Mindfulness
DESCRIPTION:Practicing mindfulness provides countless benefits to our overall well-being. Join instructor Liz for an hour of virtual mindfulness.
URL:https://wayneseniorcenter.org/event/mindfulness-40/
END:VEVENT
BEGIN:VEVENT
DTSTART;TZID=UTC:20250730T100000
DTEND;TZID=UTC:20250730T110000
DTSTAMP:20260422T223753
CREATED:20250627T172700Z
LAST-MODIFIED:20250627T172700Z
UID:15470-1753869600-1753873200@wayneseniorcenter.org
SUMMARY:Coffee Talk with Radnor Police Chaplain
DESCRIPTION:Enjoy coffee\, pastries\, and meaningful discussion with a visiting Radnor Police Chaplain.
URL:https://wayneseniorcenter.org/event/coffee-talk-with-radnor-police-chaplain-10/
END:VEVENT
BEGIN:VEVENT
DTSTART;TZID=UTC:20250730T100000
DTEND;TZID=UTC:20250730T110000
DTSTAMP:20260422T223753
CREATED:20250627T174345Z
LAST-MODIFIED:20250627T174345Z
UID:15511-1753869600-1753873200@wayneseniorcenter.org
SUMMARY:SLC Summer Wellness Series
DESCRIPTION:Join us for a special Summer Wellness Series led by a licensed therapist from Silver Linings Clinic. This program is designed for older adults seeking to enhance emotional well-being\, navigate life transitions\, and build meaningful social connections. Each session offers supportive conversation\, practical tools\, and a warm community atmosphere to help you thrive this summer. Free w/ Medicare. Call 610-688-6246 to register.
URL:https://wayneseniorcenter.org/event/slc-summer-wellness-series-4/
END:VEVENT
BEGIN:VEVENT
DTSTART;TZID=UTC:20250730T111500
DTEND;TZID=UTC:20250730T120000
DTSTAMP:20260422T223753
CREATED:20250627T175231Z
LAST-MODIFIED:20250627T175231Z
UID:15539-1753874100-1753876800@wayneseniorcenter.org
SUMMARY:Soul Line Dancing
DESCRIPTION:Kenny James will get you moving and grooving in a fun\, easy to learn dance class. No experience necessary – all can join. $3 members / $6 non-members.
URL:https://wayneseniorcenter.org/event/soul-line-dancing-55/
END:VEVENT
BEGIN:VEVENT
DTSTART;TZID=UTC:20250730T123000
DTEND;TZID=UTC:20250730T133000
DTSTAMP:20260422T223753
CREATED:20250627T174548Z
LAST-MODIFIED:20250627T174548Z
UID:15520-1753878600-1753882200@wayneseniorcenter.org
SUMMARY:Silver Sneakers Classic
DESCRIPTION:Focus on strengthening muscles and increasing range of motion using light weights\, stretch bands\, and exercise balls.
URL:https://wayneseniorcenter.org/event/silver-sneakers-classic-77/
END:VEVENT
BEGIN:VEVENT
DTSTART;TZID=UTC:20250730T140000
DTEND;TZID=UTC:20250730T140000
DTSTAMP:20260422T223753
CREATED:20250627T175402Z
LAST-MODIFIED:20250627T175402Z
UID:15544-1753884000-1753884000@wayneseniorcenter.org
SUMMARY:Tai Chi
DESCRIPTION:Tai Chi is a gentle form of exercise involving a series of graceful movements performed in a slow\, focused manner and accompanied by deep breathing. Excellent for strengthening balance and promoting stress reduction. In-Person fees – $5 for WSC members\, $10 for non-members.
URL:https://wayneseniorcenter.org/event/tai-chi-51/
END:VEVENT
BEGIN:VEVENT
DTSTART;TZID=UTC:20250731T093000
DTEND;TZID=UTC:20250731T104500
DTSTAMP:20260422T223753
CREATED:20250627T173300Z
LAST-MODIFIED:20250627T173300Z
UID:15485-1753954200-1753958700@wayneseniorcenter.org
SUMMARY:Fresh Start
DESCRIPTION:Join us for Fresh Start—our new\, nutritious and delicious breakfast program! Breakfast will be served every Tuesday and Thursdayfrom 9:30 AM to 10:45 AM. Cost is $3.\nMeals are available on a first-come\, first-served basis\, so be sure to arrive early!\n Please note: the menu is subject to change.
URL:https://wayneseniorcenter.org/event/fresh-start-16/
END:VEVENT
BEGIN:VEVENT
DTSTART;TZID=UTC:20250731T100000
DTEND;TZID=UTC:20250731T110000
DTSTAMP:20260422T223753
CREATED:20250627T172640Z
LAST-MODIFIED:20250627T175725Z
UID:15461-1753956000-1753959600@wayneseniorcenter.org
SUMMARY:Cardio Drumming with Andrea
DESCRIPTION:Join Andrea once a month for a fun\, rhythmic\, seated exercise class that gets you moving and grooving. Each month will have a fun theme! $3 for members\, $6 non-members
URL:https://wayneseniorcenter.org/event/cardio-drumming-with-andrea-9/
ATTACH;FMTTYPE=image/png:https://wayneseniorcenter.org/wp-content/uploads/2025/06/Cardio-Drumming-July-.png
END:VEVENT
BEGIN:VEVENT
DTSTART;TZID=UTC:20250731T110000
DTEND;TZID=UTC:20250731T120000
DTSTAMP:20260422T223753
CREATED:20250627T175040Z
LAST-MODIFIED:20250627T175040Z
UID:15530-1753959600-1753963200@wayneseniorcenter.org
SUMMARY:Sit\, Move\, Stretch
DESCRIPTION:This class offers seated or standing: cardio movement\, strengthening\, deep breathing\, and stretching. In-Person fees – free for WSC members\, $3 for non-members.
URL:https://wayneseniorcenter.org/event/sit-move-stretch-79/
END:VEVENT
BEGIN:VEVENT
DTSTART;TZID=UTC:20250731T123000
DTEND;TZID=UTC:20250731T143000
DTSTAMP:20260422T223753
CREATED:20250627T173747Z
LAST-MODIFIED:20250627T173747Z
UID:15498-1753965000-1753972200@wayneseniorcenter.org
SUMMARY:Popcorn & A Movie: "Another Simple Favor"
DESCRIPTION:Join us for a viewing for the film\, “Another Simple Favor” (2025). Stephanie Smothers agrees to travel to Italy to be the maid of honor for the devious and cunning Emily Nelson. However\, she soon suspects Emily’s good will is part of an elaborate plan for revenge.
URL:https://wayneseniorcenter.org/event/popcorn-a-movie-another-simple-favor/
END:VEVENT
BEGIN:VEVENT
DTSTART;TZID=UTC:20250731T130000
DTEND;TZID=UTC:20250731T150000
DTSTAMP:20260422T223753
CREATED:20250627T172655Z
LAST-MODIFIED:20250627T172655Z
UID:15466-1753966800-1753974000@wayneseniorcenter.org
SUMMARY:Cards and Games: Open Play
DESCRIPTION:Join us for an afternoon playing games of your choice- Poker\, gin rummy\, pinochle\, mahjong etc. Meet a new friend and start a game of your own. Mahjong teachers/leaders feel free to bring your game set!
URL:https://wayneseniorcenter.org/event/cards-and-games-open-play-42/
END:VEVENT
BEGIN:VEVENT
DTSTART;TZID=UTC:20250801T093000
DTEND;TZID=UTC:20250801T103000
DTSTAMP:20260422T223753
CREATED:20250728T125731Z
LAST-MODIFIED:20250728T125731Z
UID:15602-1754040600-1754044200@wayneseniorcenter.org
SUMMARY:Senior Circuit
DESCRIPTION:Join us for a dynamic strength-building\, full-body workout utilizing bands\, weights\, and balls as we cycle through various stations.
URL:https://wayneseniorcenter.org/event/senior-circuit-39/
END:VEVENT
BEGIN:VEVENT
DTSTART;TZID=UTC:20250801T103000
DTEND;TZID=UTC:20250801T113000
DTSTAMP:20260422T223753
CREATED:20250728T125717Z
LAST-MODIFIED:20250728T125717Z
UID:15601-1754044200-1754047800@wayneseniorcenter.org
SUMMARY:Chair Yoga
DESCRIPTION:A well-rounded class that will help with balance\, strengthening\, and relaxation. Have a sturdy chair available. All abilities welcome. In-Person fees – $3 for WSC members\, $6 for non-members.
URL:https://wayneseniorcenter.org/event/chair-yoga-40/
END:VEVENT
BEGIN:VEVENT
DTSTART;TZID=UTC:20250804T100000
DTEND;TZID=UTC:20250804T110000
DTSTAMP:20260422T223753
CREATED:20250728T125733Z
LAST-MODIFIED:20250728T125733Z
UID:15604-1754301600-1754305200@wayneseniorcenter.org
SUMMARY:Silver Sneakers Classic
DESCRIPTION:Focus on strengthening muscles and increasing range of motion using light weights\, stretch bands\, and exercise balls.
URL:https://wayneseniorcenter.org/event/silver-sneakers-classic-78/
END:VEVENT
BEGIN:VEVENT
DTSTART;TZID=UTC:20250804T100000
DTEND;TZID=UTC:20250804T120000
DTSTAMP:20260422T223753
CREATED:20250728T125732Z
LAST-MODIFIED:20250728T125732Z
UID:15603-1754301600-1754308800@wayneseniorcenter.org
SUMMARY:Refresher Bridge
DESCRIPTION:Brush up on your bridge skills with friends. Must have previous bridge experience.
URL:https://wayneseniorcenter.org/event/refresher-bridge-40/
END:VEVENT
BEGIN:VEVENT
DTSTART;TZID=UTC:20250804T100000
DTEND;TZID=UTC:20250804T120000
DTSTAMP:20260422T223753
CREATED:20250728T125737Z
LAST-MODIFIED:20250728T125737Z
UID:15606-1754301600-1754308800@wayneseniorcenter.org
SUMMARY:WSC Quilters
DESCRIPTION:WSC quiliting club. All skill levels Welcome. Come by or RSVP by calling the center – (610) 688-6246
URL:https://wayneseniorcenter.org/event/wsc-quilters-40/
END:VEVENT
BEGIN:VEVENT
DTSTART;TZID=UTC:20250804T110000
DTEND;TZID=UTC:20250804T120000
DTSTAMP:20260422T223753
CREATED:20250728T125733Z
LAST-MODIFIED:20250728T125733Z
UID:15605-1754305200-1754308800@wayneseniorcenter.org
SUMMARY:Soul Line Dancing
DESCRIPTION:Kenny James will get you moving and grooving in a fun\, easy to learn dance class. No experience necessary – all can join. $3 members / $6 non-members.
URL:https://wayneseniorcenter.org/event/soul-line-dancing-56/
END:VEVENT
BEGIN:VEVENT
DTSTART;TZID=UTC:20250805T090000
DTEND;TZID=UTC:20250805T110000
DTSTAMP:20260422T223753
CREATED:20250728T125751Z
LAST-MODIFIED:20250728T125751Z
UID:15611-1754384400-1754391600@wayneseniorcenter.org
SUMMARY:Tech Tuesday
DESCRIPTION:Stop by during this time with your tech questions or email Francis at francis@wayneseniorcenter.org to make an appointment. Some Tuesdays will feature a workshop on a certain topic starting at 10am.
URL:https://wayneseniorcenter.org/event/tech-tuesday-27/
END:VEVENT
BEGIN:VEVENT
DTSTART;TZID=UTC:20250805T093000
DTEND;TZID=UTC:20250805T100000
DTSTAMP:20260422T223753
CREATED:20250728T125740Z
LAST-MODIFIED:20250728T125740Z
UID:15610-1754386200-1754388000@wayneseniorcenter.org
SUMMARY:Walking Club (Off-Site)
DESCRIPTION:Join WSC friends for a walk on the Radnor trail – weather permitting. Walkers meet at the trail parking lot (520 Conestoga Road). All abilities welcome. Wear comfortable walking shoes.
URL:https://wayneseniorcenter.org/event/walking-club-off-site-36/
END:VEVENT
BEGIN:VEVENT
DTSTART;TZID=UTC:20250805T093000
DTEND;TZID=UTC:20250805T104500
DTSTAMP:20260422T223753
CREATED:20250728T125738Z
LAST-MODIFIED:20250728T125738Z
UID:15607-1754386200-1754390700@wayneseniorcenter.org
SUMMARY:Fresh Start
DESCRIPTION:Join us for Fresh Start—our new\, nutritious and delicious breakfast program! Breakfast will be served every Tuesday and Thursdayfrom 9:30 AM to 10:45 AM. Cost is $3.\nMeals are available on a first-come\, first-served basis\, so be sure to arrive early!\n Please note: the menu is subject to change.
URL:https://wayneseniorcenter.org/event/fresh-start-17/
END:VEVENT
BEGIN:VEVENT
DTSTART;TZID=UTC:20250805T100000
DTEND;TZID=UTC:20250805T110000
DTSTAMP:20260422T223753
CREATED:20250728T125752Z
LAST-MODIFIED:20250728T125752Z
UID:15612-1754388000-1754391600@wayneseniorcenter.org
SUMMARY:DIY Ink Coasters
DESCRIPTION:Come make your own beautiful ink-dyed coasters! We’ll explore the vibrant world of alcohol inks to design unique\, one-of-a-kind pieces perfect for your home or as gifts. No experience needed.
URL:https://wayneseniorcenter.org/event/diy-ink-coasters/
END:VEVENT
BEGIN:VEVENT
DTSTART;TZID=UTC:20250805T110000
DTEND;TZID=UTC:20250805T120000
DTSTAMP:20260422T223753
CREATED:20250728T125740Z
LAST-MODIFIED:20250728T125740Z
UID:15609-1754391600-1754395200@wayneseniorcenter.org
SUMMARY:Sit\, Move\, Stretch
DESCRIPTION:This class offers seated or standing: cardio movement\, strengthening\, deep breathing\, and stretching. In-Person fees – free for WSC members\, $3 for non-members.
URL:https://wayneseniorcenter.org/event/sit-move-stretch-80/
END:VEVENT
BEGIN:VEVENT
DTSTART;TZID=UTC:20250805T123000
DTEND;TZID=UTC:20250805T133000
DTSTAMP:20260422T223753
CREATED:20250728T125739Z
LAST-MODIFIED:20250728T125739Z
UID:15608-1754397000-1754400600@wayneseniorcenter.org
SUMMARY:Mindfulness
DESCRIPTION:Practicing mindfulness provides countless benefits to our overall well-being. Join instructor Liz for an hour of virtual mindfulness.
URL:https://wayneseniorcenter.org/event/mindfulness-41/
END:VEVENT
END:VCALENDAR