BEGIN:VCALENDAR
VERSION:2.0
PRODID:-//Wayne Senior Center - ECPv6.15.20//NONSGML v1.0//EN
CALSCALE:GREGORIAN
METHOD:PUBLISH
X-ORIGINAL-URL:https://wayneseniorcenter.org
X-WR-CALDESC:Events for Wayne Senior Center
REFRESH-INTERVAL;VALUE=DURATION:PT1H
X-Robots-Tag:noindex
X-PUBLISHED-TTL:PT1H
BEGIN:VTIMEZONE
TZID:UTC
BEGIN:STANDARD
TZOFFSETFROM:+0000
TZOFFSETTO:+0000
TZNAME:UTC
DTSTART:20240101T000000
END:STANDARD
END:VTIMEZONE
BEGIN:VEVENT
DTSTART;TZID=UTC:20250722T093000
DTEND;TZID=UTC:20250722T104500
DTSTAMP:20260422T222656
CREATED:20250627T173257Z
LAST-MODIFIED:20250627T173257Z
UID:15482-1753176600-1753181100@wayneseniorcenter.org
SUMMARY:Fresh Start
DESCRIPTION:Join us for Fresh Start—our new\, nutritious and delicious breakfast program! Breakfast will be served every Tuesday and Thursdayfrom 9:30 AM to 10:45 AM. Cost is $3.\nMeals are available on a first-come\, first-served basis\, so be sure to arrive early!\n Please note: the menu is subject to change.
URL:https://wayneseniorcenter.org/event/fresh-start-13/
END:VEVENT
BEGIN:VEVENT
DTSTART;TZID=UTC:20250722T110000
DTEND;TZID=UTC:20250722T120000
DTSTAMP:20260422T222656
CREATED:20250627T175038Z
LAST-MODIFIED:20250627T175038Z
UID:15527-1753182000-1753185600@wayneseniorcenter.org
SUMMARY:Sit\, Move\, Stretch
DESCRIPTION:This class offers seated or standing: cardio movement\, strengthening\, deep breathing\, and stretching. In-Person fees – free for WSC members\, $3 for non-members.
URL:https://wayneseniorcenter.org/event/sit-move-stretch-76/
END:VEVENT
BEGIN:VEVENT
DTSTART;TZID=UTC:20250722T120000
DTEND;TZID=UTC:20250722T130000
DTSTAMP:20260422T222656
CREATED:20250627T173457Z
LAST-MODIFIED:20250627T173457Z
UID:15488-1753185600-1753189200@wayneseniorcenter.org
SUMMARY:Jazz Piano w/ Sammy & Let's Do Lunch
DESCRIPTION:Enjoy some jazz piano music played by high school student\, Sammy\, while you enjoy a delicious lunch!
URL:https://wayneseniorcenter.org/event/jazz-piano-w-sammy-lets-do-lunch/
END:VEVENT
BEGIN:VEVENT
DTSTART;TZID=UTC:20250722T123000
DTEND;TZID=UTC:20250722T133000
DTSTAMP:20260422T222656
CREATED:20250627T173658Z
LAST-MODIFIED:20250627T173658Z
UID:15494-1753187400-1753191000@wayneseniorcenter.org
SUMMARY:Mindfulness
DESCRIPTION:Practicing mindfulness provides countless benefits to our overall well-being. Join instructor Liz for an hour of virtual mindfulness.
URL:https://wayneseniorcenter.org/event/mindfulness-39/
END:VEVENT
BEGIN:VEVENT
DTSTART;TZID=UTC:20250722T150000
DTEND;TZID=UTC:20250722T160000
DTSTAMP:20260422T222656
CREATED:20250627T173459Z
LAST-MODIFIED:20250627T173459Z
UID:15490-1753196400-1753200000@wayneseniorcenter.org
SUMMARY:Memoir Writing (Virtual)
DESCRIPTION:Join Sara Wenger\, MFA for a memoir writing workshop. Sara will share memoir excerpts as well as writing exercises to help you write your unique life experiences so they can be passed on to children\, grandchildren\, friends and others. No prior writing experience is necessary! The class is appropriate for both novice and seasoned writers
URL:https://wayneseniorcenter.org/event/memoir-writing-virtual-22/
END:VEVENT
BEGIN:VEVENT
DTSTART;TZID=UTC:20250723T100000
DTEND;TZID=UTC:20250723T110000
DTSTAMP:20260422T222656
CREATED:20250627T172632Z
LAST-MODIFIED:20250627T172632Z
UID:15457-1753264800-1753268400@wayneseniorcenter.org
SUMMARY:Games & Gab on the Patio
DESCRIPTION:Join us for a relaxing and fun-filled time on the patio. Enjoy classic games and great conversation in the fresh air. Whether you’re in the mood for a friendly game of cards or just want to chat and connect\, this is the perfect way to spend the morning at WSC!
URL:https://wayneseniorcenter.org/event/games-gab-on-the-patio-2/
END:VEVENT
BEGIN:VEVENT
DTSTART;TZID=UTC:20250723T110000
DTEND;TZID=UTC:20250723T120000
DTSTAMP:20260422T222656
CREATED:20250627T173746Z
LAST-MODIFIED:20250627T173746Z
UID:15497-1753268400-1753272000@wayneseniorcenter.org
SUMMARY:Pageturner's Bookclub
DESCRIPTION:Enjoy lively book conversation with a Radnor Memorial Library librarian. All are welcome. We will be discussing Eleanore of Avignon\, by Elizabeth DeLozier. In 1347 Provence\, midwife Elea Blanchet becomes an apprentice to the Pope’s physician and must navigate the complexities of her social status\, a burgeoning career in medicine\, and the impending Black Death while facing accusations of witchcraft.
URL:https://wayneseniorcenter.org/event/pageturners-bookclub-10/
END:VEVENT
BEGIN:VEVENT
DTSTART;TZID=UTC:20250723T111500
DTEND;TZID=UTC:20250723T120000
DTSTAMP:20260422T222656
CREATED:20250627T175230Z
LAST-MODIFIED:20250627T175230Z
UID:15538-1753269300-1753272000@wayneseniorcenter.org
SUMMARY:Soul Line Dancing
DESCRIPTION:Kenny James will get you moving and grooving in a fun\, easy to learn dance class. No experience necessary – all can join. $3 members / $6 non-members.
URL:https://wayneseniorcenter.org/event/soul-line-dancing-54/
END:VEVENT
BEGIN:VEVENT
DTSTART;TZID=UTC:20250723T123000
DTEND;TZID=UTC:20250723T133000
DTSTAMP:20260422T222656
CREATED:20250627T174547Z
LAST-MODIFIED:20250627T174547Z
UID:15519-1753273800-1753277400@wayneseniorcenter.org
SUMMARY:Silver Sneakers Classic
DESCRIPTION:Focus on strengthening muscles and increasing range of motion using light weights\, stretch bands\, and exercise balls.
URL:https://wayneseniorcenter.org/event/silver-sneakers-classic-76/
END:VEVENT
BEGIN:VEVENT
DTSTART;TZID=UTC:20250723T140000
DTEND;TZID=UTC:20250723T140000
DTSTAMP:20260422T222656
CREATED:20250627T175401Z
LAST-MODIFIED:20250627T175401Z
UID:15543-1753279200-1753279200@wayneseniorcenter.org
SUMMARY:Tai Chi
DESCRIPTION:Tai Chi is a gentle form of exercise involving a series of graceful movements performed in a slow\, focused manner and accompanied by deep breathing. Excellent for strengthening balance and promoting stress reduction. In-Person fees – $5 for WSC members\, $10 for non-members.
URL:https://wayneseniorcenter.org/event/tai-chi-50/
END:VEVENT
BEGIN:VEVENT
DTSTART;TZID=UTC:20250724T090000
DTEND;TZID=UTC:20250724T110000
DTSTAMP:20260422T222656
CREATED:20250627T172634Z
LAST-MODIFIED:20250627T172634Z
UID:15459-1753347600-1753354800@wayneseniorcenter.org
SUMMARY:Blood Pressure Screenings
DESCRIPTION:Are you trying to keep track of your blood pressure readings? Have questions about a medication or just need a listening ear? Stop by and speak 1:1 with a nurse.
URL:https://wayneseniorcenter.org/event/blood-pressure-screenings-20/
END:VEVENT
BEGIN:VEVENT
DTSTART;TZID=UTC:20250724T093000
DTEND;TZID=UTC:20250724T104500
DTSTAMP:20260422T222656
CREATED:20250627T173258Z
LAST-MODIFIED:20250627T173258Z
UID:15483-1753349400-1753353900@wayneseniorcenter.org
SUMMARY:Fresh Start
DESCRIPTION:Join us for Fresh Start—our new\, nutritious and delicious breakfast program! Breakfast will be served every Tuesday and Thursdayfrom 9:30 AM to 10:45 AM. Cost is $3.\nMeals are available on a first-come\, first-served basis\, so be sure to arrive early!\n Please note: the menu is subject to change.
URL:https://wayneseniorcenter.org/event/fresh-start-14/
END:VEVENT
BEGIN:VEVENT
DTSTART;TZID=UTC:20250724T100000
DTEND;TZID=UTC:20250724T110000
DTSTAMP:20260422T222656
CREATED:20250627T175431Z
LAST-MODIFIED:20250627T175431Z
UID:15553-1753351200-1753354800@wayneseniorcenter.org
SUMMARY:Weekly Trivia
DESCRIPTION:Join Andrea for a fun and exciting challenge every week. Show off your smarts across a range of trivia categories and have a blast with friends.
URL:https://wayneseniorcenter.org/event/weekly-trivia-10/
END:VEVENT
BEGIN:VEVENT
DTSTART;TZID=UTC:20250724T110000
DTEND;TZID=UTC:20250724T120000
DTSTAMP:20260422T222656
CREATED:20250627T175038Z
LAST-MODIFIED:20250627T175038Z
UID:15528-1753354800-1753358400@wayneseniorcenter.org
SUMMARY:Sit\, Move\, Stretch
DESCRIPTION:This class offers seated or standing: cardio movement\, strengthening\, deep breathing\, and stretching. In-Person fees – free for WSC members\, $3 for non-members.
URL:https://wayneseniorcenter.org/event/sit-move-stretch-77/
END:VEVENT
BEGIN:VEVENT
DTSTART;TZID=UTC:20250724T120000
DTEND;TZID=UTC:20250724T130000
DTSTAMP:20260422T222656
CREATED:20250627T173455Z
LAST-MODIFIED:20250627T173455Z
UID:15486-1753358400-1753362000@wayneseniorcenter.org
SUMMARY:July Birthday Celebration & Ice Cream
DESCRIPTION:Join us to celebrate members who have a birthday in July! Enjoy a special sweet treat with friends.
URL:https://wayneseniorcenter.org/event/july-birthday-celebration-ice-cream/
END:VEVENT
BEGIN:VEVENT
DTSTART;TZID=UTC:20250724T130000
DTEND;TZID=UTC:20250724T150000
DTSTAMP:20260422T222656
CREATED:20250627T172646Z
LAST-MODIFIED:20250627T172646Z
UID:15465-1753362000-1753369200@wayneseniorcenter.org
SUMMARY:Cards and Games: Open Play
DESCRIPTION:Join us for an afternoon playing games of your choice- Poker\, gin rummy\, pinochle\, mahjong etc. Meet a new friend and start a game of your own. Mahjong teachers/leaders feel free to bring your game set!
URL:https://wayneseniorcenter.org/event/cards-and-games-open-play-41/
END:VEVENT
BEGIN:VEVENT
DTSTART;TZID=UTC:20250725T093000
DTEND;TZID=UTC:20250725T103000
DTSTAMP:20260422T222656
CREATED:20250627T174144Z
LAST-MODIFIED:20250627T174144Z
UID:15506-1753435800-1753439400@wayneseniorcenter.org
SUMMARY:Senior Circuit
DESCRIPTION:Join us for a dynamic strength-building\, full-body workout utilizing bands\, weights\, and balls as we cycle through various stations.
URL:https://wayneseniorcenter.org/event/senior-circuit-38/
END:VEVENT
BEGIN:VEVENT
DTSTART;TZID=UTC:20250725T103000
DTEND;TZID=UTC:20250725T113000
DTSTAMP:20260422T222656
CREATED:20250627T172659Z
LAST-MODIFIED:20250627T172659Z
UID:15469-1753439400-1753443000@wayneseniorcenter.org
SUMMARY:Chair Yoga
DESCRIPTION:A well-rounded class that will help with balance\, strengthening\, and relaxation. Have a sturdy chair available. All abilities welcome. In-Person fees – $3 for WSC members\, $6 for non-members.
URL:https://wayneseniorcenter.org/event/chair-yoga-39/
END:VEVENT
BEGIN:VEVENT
DTSTART;TZID=UTC:20250728T100000
DTEND;TZID=UTC:20250728T110000
DTSTAMP:20260422T222656
CREATED:20250627T174547Z
LAST-MODIFIED:20250627T174547Z
UID:15518-1753696800-1753700400@wayneseniorcenter.org
SUMMARY:Silver Sneakers Classic
DESCRIPTION:Focus on strengthening muscles and increasing range of motion using light weights\, stretch bands\, and exercise balls.
URL:https://wayneseniorcenter.org/event/silver-sneakers-classic-75/
END:VEVENT
BEGIN:VEVENT
DTSTART;TZID=UTC:20250728T100000
DTEND;TZID=UTC:20250728T120000
DTSTAMP:20260422T222656
CREATED:20250627T173946Z
LAST-MODIFIED:20250627T173946Z
UID:15502-1753696800-1753704000@wayneseniorcenter.org
SUMMARY:Refresher Bridge
DESCRIPTION:Brush up on your bridge skills with friends. Must have previous bridge experience.
URL:https://wayneseniorcenter.org/event/refresher-bridge-39/
END:VEVENT
BEGIN:VEVENT
DTSTART;TZID=UTC:20250728T100000
DTEND;TZID=UTC:20250728T120000
DTSTAMP:20260422T222656
CREATED:20250627T175446Z
LAST-MODIFIED:20250627T175446Z
UID:15558-1753696800-1753704000@wayneseniorcenter.org
SUMMARY:WSC Quilters
DESCRIPTION:WSC quiliting club. All skill levels Welcome. Come by or RSVP by calling the center – (610) 688-6246
URL:https://wayneseniorcenter.org/event/wsc-quilters-39/
END:VEVENT
BEGIN:VEVENT
DTSTART;TZID=UTC:20250728T110000
DTEND;TZID=UTC:20250728T120000
DTSTAMP:20260422T222656
CREATED:20250627T175229Z
LAST-MODIFIED:20250627T175229Z
UID:15537-1753700400-1753704000@wayneseniorcenter.org
SUMMARY:Soul Line Dancing
DESCRIPTION:Kenny James will get you moving and grooving in a fun\, easy to learn dance class. No experience necessary – all can join. $3 members / $6 non-members.
URL:https://wayneseniorcenter.org/event/soul-line-dancing-53/
END:VEVENT
BEGIN:VEVENT
DTSTART;TZID=UTC:20250729T090000
DTEND;TZID=UTC:20250729T110000
DTSTAMP:20260422T222656
CREATED:20250627T172900Z
LAST-MODIFIED:20250627T172900Z
UID:15475-1753779600-1753786800@wayneseniorcenter.org
SUMMARY:Tech Tuesday
DESCRIPTION:Stop by during this time with your tech questions with our Digital Navigator\, Francis.
URL:https://wayneseniorcenter.org/event/tech-tuesday-26/
END:VEVENT
BEGIN:VEVENT
DTSTART;TZID=UTC:20250729T093000
DTEND;TZID=UTC:20250729T100000
DTSTAMP:20260422T222656
CREATED:20250627T175429Z
LAST-MODIFIED:20250627T175429Z
UID:15551-1753781400-1753783200@wayneseniorcenter.org
SUMMARY:Walking Club (Off-Site)
DESCRIPTION:Join WSC friends for a walk on the Radnor trail – weather permitting. Walkers meet at the trail parking lot (520 Conestoga Road). All abilities welcome. Wear comfortable walking shoes.
URL:https://wayneseniorcenter.org/event/walking-club-off-site-35/
END:VEVENT
BEGIN:VEVENT
DTSTART;TZID=UTC:20250729T093000
DTEND;TZID=UTC:20250729T104500
DTSTAMP:20260422T222656
CREATED:20250627T173259Z
LAST-MODIFIED:20250627T173259Z
UID:15484-1753781400-1753785900@wayneseniorcenter.org
SUMMARY:Fresh Start
DESCRIPTION:Join us for Fresh Start—our new\, nutritious and delicious breakfast program! Breakfast will be served every Tuesday and Thursdayfrom 9:30 AM to 10:45 AM. Cost is $3.\nMeals are available on a first-come\, first-served basis\, so be sure to arrive early!\n Please note: the menu is subject to change.
URL:https://wayneseniorcenter.org/event/fresh-start-15/
END:VEVENT
BEGIN:VEVENT
DTSTART;TZID=UTC:20250729T103000
DTEND;TZID=UTC:20250729T110000
DTSTAMP:20260422T222656
CREATED:20250627T175432Z
LAST-MODIFIED:20250627T175432Z
UID:15554-1753785000-1753786800@wayneseniorcenter.org
SUMMARY:Weekly Trivia
DESCRIPTION:Join Andrea for a fun and exciting challenge every week. Show off your smarts across a range of trivia categories and have a blast with friends.
URL:https://wayneseniorcenter.org/event/weekly-trivia-11/
END:VEVENT
BEGIN:VEVENT
DTSTART;TZID=UTC:20250729T110000
DTEND;TZID=UTC:20250729T120000
DTSTAMP:20260422T222656
CREATED:20250627T175039Z
LAST-MODIFIED:20250627T175039Z
UID:15529-1753786800-1753790400@wayneseniorcenter.org
SUMMARY:Sit\, Move\, Stretch
DESCRIPTION:This class offers seated or standing: cardio movement\, strengthening\, deep breathing\, and stretching. In-Person fees – free for WSC members\, $3 for non-members.
URL:https://wayneseniorcenter.org/event/sit-move-stretch-78/
END:VEVENT
BEGIN:VEVENT
DTSTART;TZID=UTC:20250729T123000
DTEND;TZID=UTC:20250729T133000
DTSTAMP:20260422T222656
CREATED:20250627T173659Z
LAST-MODIFIED:20250627T173659Z
UID:15495-1753792200-1753795800@wayneseniorcenter.org
SUMMARY:Mindfulness
DESCRIPTION:Practicing mindfulness provides countless benefits to our overall well-being. Join instructor Liz for an hour of virtual mindfulness.
URL:https://wayneseniorcenter.org/event/mindfulness-40/
END:VEVENT
BEGIN:VEVENT
DTSTART;TZID=UTC:20250730T100000
DTEND;TZID=UTC:20250730T110000
DTSTAMP:20260422T222656
CREATED:20250627T172700Z
LAST-MODIFIED:20250627T172700Z
UID:15470-1753869600-1753873200@wayneseniorcenter.org
SUMMARY:Coffee Talk with Radnor Police Chaplain
DESCRIPTION:Enjoy coffee\, pastries\, and meaningful discussion with a visiting Radnor Police Chaplain.
URL:https://wayneseniorcenter.org/event/coffee-talk-with-radnor-police-chaplain-10/
END:VEVENT
BEGIN:VEVENT
DTSTART;TZID=UTC:20250730T100000
DTEND;TZID=UTC:20250730T110000
DTSTAMP:20260422T222656
CREATED:20250627T174345Z
LAST-MODIFIED:20250627T174345Z
UID:15511-1753869600-1753873200@wayneseniorcenter.org
SUMMARY:SLC Summer Wellness Series
DESCRIPTION:Join us for a special Summer Wellness Series led by a licensed therapist from Silver Linings Clinic. This program is designed for older adults seeking to enhance emotional well-being\, navigate life transitions\, and build meaningful social connections. Each session offers supportive conversation\, practical tools\, and a warm community atmosphere to help you thrive this summer. Free w/ Medicare. Call 610-688-6246 to register.
URL:https://wayneseniorcenter.org/event/slc-summer-wellness-series-4/
END:VEVENT
END:VCALENDAR