BEGIN:VCALENDAR
VERSION:2.0
PRODID:-//Wayne Senior Center - ECPv6.15.20//NONSGML v1.0//EN
CALSCALE:GREGORIAN
METHOD:PUBLISH
X-WR-CALNAME:Wayne Senior Center
X-ORIGINAL-URL:https://wayneseniorcenter.org
X-WR-CALDESC:Events for Wayne Senior Center
REFRESH-INTERVAL;VALUE=DURATION:PT1H
X-Robots-Tag:noindex
X-PUBLISHED-TTL:PT1H
BEGIN:VTIMEZONE
TZID:UTC
BEGIN:STANDARD
TZOFFSETFROM:+0000
TZOFFSETTO:+0000
TZNAME:UTC
DTSTART:20230101T000000
END:STANDARD
END:VTIMEZONE
BEGIN:VEVENT
DTSTART;TZID=UTC:20240320T100000
DTEND;TZID=UTC:20240320T110000
DTSTAMP:20260422T074637
CREATED:20240221T202920Z
LAST-MODIFIED:20240221T202920Z
UID:13210-1710928800-1710932400@wayneseniorcenter.org
SUMMARY:Strength and Cardio (Virtual)
DESCRIPTION:Move\, stretch\, and tone both seated and standing along with instructor Cathi from home. All abilities welcome!
URL:https://wayneseniorcenter.org/event/strength-and-cardio-virtual-24/
END:VEVENT
BEGIN:VEVENT
DTSTART;TZID=UTC:20240320T110000
DTEND;TZID=UTC:20240320T120000
DTSTAMP:20260422T074637
CREATED:20240221T202921Z
LAST-MODIFIED:20240221T202921Z
UID:13211-1710932400-1710936000@wayneseniorcenter.org
SUMMARY:Tai Chi (In Center and Virtual)
DESCRIPTION:Tai Chi is a gentle form of exercise involving a series of graceful movements performed in a slow\, focused manner and accompanied by deep breathing. Excellent for strengthening balance and promoting stress reduction. In-Person fees – $5 for WSC members\, $10 for non-members.
URL:https://wayneseniorcenter.org/event/tai-chi-in-center-and-virtual-24/
END:VEVENT
BEGIN:VEVENT
DTSTART;TZID=UTC:20240320T120000
DTEND;TZID=UTC:20240320T130000
DTSTAMP:20260422T074637
CREATED:20240221T202935Z
LAST-MODIFIED:20240221T202935Z
UID:13212-1710936000-1710939600@wayneseniorcenter.org
SUMMARY:Agnes Irwin School Visit (In Center)
DESCRIPTION:Students from Agnes Irwin School will be visiting to socialize and share a craft.
URL:https://wayneseniorcenter.org/event/agnes-irwin-school-visit-in-center/
END:VEVENT
BEGIN:VEVENT
DTSTART;TZID=UTC:20240320T123000
DTEND;TZID=UTC:20240320T133000
DTSTAMP:20260422T074637
CREATED:20240221T202920Z
LAST-MODIFIED:20240221T202920Z
UID:13208-1710937800-1710941400@wayneseniorcenter.org
SUMMARY:Fool Around with Ukes (In Center)
DESCRIPTION:Dust off your ukes and join Barbara Van Clief (Barley) for a few practice sessions. Learn to play various popular songs with a group of individuals who share your passion for music!
URL:https://wayneseniorcenter.org/event/fool-around-with-ukes-in-center-6/
END:VEVENT
BEGIN:VEVENT
DTSTART;TZID=UTC:20240320T150000
DTEND;TZID=UTC:20240320T160000
DTSTAMP:20260422T074637
CREATED:20240221T202920Z
LAST-MODIFIED:20240221T202920Z
UID:13209-1710946800-1710950400@wayneseniorcenter.org
SUMMARY:Memoir Writing (Virtual)
DESCRIPTION:Join Sara Wenger\, MFA for a memoir writing workshop. Sara will share memoir excerpts as well as writing exercises to help you write your unique life experiences so they can be passed on to children\, grandchildren\, friends and others. No prior writing experience is necessary! The class is appropriate for both novice and seasoned writers
URL:https://wayneseniorcenter.org/event/memoir-writing-virtual-6/
END:VEVENT
BEGIN:VEVENT
DTSTART;TZID=UTC:20240321T090000
DTEND;TZID=UTC:20240321T110000
DTSTAMP:20260422T074637
CREATED:20240221T202935Z
LAST-MODIFIED:20240221T202935Z
UID:13213-1711011600-1711018800@wayneseniorcenter.org
SUMMARY:Blood Pressure Screenings (In Center)
DESCRIPTION:Are you trying to keep track of your blood pressure readings? Have questions about a medication or just need a listening ear? Stop by and speak 1:1 with a nurse.
URL:https://wayneseniorcenter.org/event/blood-pressure-screenings-in-center-13/
END:VEVENT
BEGIN:VEVENT
DTSTART;TZID=UTC:20240321T093000
DTEND;TZID=UTC:20240321T103000
DTSTAMP:20260422T074637
CREATED:20240221T202936Z
LAST-MODIFIED:20240221T202936Z
UID:13216-1711013400-1711017000@wayneseniorcenter.org
SUMMARY:Zumba Gold (In Center)
DESCRIPTION:Keep your body moving\, enjoy lively music\, and have fun dancing your cares away. $3 members / $6 non-members
URL:https://wayneseniorcenter.org/event/zumba-gold-in-center-23/
END:VEVENT
BEGIN:VEVENT
DTSTART;TZID=UTC:20240321T101500
DTEND;TZID=UTC:20240321T110000
DTSTAMP:20260422T074637
CREATED:20240221T202838Z
LAST-MODIFIED:20240312T170816Z
UID:13194-1711016100-1711018800@wayneseniorcenter.org
SUMMARY:Healthy Measures Cooking Demo: Stay Healthy with Mediterranean Cuisine (In Center)
DESCRIPTION:Mediterranean cuisine was highlighted in the 2015-2020 Dietary Guidelines for Americans as on of the best eating patterns for good health. In this presentation you will learn about why it is so healthy and how to incorporate it into your diet. Presented by Healthy Measures.
URL:https://wayneseniorcenter.org/event/healthy-measures-cooking-demo-stay-healthy-with-mediterranean-cuisine-in-center/
END:VEVENT
BEGIN:VEVENT
DTSTART;TZID=UTC:20240321T110000
DTEND;TZID=UTC:20240321T120000
DTSTAMP:20260422T074637
CREATED:20240221T202935Z
LAST-MODIFIED:20240221T202935Z
UID:13215-1711018800-1711022400@wayneseniorcenter.org
SUMMARY:Sit\, Move\, Stretch (In Center)
DESCRIPTION:Gentle Movement\, stretching\, and relaxation. Free for WSC members\, $3 for non-members. RSVP by calling the center – (610) 688-6246
URL:https://wayneseniorcenter.org/event/sit-move-stretch-in-center-23/
END:VEVENT
BEGIN:VEVENT
DTSTART;TZID=UTC:20240321T124500
DTEND;TZID=UTC:20240321T133000
DTSTAMP:20260422T074637
CREATED:20240221T202950Z
LAST-MODIFIED:20240221T202950Z
UID:13217-1711025100-1711027800@wayneseniorcenter.org
SUMMARY:The Artist Circle: Yayoi Kusama (In Center)
DESCRIPTION:Create Kusama inspired art. During this program we will experiment with finger painting and rock painting.
URL:https://wayneseniorcenter.org/event/the-artist-circle-yayoi-kusama-in-center/
END:VEVENT
BEGIN:VEVENT
DTSTART;TZID=UTC:20240321T130000
DTEND;TZID=UTC:20240321T150000
DTSTAMP:20260422T074637
CREATED:20240221T202935Z
LAST-MODIFIED:20240221T202935Z
UID:13214-1711026000-1711033200@wayneseniorcenter.org
SUMMARY:Cards and Games: Open Play (In Center)
DESCRIPTION:Join us for an afternoon playing games of your choice- Poker\, gin rummy\, pinochle\, mahjong etc. Meet a new friend and start a game of your own. Mahjong teachers/leaders feel free to bring your game set!
URL:https://wayneseniorcenter.org/event/cards-and-games-open-play-in-center-23/
END:VEVENT
BEGIN:VEVENT
DTSTART;TZID=UTC:20240322T103000
DTEND;TZID=UTC:20240322T113000
DTSTAMP:20260422T074637
CREATED:20240221T202950Z
LAST-MODIFIED:20240221T202950Z
UID:13218-1711103400-1711107000@wayneseniorcenter.org
SUMMARY:Chair Yoga (In Person and Virtual)
DESCRIPTION:A well-rounded class that will help with balance\, strengthening\, and relaxation. Have a sturdy chair available. All abilities welcome. In-Person fees – $3 for WSC members\, $6 for non-members.
URL:https://wayneseniorcenter.org/event/chair-yoga-in-person-and-virtual-19/
END:VEVENT
BEGIN:VEVENT
DTSTART;TZID=UTC:20240325T100000
DTEND;TZID=UTC:20240325T120000
DTSTAMP:20260422T074637
CREATED:20240221T202950Z
LAST-MODIFIED:20240221T202950Z
UID:13219-1711360800-1711368000@wayneseniorcenter.org
SUMMARY:Refresher Bridge (In Center)
DESCRIPTION:Brush up on your bridge skills with Lawrie Stetson and Dave Heron. Must have previous bridge experience.
URL:https://wayneseniorcenter.org/event/refresher-bridge-in-center-22/
END:VEVENT
BEGIN:VEVENT
DTSTART;TZID=UTC:20240325T100000
DTEND;TZID=UTC:20240325T120000
DTSTAMP:20260422T074637
CREATED:20240221T202951Z
LAST-MODIFIED:20240221T202951Z
UID:13221-1711360800-1711368000@wayneseniorcenter.org
SUMMARY:WSC Quilters (In Center)
DESCRIPTION:WSC quiliting club. All skill levels Welcome. Come by or RSVP by calling the center – (610) 688-6246
URL:https://wayneseniorcenter.org/event/wsc-quilters-in-center-22/
END:VEVENT
BEGIN:VEVENT
DTSTART;TZID=UTC:20240325T130000
DTEND;TZID=UTC:20240325T140000
DTSTAMP:20260422T074637
CREATED:20240221T202951Z
LAST-MODIFIED:20240221T202951Z
UID:13220-1711371600-1711375200@wayneseniorcenter.org
SUMMARY:Strength and Balance (Virtual)
DESCRIPTION:Move\, stretch\, and improve your balance\, both seated and standing\, along with instructor Cathi from home. All abilities welcome!
URL:https://wayneseniorcenter.org/event/strength-and-balance-virtual-22/
END:VEVENT
BEGIN:VEVENT
DTSTART;TZID=UTC:20240326T090000
DTEND;TZID=UTC:20240326T110000
DTSTAMP:20260422T074637
CREATED:20240221T203006Z
LAST-MODIFIED:20240221T203006Z
UID:13225-1711443600-1711450800@wayneseniorcenter.org
SUMMARY:Tech Tuesday (In Center)
DESCRIPTION:Tuesdays from 11am – 1pm stop in to chat Technology. Stop by between programs\, after grabbing some lunch\, or whenever is convenient for you. Bring specific questions about your device or come in to explore Wayne Senior Center iPads in a no-pressure environment. Or\, come by to share recent accomplishments or knowledge you’d like to share with others\, or just stop in to say hi and learn something new. Stop by during this time or email Francis at francis@wayneseniorcenter.org to make an appointment.
URL:https://wayneseniorcenter.org/event/tech-tuesday-in-center-23/
END:VEVENT
BEGIN:VEVENT
DTSTART;TZID=UTC:20240326T103000
DTEND;TZID=UTC:20240326T113000
DTSTAMP:20260422T074637
CREATED:20240221T203006Z
LAST-MODIFIED:20240221T203006Z
UID:13226-1711449000-1711452600@wayneseniorcenter.org
SUMMARY:Veteran's Program (In Center)
DESCRIPTION:Everything you need to know! Delaware County Office of Military and Veteran’s Affairs will discuss entitlements\, benefits\, and answer all your questions. Light refreshments will be provided.
URL:https://wayneseniorcenter.org/event/veterans-program-in-center/
END:VEVENT
BEGIN:VEVENT
DTSTART;TZID=UTC:20240326T110000
DTEND;TZID=UTC:20240326T120000
DTSTAMP:20260422T074637
CREATED:20240221T203005Z
LAST-MODIFIED:20240221T203005Z
UID:13224-1711450800-1711454400@wayneseniorcenter.org
SUMMARY:Sit\, Move\, Stretch (In Center and Virtual)
DESCRIPTION:This class offers seated or standing: cardio movement\, strengthening\, deep breathing\, and stretching. In-Person fees – free for WSC members\, $3 for non-members.
URL:https://wayneseniorcenter.org/event/sit-move-stretch-in-center-and-virtual-23/
END:VEVENT
BEGIN:VEVENT
DTSTART;TZID=UTC:20240326T120000
DTEND;TZID=UTC:20240326T130000
DTSTAMP:20260422T074637
CREATED:20240221T203005Z
LAST-MODIFIED:20240221T203005Z
UID:13222-1711454400-1711458000@wayneseniorcenter.org
SUMMARY:Let's Do Lunch! - Cozy Comforts (In Center)
DESCRIPTION:Let’s do lunch together on Tuesday\, March 5\, 12\, and 26! Meals this month will help us say goodbye to winter and hello to spring! You can expect vegan butternut squash mac and cheese\, roasted carrots and parsnips\, and lemon orzo with asparagus and peas. $5 members / $8 non-members. RSVP required\, in-center dining only.
URL:https://wayneseniorcenter.org/event/lets-do-lunch-cozy-comforts-in-center-6/
END:VEVENT
BEGIN:VEVENT
DTSTART;TZID=UTC:20240326T123000
DTEND;TZID=UTC:20240326T130000
DTSTAMP:20260422T074637
CREATED:20240221T203005Z
LAST-MODIFIED:20240221T203005Z
UID:13223-1711456200-1711458000@wayneseniorcenter.org
SUMMARY:Mindfulness (In Center)
DESCRIPTION:Practicing mindfulness provides countless benefits to our overall well-being. Join instructor Liz for an hour of virtual mindfulness.
URL:https://wayneseniorcenter.org/event/mindfulness-in-center-16/
END:VEVENT
BEGIN:VEVENT
DTSTART;TZID=UTC:20240327T100000
DTEND;TZID=UTC:20240327T110000
DTSTAMP:20260422T074637
CREATED:20240221T203020Z
LAST-MODIFIED:20240221T203020Z
UID:13229-1711533600-1711537200@wayneseniorcenter.org
SUMMARY:Strength and Cardio (Virtual)
DESCRIPTION:Move\, stretch\, and tone both seated and standing along with instructor Cathi from home. All abilities welcome!
URL:https://wayneseniorcenter.org/event/strength-and-cardio-virtual-25/
END:VEVENT
BEGIN:VEVENT
DTSTART;TZID=UTC:20240327T110000
DTEND;TZID=UTC:20240327T120000
DTSTAMP:20260422T074637
CREATED:20240221T203020Z
LAST-MODIFIED:20240221T203020Z
UID:13227-1711537200-1711540800@wayneseniorcenter.org
SUMMARY:Pageturners Bookclub (In Center)
DESCRIPTION:Book club returns! This month’s selection is “The Nickel Boys” by Colson Whitehead. Enjoy lively book conversation with a Radnor Memorial Library librarian. All are welcome! Call for more info – (610)688-6246
URL:https://wayneseniorcenter.org/event/pageturners-bookclub-in-center-6/
END:VEVENT
BEGIN:VEVENT
DTSTART;TZID=UTC:20240327T110000
DTEND;TZID=UTC:20240327T120000
DTSTAMP:20260422T074637
CREATED:20240221T203021Z
LAST-MODIFIED:20240221T203021Z
UID:13230-1711537200-1711540800@wayneseniorcenter.org
SUMMARY:Tai Chi (In Center and Virtual)
DESCRIPTION:Tai Chi is a gentle form of exercise involving a series of graceful movements performed in a slow\, focused manner and accompanied by deep breathing. Excellent for strengthening balance and promoting stress reduction. In-Person fees – $5 for WSC members\, $10 for non-members.
URL:https://wayneseniorcenter.org/event/tai-chi-in-center-and-virtual-25/
END:VEVENT
BEGIN:VEVENT
DTSTART;TZID=UTC:20240327T120000
DTEND;TZID=UTC:20240327T140000
DTSTAMP:20260422T074637
CREATED:20240221T203020Z
LAST-MODIFIED:20240221T203212Z
UID:13228-1711540800-1711548000@wayneseniorcenter.org
SUMMARY:Pizza and a Movie: The Holdovers (In Center)
DESCRIPTION:Join us for a viewing of the film\, The Holdovers (2023). Set in the winter of 1970\, the film stars Paul Giamatti as a strict teacher at a New England boarding school who is forced to chaperone a handful of students with nowhere to go on Christmas break. $3 for WSC members\, $6 for non-members.
URL:https://wayneseniorcenter.org/event/pizza-and-a-movie-the-holdovers-in-center/
END:VEVENT
BEGIN:VEVENT
DTSTART;TZID=UTC:20240328T093000
DTEND;TZID=UTC:20240328T103000
DTSTAMP:20260422T074637
CREATED:20240318T182136Z
LAST-MODIFIED:20240318T182136Z
UID:13307-1711618200-1711621800@wayneseniorcenter.org
SUMMARY:Zumba Gold (In Center)
DESCRIPTION:Keep your body moving\, enjoy lively music\, and have fun dancing your cares away. $3 members / $6 non-members
URL:https://wayneseniorcenter.org/event/zumba-gold-in-center-24/
END:VEVENT
BEGIN:VEVENT
DTSTART;TZID=UTC:20240328T113000
DTEND;TZID=UTC:20240328T130000
DTSTAMP:20260422T074637
CREATED:20240318T182346Z
LAST-MODIFIED:20240318T182535Z
UID:13309-1711625400-1711630800@wayneseniorcenter.org
SUMMARY:Chef's Table (In Center)
DESCRIPTION:Join us for our 1st Chef’s Table since 2019! \nA wonderful program where community chefs from local restaurants demo a special dish and then serve a delicious lunch from their restaurant right here at Wayne Senior Center! We will be welcoming Chef Nick Kondra of Cornerstone Bistro\, Thursday\, March 28 at 11:30am. Chef Nick will provide a cooking demonstration at 11:30am followed by a specially prepared meal at 12:00pm. Seating is limited – you must reserve and pay in advance by March 21st. \n$10 members / $20 non-members.
URL:https://wayneseniorcenter.org/event/chefs-table-in-center/
END:VEVENT
BEGIN:VEVENT
DTSTART;TZID=UTC:20240328T123000
DTEND;TZID=UTC:20240328T130000
DTSTAMP:20260422T074637
CREATED:20240221T202307Z
LAST-MODIFIED:20240221T202307Z
UID:13152-1711629000-1711630800@wayneseniorcenter.org
SUMMARY:March Birthday Lunch (In Center)
DESCRIPTION:Join us to celebrate members who have birthdays this month! We will exchange cards\, sing songs\, and eat cake!
URL:https://wayneseniorcenter.org/event/march-birthday-lunch-in-center/
END:VEVENT
BEGIN:VEVENT
DTSTART;TZID=UTC:20240328T130000
DTEND;TZID=UTC:20240328T140000
DTSTAMP:20260422T074637
CREATED:20240318T182433Z
LAST-MODIFIED:20240318T182509Z
UID:13311-1711630800-1711634400@wayneseniorcenter.org
SUMMARY:Men's Group
DESCRIPTION:Note the updated time! 1:00pm due to special Chef’s Table event. \nJoin us to talk\, socialize\, share!
URL:https://wayneseniorcenter.org/event/mens-group/
END:VEVENT
BEGIN:VEVENT
DTSTART;TZID=UTC:20240328T131500
DTEND;TZID=UTC:20240328T140000
DTSTAMP:20260422T074637
CREATED:20240318T182621Z
LAST-MODIFIED:20240318T182621Z
UID:13313-1711631700-1711634400@wayneseniorcenter.org
SUMMARY:The Artist's Circle: Zentangle
DESCRIPTION:Join Lorraine for this week’s The Artist’s Circle!
URL:https://wayneseniorcenter.org/event/the-artists-circle-zentangle/
END:VEVENT
BEGIN:VEVENT
DTSTART;TZID=UTC:20240328T140000
DTEND;TZID=UTC:20240328T150000
DTSTAMP:20260422T074637
CREATED:20240221T203021Z
LAST-MODIFIED:20240221T203021Z
UID:13231-1711634400-1711638000@wayneseniorcenter.org
SUMMARY:Cards and Games: Open Play (In Center)
DESCRIPTION:Join us for an afternoon playing games of your choice- Poker\, gin rummy\, pinochle\, mahjong etc. Meet a new friend and start a game of your own. Mahjong teachers/leaders feel free to bring your game set!
URL:https://wayneseniorcenter.org/event/cards-and-games-open-play-in-center-24/
END:VEVENT
END:VCALENDAR