BEGIN:VCALENDAR
VERSION:2.0
PRODID:-//Wayne Senior Center - ECPv6.15.20//NONSGML v1.0//EN
CALSCALE:GREGORIAN
METHOD:PUBLISH
X-ORIGINAL-URL:https://wayneseniorcenter.org
X-WR-CALDESC:Events for Wayne Senior Center
REFRESH-INTERVAL;VALUE=DURATION:PT1H
X-Robots-Tag:noindex
X-PUBLISHED-TTL:PT1H
BEGIN:VTIMEZONE
TZID:UTC
BEGIN:STANDARD
TZOFFSETFROM:+0000
TZOFFSETTO:+0000
TZNAME:UTC
DTSTART:20230101T000000
END:STANDARD
END:VTIMEZONE
BEGIN:VEVENT
DTSTART;TZID=UTC:20240418T170000
DTEND;TZID=UTC:20240418T180000
DTSTAMP:20260422T074643
CREATED:20240326T182752Z
LAST-MODIFIED:20240326T182752Z
UID:13407-1713459600-1713463200@wayneseniorcenter.org
SUMMARY:Estate Planning: The Four Essential Documents (In Center)
DESCRIPTION:Part of the 3-part Conversations series presented by Anderson Elder Law. Wine and light bites will be served. Call to RSVP 610-688-6246
URL:https://wayneseniorcenter.org/event/estate-planning-the-four-essential-documents-in-center/
END:VEVENT
BEGIN:VEVENT
DTSTART;TZID=UTC:20240419T103000
DTEND;TZID=UTC:20240419T113000
DTSTAMP:20260422T074643
CREATED:20240326T182752Z
LAST-MODIFIED:20240326T182752Z
UID:13408-1713522600-1713526200@wayneseniorcenter.org
SUMMARY:Chair Yoga (In Person and Virtual)
DESCRIPTION:A well-rounded class that will help with balance\, strengthening\, and relaxation. Have a sturdy chair available. All abilities welcome. In-Person fees – $3 for WSC members\, $6 for non-members.
URL:https://wayneseniorcenter.org/event/chair-yoga-in-person-and-virtual-22/
END:VEVENT
BEGIN:VEVENT
DTSTART;TZID=UTC:20240422T100000
DTEND;TZID=UTC:20240422T120000
DTSTAMP:20260422T074643
CREATED:20240326T182752Z
LAST-MODIFIED:20240326T182752Z
UID:13409-1713780000-1713787200@wayneseniorcenter.org
SUMMARY:Refresher Bridge (In Center)
DESCRIPTION:Brush up on your bridge skills with Lawrie Stetson and Dave Heron. Must have previous bridge experience.
URL:https://wayneseniorcenter.org/event/refresher-bridge-in-center-26/
END:VEVENT
BEGIN:VEVENT
DTSTART;TZID=UTC:20240422T100000
DTEND;TZID=UTC:20240422T120000
DTSTAMP:20260422T074643
CREATED:20240326T182806Z
LAST-MODIFIED:20240326T182806Z
UID:13411-1713780000-1713787200@wayneseniorcenter.org
SUMMARY:WSC Quilters (In Center)
DESCRIPTION:WSC quiliting club. All skill levels Welcome. Come by or RSVP by calling the center – (610) 688-6246
URL:https://wayneseniorcenter.org/event/wsc-quilters-in-center-26/
END:VEVENT
BEGIN:VEVENT
DTSTART;TZID=UTC:20240422T110000
DTEND;TZID=UTC:20240422T120000
DTSTAMP:20260422T074643
CREATED:20240326T182807Z
LAST-MODIFIED:20240417T131813Z
UID:13412-1713783600-1713787200@wayneseniorcenter.org
SUMMARY:Soul Line Dance (In Center)
DESCRIPTION:Kenny James will get you moving and grooving in a fun\, easy to learn dance class. No experience necessary – all can join. $3 members / $6 non-members.
URL:https://wayneseniorcenter.org/event/soul-line-dance-in-center-4/
END:VEVENT
BEGIN:VEVENT
DTSTART;TZID=UTC:20240422T123000
DTEND;TZID=UTC:20240422T133000
DTSTAMP:20260422T074643
CREATED:20240326T182807Z
LAST-MODIFIED:20240326T182807Z
UID:13413-1713789000-1713792600@wayneseniorcenter.org
SUMMARY:Silver Singles: Dating Over 50 (In Center)
DESCRIPTION:Join Destinie as she explores the top-rated dating sites for singles over 50. During this program\, you will learn how to navigate the Silver Singles dating app\, learn tips on how to date online safely\, and how the Wayne Senior Center can help facilitate your pursuit of maintaing healthy relationships.
URL:https://wayneseniorcenter.org/event/silver-singles-dating-over-50-in-center-2/
END:VEVENT
BEGIN:VEVENT
DTSTART;TZID=UTC:20240422T130000
DTEND;TZID=UTC:20240422T140000
DTSTAMP:20260422T074643
CREATED:20240326T182753Z
LAST-MODIFIED:20240326T182753Z
UID:13410-1713790800-1713794400@wayneseniorcenter.org
SUMMARY:Strength and Balance (Virtual)
DESCRIPTION:Move\, stretch\, and improve your balance\, both seated and standing\, along with instructor Cathi from home. All abilities welcome!
URL:https://wayneseniorcenter.org/event/strength-and-balance-virtual-26/
END:VEVENT
BEGIN:VEVENT
DTSTART;TZID=UTC:20240424T100000
DTEND;TZID=UTC:20240424T110000
DTSTAMP:20260422T074643
CREATED:20240326T182807Z
LAST-MODIFIED:20240326T182807Z
UID:13414-1713952800-1713956400@wayneseniorcenter.org
SUMMARY:Drums Alive (In Center)
DESCRIPTION:Join us for a fun\, rhythmic\, seated exercise class that gets you moving and grooving!
URL:https://wayneseniorcenter.org/event/drums-alive-in-center-20/
END:VEVENT
BEGIN:VEVENT
DTSTART;TZID=UTC:20240424T100000
DTEND;TZID=UTC:20240424T110000
DTSTAMP:20260422T074643
CREATED:20240326T182821Z
LAST-MODIFIED:20240326T182821Z
UID:13417-1713952800-1713956400@wayneseniorcenter.org
SUMMARY:Strength and Cardio (Virtual)
DESCRIPTION:Move\, stretch\, and tone both seated and standing along with instructor Cathi from home. All abilities welcome!
URL:https://wayneseniorcenter.org/event/strength-and-cardio-virtual-29/
END:VEVENT
BEGIN:VEVENT
DTSTART;TZID=UTC:20240424T110000
DTEND;TZID=UTC:20240424T120000
DTSTAMP:20260422T074643
CREATED:20240326T182821Z
LAST-MODIFIED:20240326T182821Z
UID:13416-1713956400-1713960000@wayneseniorcenter.org
SUMMARY:Pageturners Bookclub (In Center)
DESCRIPTION:This month’s selection is “The Heaven & Earth Grocery Store” by James McBride. Enjoy lively book conversation with a Radnor Memorial Library librarian. All are welcome! Call for more info – (610)688-6246
URL:https://wayneseniorcenter.org/event/pageturners-bookclub-in-center-7/
END:VEVENT
BEGIN:VEVENT
DTSTART;TZID=UTC:20240424T110000
DTEND;TZID=UTC:20240424T120000
DTSTAMP:20260422T074643
CREATED:20240326T182822Z
LAST-MODIFIED:20240326T182822Z
UID:13418-1713956400-1713960000@wayneseniorcenter.org
SUMMARY:Tai Chi (In Center and Virtual)
DESCRIPTION:Tai Chi is a gentle form of exercise involving a series of graceful movements performed in a slow\, focused manner and accompanied by deep breathing. Excellent for strengthening balance and promoting stress reduction. In-Person fees – $5 for WSC members\, $10 for non-members.
URL:https://wayneseniorcenter.org/event/tai-chi-in-center-and-virtual-28/
END:VEVENT
BEGIN:VEVENT
DTSTART;TZID=UTC:20240424T123000
DTEND;TZID=UTC:20240424T133000
DTSTAMP:20260422T074643
CREATED:20240326T182807Z
LAST-MODIFIED:20240326T182807Z
UID:13415-1713961800-1713965400@wayneseniorcenter.org
SUMMARY:Fooling with Ukes (In Center)
DESCRIPTION:Dust off your ukes and join Barbara Van Clief (Barley) for a few practice sessions. Learn to play various popular songs with a group of individuals who share your passion for music!
URL:https://wayneseniorcenter.org/event/fooling-with-ukes-in-center-2/
END:VEVENT
BEGIN:VEVENT
DTSTART;TZID=UTC:20240424T140000
DTEND;TZID=UTC:20240424T160000
DTSTAMP:20260422T074643
CREATED:20240326T182822Z
LAST-MODIFIED:20240326T184605Z
UID:13419-1713967200-1713974400@wayneseniorcenter.org
SUMMARY:Senior Prom (In Center)
DESCRIPTION:Music\, dancing\, wine\, refreshments\, raffles\, and more! Call for more info – 610-688-6246
URL:https://wayneseniorcenter.org/event/senior-prom-in-center/
END:VEVENT
BEGIN:VEVENT
DTSTART;TZID=UTC:20240425T093000
DTEND;TZID=UTC:20240425T103000
DTSTAMP:20260422T074643
CREATED:20240326T182838Z
LAST-MODIFIED:20240326T182838Z
UID:13425-1714037400-1714041000@wayneseniorcenter.org
SUMMARY:Zumba Gold (In Center)
DESCRIPTION:Keep your body moving\, enjoy lively music\, and have fun dancing your cares away. $3 members / $6 non-members
URL:https://wayneseniorcenter.org/event/zumba-gold-in-center-28/
END:VEVENT
BEGIN:VEVENT
DTSTART;TZID=UTC:20240425T101500
DTEND;TZID=UTC:20240425T110000
DTSTAMP:20260422T074643
CREATED:20240326T182851Z
LAST-MODIFIED:20240326T182851Z
UID:13426-1714040100-1714042800@wayneseniorcenter.org
SUMMARY:Synergy Drumming (In Center)
DESCRIPTION:Synergy Homecare will lead a fun and interactive drumming workshop for all. Drum Circles can reduce tension\, anxiety\, and help you to feel calm and relaxed. It can also incite laughter and humor while generating positive energy. Join us for a fun time.
URL:https://wayneseniorcenter.org/event/synergy-drumming-in-center/
END:VEVENT
BEGIN:VEVENT
DTSTART;TZID=UTC:20240425T110000
DTEND;TZID=UTC:20240425T120000
DTSTAMP:20260422T074643
CREATED:20240326T182837Z
LAST-MODIFIED:20240326T182837Z
UID:13422-1714042800-1714046400@wayneseniorcenter.org
SUMMARY:Sit\, Move\, Stretch (In Center)
DESCRIPTION:Gentle Movement\, stretching\, and relaxation. Free for WSC members\, $3 for non-members. RSVP by calling the center – (610) 688-6246
URL:https://wayneseniorcenter.org/event/sit-move-stretch-in-center-27/
END:VEVENT
BEGIN:VEVENT
DTSTART;TZID=UTC:20240425T120000
DTEND;TZID=UTC:20240425T130000
DTSTAMP:20260422T074643
CREATED:20240326T182836Z
LAST-MODIFIED:20240326T182836Z
UID:13421-1714046400-1714050000@wayneseniorcenter.org
SUMMARY:April Birthday Lunch (In Center)
DESCRIPTION:Join us to celebrate members who have birthdays this month! We will exchange cards\, sing songs\, and eat cake!
URL:https://wayneseniorcenter.org/event/april-birthday-lunch-in-center/
END:VEVENT
BEGIN:VEVENT
DTSTART;TZID=UTC:20240425T120000
DTEND;TZID=UTC:20240425T130000
DTSTAMP:20260422T074643
CREATED:20240326T182837Z
LAST-MODIFIED:20240326T182837Z
UID:13424-1714046400-1714050000@wayneseniorcenter.org
SUMMARY:The Men's Group (In Center)
DESCRIPTION:From family stories\, thoughts on retirement\, to the news and a good joke\, come enjoy the company of other men! This men’s only meeting is an opportunity to chat about whatever is on your mind. You may enjoy the Center lunch or bring your own if you wish. Drinks and dessert will be provided.
URL:https://wayneseniorcenter.org/event/the-mens-group-in-center-8/
END:VEVENT
BEGIN:VEVENT
DTSTART;TZID=UTC:20240425T123000
DTEND;TZID=UTC:20240425T133000
DTSTAMP:20260422T074643
CREATED:20240326T182837Z
LAST-MODIFIED:20240326T182837Z
UID:13423-1714048200-1714051800@wayneseniorcenter.org
SUMMARY:Tai Chi (In Center)
DESCRIPTION:New Time / Additional Class – Tai Chi is a gentle form of exercise involving a series of graceful movements performed in a slow\, focused manner and accompanied by deep breathing. Excellent for strengthening balance and promoting stress reduction. In-Person fees – $5 for WSC members\, $10 for non-members.
URL:https://wayneseniorcenter.org/event/tai-chi-in-center-4/
END:VEVENT
BEGIN:VEVENT
DTSTART;TZID=UTC:20240425T130000
DTEND;TZID=UTC:20240425T150000
DTSTAMP:20260422T074643
CREATED:20240326T182822Z
LAST-MODIFIED:20240326T190223Z
UID:13420-1714050000-1714057200@wayneseniorcenter.org
SUMMARY:Cards and Games: Open Play (In Center)
DESCRIPTION:Join us for an afternoon playing games of your choice- Poker\, gin rummy\, pinochle\, mahjong etc. Meet a new friend and start a game of your own. Mahjong teachers/leaders feel free to bring your game set!
URL:https://wayneseniorcenter.org/event/cards-and-games-open-play-in-center-28/
END:VEVENT
BEGIN:VEVENT
DTSTART;TZID=UTC:20240426T103000
DTEND;TZID=UTC:20240426T113000
DTSTAMP:20260422T074643
CREATED:20240326T182852Z
LAST-MODIFIED:20240326T182852Z
UID:13427-1714127400-1714131000@wayneseniorcenter.org
SUMMARY:Chair Yoga (In Person and Virtual)
DESCRIPTION:A well-rounded class that will help with balance\, strengthening\, and relaxation. Have a sturdy chair available. All abilities welcome. In-Person fees – $3 for WSC members\, $6 for non-members.
URL:https://wayneseniorcenter.org/event/chair-yoga-in-person-and-virtual-23/
END:VEVENT
BEGIN:VEVENT
DTSTART;TZID=UTC:20240429T100000
DTEND;TZID=UTC:20240429T120000
DTSTAMP:20260422T074643
CREATED:20240326T182852Z
LAST-MODIFIED:20240326T182852Z
UID:13428-1714384800-1714392000@wayneseniorcenter.org
SUMMARY:Refresher Bridge (In Center)
DESCRIPTION:Brush up on your bridge skills with Lawrie Stetson and Dave Heron. Must have previous bridge experience.
URL:https://wayneseniorcenter.org/event/refresher-bridge-in-center-27/
END:VEVENT
BEGIN:VEVENT
DTSTART;TZID=UTC:20240429T100000
DTEND;TZID=UTC:20240429T120000
DTSTAMP:20260422T074643
CREATED:20240326T182852Z
LAST-MODIFIED:20240326T182852Z
UID:13430-1714384800-1714392000@wayneseniorcenter.org
SUMMARY:WSC Quilters (In Center)
DESCRIPTION:WSC quiliting club. All skill levels Welcome. Come by or RSVP by calling the center – (610) 688-6246
URL:https://wayneseniorcenter.org/event/wsc-quilters-in-center-27/
END:VEVENT
BEGIN:VEVENT
DTSTART;TZID=UTC:20240429T110000
DTEND;TZID=UTC:20240429T120000
DTSTAMP:20260422T074643
CREATED:20240326T183754Z
LAST-MODIFIED:20240417T131817Z
UID:13433-1714388400-1714392000@wayneseniorcenter.org
SUMMARY:Soul Line Dance (In Center)
DESCRIPTION:Kenny James will get you moving and grooving in a fun\, easy to learn dance class. No experience necessary – all can join. $3 members / $6 non-members.
URL:https://wayneseniorcenter.org/event/soul-line-dance-in-center-5/
END:VEVENT
BEGIN:VEVENT
DTSTART;TZID=UTC:20240429T130000
DTEND;TZID=UTC:20240429T140000
DTSTAMP:20260422T074643
CREATED:20240326T182852Z
LAST-MODIFIED:20240326T182852Z
UID:13429-1714395600-1714399200@wayneseniorcenter.org
SUMMARY:Strength and Balance (Virtual)
DESCRIPTION:Move\, stretch\, and improve your balance\, both seated and standing\, along with instructor Cathi from home. All abilities welcome!
URL:https://wayneseniorcenter.org/event/strength-and-balance-virtual-27/
END:VEVENT
BEGIN:VEVENT
DTSTART;TZID=UTC:20240430T090000
DTEND;TZID=UTC:20240430T110000
DTSTAMP:20260422T074643
CREATED:20240326T183754Z
LAST-MODIFIED:20240326T183754Z
UID:13435-1714467600-1714474800@wayneseniorcenter.org
SUMMARY:Tech Tuesday (In Center)
DESCRIPTION:Tuesdays from 11am – 1pm stop in to chat Technology. Stop by between programs\, after grabbing some lunch\, or whenever is convenient for you. Bring specific questions about your device or come in to explore Wayne Senior Center iPads in a no-pressure environment. Or\, come by to share recent accomplishments or knowledge you’d like to share with others\, or just stop in to say hi and learn something new. Stop by during this time or email Francis at francis@wayneseniorcenter.org to make an appointment.
URL:https://wayneseniorcenter.org/event/tech-tuesday-in-center-27/
END:VEVENT
BEGIN:VEVENT
DTSTART;TZID=UTC:20240430T100000
DTEND;TZID=UTC:20240430T110000
DTSTAMP:20260422T074643
CREATED:20240326T183755Z
LAST-MODIFIED:20240326T184740Z
UID:13436-1714471200-1714474800@wayneseniorcenter.org
SUMMARY:Smart Phone Tips: Podcasts (In Center)
DESCRIPTION:Explore the wide world of podcasts – a form of audio storytelling that can take many forms from topical news to historical programs\, fictional radio dramas to programs on spirituality\, and everything in between. Learn how to listen in on your mobile device and take a tour through some popular programs. Bring your device or follow along on WSC iPads.
URL:https://wayneseniorcenter.org/event/smart-phone-tips-podcasts-in-center/
END:VEVENT
BEGIN:VEVENT
DTSTART;TZID=UTC:20240430T113000
DTEND;TZID=UTC:20240430T123000
DTSTAMP:20260422T074643
CREATED:20240326T183754Z
LAST-MODIFIED:20240326T184724Z
UID:13434-1714476600-1714480200@wayneseniorcenter.org
SUMMARY:Chef's Table: Margaret Kuo (In Center)
DESCRIPTION:Join us for our 1st Chef’s Table since 2019! A wonderful program where community chefs from local restaurants demo a special dish and then serve a delicious lunch from their restaurant right here at Wayne Senior Center! This month will feature Margaret Kuo of Margaret Kuo’s Kitchen. Margaret will do a demo on vegetable spring rolls on April 30th at 11:30am. Chef Nick will provide a cooking demonstration at 11:30am followed by a specially prepared meal at 12:00pm. Seating is limited – you must reserve and pay in advance by April 22. $10 members / $20 non-members.
URL:https://wayneseniorcenter.org/event/chefs-table-margaret-kuo-in-center/
END:VEVENT
BEGIN:VEVENT
DTSTART;TZID=UTC:20240501T100000
DTEND;TZID=UTC:20240501T110000
DTSTAMP:20260422T074643
CREATED:20240426T000711Z
LAST-MODIFIED:20240426T000711Z
UID:13502-1714557600-1714561200@wayneseniorcenter.org
SUMMARY:Drums Alive (In Center)
DESCRIPTION:Join us for a fun\, rhythmic\, seated exercise class that gets you moving and grooving!
URL:https://wayneseniorcenter.org/event/drums-alive-in-center-21/
END:VEVENT
BEGIN:VEVENT
DTSTART;TZID=UTC:20240501T110000
DTEND;TZID=UTC:20240501T120000
DTSTAMP:20260422T074643
CREATED:20240426T000713Z
LAST-MODIFIED:20240426T000713Z
UID:13503-1714561200-1714564800@wayneseniorcenter.org
SUMMARY:Tai Chi (In Center and Virtual)
DESCRIPTION:Tai Chi is a gentle form of exercise involving a series of graceful movements performed in a slow\, focused manner and accompanied by deep breathing. Excellent for strengthening balance and promoting stress reduction. In-Person fees – $5 for WSC members\, $10 for non-members.
URL:https://wayneseniorcenter.org/event/tai-chi-in-center-and-virtual-29/
END:VEVENT
END:VCALENDAR