BEGIN:VCALENDAR
VERSION:2.0
PRODID:-//Wayne Senior Center - ECPv6.15.20//NONSGML v1.0//EN
CALSCALE:GREGORIAN
METHOD:PUBLISH
X-WR-CALNAME:Wayne Senior Center
X-ORIGINAL-URL:https://wayneseniorcenter.org
X-WR-CALDESC:Events for Wayne Senior Center
REFRESH-INTERVAL;VALUE=DURATION:PT1H
X-Robots-Tag:noindex
X-PUBLISHED-TTL:PT1H
BEGIN:VTIMEZONE
TZID:UTC
BEGIN:STANDARD
TZOFFSETFROM:+0000
TZOFFSETTO:+0000
TZNAME:UTC
DTSTART:20240101T000000
END:STANDARD
END:VTIMEZONE
BEGIN:VEVENT
DTSTART;TZID=UTC:20250703T110000
DTEND;TZID=UTC:20250703T120000
DTSTAMP:20260422T225725
CREATED:20250627T174746Z
LAST-MODIFIED:20250627T174746Z
UID:15522-1751540400-1751544000@wayneseniorcenter.org
SUMMARY:Sit\, Move\, Stretch
DESCRIPTION:This class offers seated or standing: cardio movement\, strengthening\, deep breathing\, and stretching. In-Person fees – free for WSC members\, $3 for non-members.
URL:https://wayneseniorcenter.org/event/sit-move-stretch-71/
END:VEVENT
BEGIN:VEVENT
DTSTART;TZID=UTC:20250703T110000
DTEND;TZID=UTC:20250703T130000
DTSTAMP:20260422T225725
CREATED:20250627T174145Z
LAST-MODIFIED:20250627T174145Z
UID:15507-1751540400-1751547600@wayneseniorcenter.org
SUMMARY:Septa Key Card Renewals
DESCRIPTION:Join us on the first Thursday of each month for Septa Key Cardapplications and renewals and other constituent services with a representative from Sen. AmandaCappelletti’s office. The representative is here 11:00AM to 1:00PM\, no need to RSVP.
URL:https://wayneseniorcenter.org/event/septa-key-card-renewals-10/
END:VEVENT
BEGIN:VEVENT
DTSTART;TZID=UTC:20250703T120000
DTEND;TZID=UTC:20250703T130000
DTSTAMP:20260422T225725
CREATED:20250627T175403Z
LAST-MODIFIED:20250627T175403Z
UID:15545-1751544000-1751547600@wayneseniorcenter.org
SUMMARY:The Men's Group
DESCRIPTION:Catch up with friends over lunch and discuss topics related to men’s lives – hobbies\, family stories\, retirement\, career reflections\, mental & physical health\, or whatever else is on your mind. Call to reserve a Center lunch\, bring your own\, or just stop by to chat.
URL:https://wayneseniorcenter.org/event/the-mens-group-16/
END:VEVENT
BEGIN:VEVENT
DTSTART;TZID=UTC:20250703T123000
DTEND;TZID=UTC:20250703T140000
DTSTAMP:20260422T225725
CREATED:20250627T173458Z
LAST-MODIFIED:20250627T173458Z
UID:15489-1751545800-1751551200@wayneseniorcenter.org
SUMMARY:Summer Classic Movie: "The Great Outdoors"
DESCRIPTION:Join us for a viewing of the film\, “The Great Outdoors”(1988)\, starring John Candy and Dan Aykroyd. A suburbanite takes his family on a quiet vacation at a lakeside resort\, but chaos ensues with his snobby brother-in-law shows up with is family.
URL:https://wayneseniorcenter.org/event/summer-classic-movie-the-great-outdoors/
END:VEVENT
BEGIN:VEVENT
DTSTART;TZID=UTC:20250703T130000
DTEND;TZID=UTC:20250703T150000
DTSTAMP:20260422T225725
CREATED:20250627T172642Z
LAST-MODIFIED:20250627T172642Z
UID:15462-1751547600-1751554800@wayneseniorcenter.org
SUMMARY:Cards and Games: Open Play
DESCRIPTION:Join us for an afternoon playing games of your choice- Poker\, gin rummy\, pinochle\, mahjong etc. Meet a new friend and start a game of your own. Mahjong teachers/leaders feel free to bring your game set!
URL:https://wayneseniorcenter.org/event/cards-and-games-open-play-38/
END:VEVENT
BEGIN:VEVENT
DTSTART;TZID=UTC:20250707T100000
DTEND;TZID=UTC:20250707T110000
DTSTAMP:20260422T225725
CREATED:20250627T174345Z
LAST-MODIFIED:20250627T174345Z
UID:15512-1751882400-1751886000@wayneseniorcenter.org
SUMMARY:Silver Sneakers Classic
DESCRIPTION:Focus on strengthening muscles and increasing range of motion using light weights\, stretch bands\, and exercise balls.
URL:https://wayneseniorcenter.org/event/silver-sneakers-classic-69/
END:VEVENT
BEGIN:VEVENT
DTSTART;TZID=UTC:20250707T100000
DTEND;TZID=UTC:20250707T120000
DTSTAMP:20260422T225725
CREATED:20250627T173748Z
LAST-MODIFIED:20250627T173748Z
UID:15499-1751882400-1751889600@wayneseniorcenter.org
SUMMARY:Refresher Bridge
DESCRIPTION:Brush up on your bridge skills with friends. Must have previous bridge experience.
URL:https://wayneseniorcenter.org/event/refresher-bridge-36/
END:VEVENT
BEGIN:VEVENT
DTSTART;TZID=UTC:20250707T100000
DTEND;TZID=UTC:20250707T120000
DTSTAMP:20260422T225725
CREATED:20250627T175432Z
LAST-MODIFIED:20250627T175432Z
UID:15555-1751882400-1751889600@wayneseniorcenter.org
SUMMARY:WSC Quilters
DESCRIPTION:WSC quiliting club. All skill levels Welcome. Come by or RSVP by calling the center – (610) 688-6246
URL:https://wayneseniorcenter.org/event/wsc-quilters-36/
END:VEVENT
BEGIN:VEVENT
DTSTART;TZID=UTC:20250707T110000
DTEND;TZID=UTC:20250707T120000
DTSTAMP:20260422T225725
CREATED:20250627T175158Z
LAST-MODIFIED:20250627T175158Z
UID:15531-1751886000-1751889600@wayneseniorcenter.org
SUMMARY:Soul Line Dancing
DESCRIPTION:Kenny James will get you moving and grooving in a fun\, easy to learn dance class. No experience necessary – all can join. $3 members / $6 non-members.
URL:https://wayneseniorcenter.org/event/soul-line-dancing-47/
END:VEVENT
BEGIN:VEVENT
DTSTART;TZID=UTC:20250708T090000
DTEND;TZID=UTC:20250708T110000
DTSTAMP:20260422T225725
CREATED:20250627T172857Z
LAST-MODIFIED:20250627T172857Z
UID:15472-1751965200-1751972400@wayneseniorcenter.org
SUMMARY:Tech Tuesday
DESCRIPTION:Stop by during this time with your tech questions with our Digital Navigator\, Francis.
URL:https://wayneseniorcenter.org/event/tech-tuesday-23/
END:VEVENT
BEGIN:VEVENT
DTSTART;TZID=UTC:20250708T093000
DTEND;TZID=UTC:20250708T100000
DTSTAMP:20260422T225725
CREATED:20250627T175416Z
LAST-MODIFIED:20250627T175416Z
UID:15548-1751967000-1751968800@wayneseniorcenter.org
SUMMARY:Walking Club (Off-Site)
DESCRIPTION:Join WSC friends for a walk on the Radnor trail – weather permitting. Walkers meet at the trail parking lot (520 Conestoga Road). All abilities welcome. Wear comfortable walking shoes.
URL:https://wayneseniorcenter.org/event/walking-club-off-site-32/
END:VEVENT
BEGIN:VEVENT
DTSTART;TZID=UTC:20250708T093000
DTEND;TZID=UTC:20250708T104500
DTSTAMP:20260422T225725
CREATED:20250627T173059Z
LAST-MODIFIED:20250627T173059Z
UID:15479-1751967000-1751971500@wayneseniorcenter.org
SUMMARY:Fresh Start
DESCRIPTION:Join us for Fresh Start—our new\, nutritious and delicious breakfast program! Breakfast will be served every Tuesday and Thursdayfrom 9:30 AM to 10:45 AM. Cost is $3.\nMeals are available on a first-come\, first-served basis\, so be sure to arrive early!\n Please note: the menu is subject to change.
URL:https://wayneseniorcenter.org/event/fresh-start-10/
END:VEVENT
BEGIN:VEVENT
DTSTART;TZID=UTC:20250708T110000
DTEND;TZID=UTC:20250708T120000
DTSTAMP:20260422T225725
CREATED:20250627T174747Z
LAST-MODIFIED:20250627T174747Z
UID:15523-1751972400-1751976000@wayneseniorcenter.org
SUMMARY:Sit\, Move\, Stretch
DESCRIPTION:This class offers seated or standing: cardio movement\, strengthening\, deep breathing\, and stretching. In-Person fees – free for WSC members\, $3 for non-members.
URL:https://wayneseniorcenter.org/event/sit-move-stretch-72/
END:VEVENT
BEGIN:VEVENT
DTSTART;TZID=UTC:20250708T123000
DTEND;TZID=UTC:20250708T133000
DTSTAMP:20260422T225725
CREATED:20250627T173656Z
LAST-MODIFIED:20250627T173656Z
UID:15492-1751977800-1751981400@wayneseniorcenter.org
SUMMARY:Mindfulness
DESCRIPTION:Practicing mindfulness provides countless benefits to our overall well-being. Join instructor Liz for an hour of virtual mindfulness.
URL:https://wayneseniorcenter.org/event/mindfulness-37/
END:VEVENT
BEGIN:VEVENT
DTSTART;TZID=UTC:20250709T100000
DTEND;TZID=UTC:20250709T110000
DTSTAMP:20260422T225725
CREATED:20250627T174147Z
LAST-MODIFIED:20250627T174147Z
UID:15509-1752055200-1752058800@wayneseniorcenter.org
SUMMARY:SLC Summer Wellness Series
DESCRIPTION:Join us for a special Summer Wellness Series led by a licensed therapist from Silver Linings Clinic. This program is designed for older adults seeking to enhance emotional well-being\, navigate life transitions\, and build meaningful social connections. Each session offers supportive conversation\, practical tools\, and a warm community atmosphere to help you thrive this summer. Free w/ Medicare. Call 610-688-6246 to register.
URL:https://wayneseniorcenter.org/event/slc-summer-wellness-series-2/
END:VEVENT
BEGIN:VEVENT
DTSTART;TZID=UTC:20250709T111500
DTEND;TZID=UTC:20250709T120000
DTSTAMP:20260422T225725
CREATED:20250627T175201Z
LAST-MODIFIED:20250627T175201Z
UID:15534-1752059700-1752062400@wayneseniorcenter.org
SUMMARY:Soul Line Dancing
DESCRIPTION:Kenny James will get you moving and grooving in a fun\, easy to learn dance class. No experience necessary – all can join. $3 members / $6 non-members.
URL:https://wayneseniorcenter.org/event/soul-line-dancing-50/
END:VEVENT
BEGIN:VEVENT
DTSTART;TZID=UTC:20250709T123000
DTEND;TZID=UTC:20250709T133000
DTSTAMP:20260422T225725
CREATED:20250627T174348Z
LAST-MODIFIED:20250627T174348Z
UID:15515-1752064200-1752067800@wayneseniorcenter.org
SUMMARY:Silver Sneakers Classic
DESCRIPTION:Focus on strengthening muscles and increasing range of motion using light weights\, stretch bands\, and exercise balls.
URL:https://wayneseniorcenter.org/event/silver-sneakers-classic-72/
END:VEVENT
BEGIN:VEVENT
DTSTART;TZID=UTC:20250709T140000
DTEND;TZID=UTC:20250709T140000
DTSTAMP:20260422T225725
CREATED:20250627T175359Z
LAST-MODIFIED:20250627T175359Z
UID:15541-1752069600-1752069600@wayneseniorcenter.org
SUMMARY:Tai Chi
DESCRIPTION:Tai Chi is a gentle form of exercise involving a series of graceful movements performed in a slow\, focused manner and accompanied by deep breathing. Excellent for strengthening balance and promoting stress reduction. In-Person fees – $5 for WSC members\, $10 for non-members.
URL:https://wayneseniorcenter.org/event/tai-chi-48/
END:VEVENT
BEGIN:VEVENT
DTSTART;TZID=UTC:20250710T090000
DTEND;TZID=UTC:20250710T110000
DTSTAMP:20260422T225725
CREATED:20250627T172633Z
LAST-MODIFIED:20250627T172633Z
UID:15458-1752138000-1752145200@wayneseniorcenter.org
SUMMARY:Blood Pressure Screenings
DESCRIPTION:Are you trying to keep track of your blood pressure readings? Have questions about a medication or just need a listening ear? Stop by and speak 1:1 with a nurse.
URL:https://wayneseniorcenter.org/event/blood-pressure-screenings-19/
END:VEVENT
BEGIN:VEVENT
DTSTART;TZID=UTC:20250710T093000
DTEND;TZID=UTC:20250710T104500
DTSTAMP:20260422T225725
CREATED:20250627T173100Z
LAST-MODIFIED:20250627T173100Z
UID:15480-1752139800-1752144300@wayneseniorcenter.org
SUMMARY:Fresh Start
DESCRIPTION:Join us for Fresh Start—our new\, nutritious and delicious breakfast program! Breakfast will be served every Tuesday and Thursdayfrom 9:30 AM to 10:45 AM. Cost is $3.\nMeals are available on a first-come\, first-served basis\, so be sure to arrive early!\n Please note: the menu is subject to change.
URL:https://wayneseniorcenter.org/event/fresh-start-11/
END:VEVENT
BEGIN:VEVENT
DTSTART;TZID=UTC:20250710T101500
DTEND;TZID=UTC:20250710T110000
DTSTAMP:20260422T225725
CREATED:20250627T173745Z
LAST-MODIFIED:20250627T173745Z
UID:15496-1752142500-1752145200@wayneseniorcenter.org
SUMMARY:Armchair Travel w/ Margo
DESCRIPTION:Join Margo as she shares her travels through Norway\, showcasing the country’s stunning landscapes and breathtaking views.
URL:https://wayneseniorcenter.org/event/armchair-travel-w-margo/
END:VEVENT
BEGIN:VEVENT
DTSTART;TZID=UTC:20250710T110000
DTEND;TZID=UTC:20250710T120000
DTSTAMP:20260422T225725
CREATED:20250627T174748Z
LAST-MODIFIED:20250627T174748Z
UID:15524-1752145200-1752148800@wayneseniorcenter.org
SUMMARY:Sit\, Move\, Stretch
DESCRIPTION:This class offers seated or standing: cardio movement\, strengthening\, deep breathing\, and stretching. In-Person fees – free for WSC members\, $3 for non-members.
URL:https://wayneseniorcenter.org/event/sit-move-stretch-73/
END:VEVENT
BEGIN:VEVENT
DTSTART;TZID=UTC:20250710T130000
DTEND;TZID=UTC:20250710T150000
DTSTAMP:20260422T225725
CREATED:20250627T172643Z
LAST-MODIFIED:20250627T172643Z
UID:15463-1752152400-1752159600@wayneseniorcenter.org
SUMMARY:Cards and Games: Open Play
DESCRIPTION:Join us for an afternoon playing games of your choice- Poker\, gin rummy\, pinochle\, mahjong etc. Meet a new friend and start a game of your own. Mahjong teachers/leaders feel free to bring your game set!
URL:https://wayneseniorcenter.org/event/cards-and-games-open-play-39/
END:VEVENT
BEGIN:VEVENT
DTSTART;TZID=UTC:20250711T093000
DTEND;TZID=UTC:20250711T103000
DTSTAMP:20260422T225725
CREATED:20250627T173947Z
LAST-MODIFIED:20250627T173947Z
UID:15504-1752226200-1752229800@wayneseniorcenter.org
SUMMARY:Senior Circuit
DESCRIPTION:Join us for a dynamic strength-building\, full-body workout utilizing bands\, weights\, and balls as we cycle through various stations.
URL:https://wayneseniorcenter.org/event/senior-circuit-36/
END:VEVENT
BEGIN:VEVENT
DTSTART;TZID=UTC:20250711T103000
DTEND;TZID=UTC:20250711T113000
DTSTAMP:20260422T225725
CREATED:20250627T172657Z
LAST-MODIFIED:20250627T172657Z
UID:15467-1752229800-1752233400@wayneseniorcenter.org
SUMMARY:Chair Yoga
DESCRIPTION:A well-rounded class that will help with balance\, strengthening\, and relaxation. Have a sturdy chair available. All abilities welcome. In-Person fees – $3 for WSC members\, $6 for non-members.
URL:https://wayneseniorcenter.org/event/chair-yoga-37/
END:VEVENT
BEGIN:VEVENT
DTSTART;TZID=UTC:20250714T100000
DTEND;TZID=UTC:20250714T110000
DTSTAMP:20260422T225725
CREATED:20250627T174347Z
LAST-MODIFIED:20250627T174347Z
UID:15514-1752487200-1752490800@wayneseniorcenter.org
SUMMARY:Silver Sneakers Classic
DESCRIPTION:Focus on strengthening muscles and increasing range of motion using light weights\, stretch bands\, and exercise balls.
URL:https://wayneseniorcenter.org/event/silver-sneakers-classic-71/
END:VEVENT
BEGIN:VEVENT
DTSTART;TZID=UTC:20250714T100000
DTEND;TZID=UTC:20250714T120000
DTSTAMP:20260422T225725
CREATED:20250627T173749Z
LAST-MODIFIED:20250627T173749Z
UID:15500-1752487200-1752494400@wayneseniorcenter.org
SUMMARY:Refresher Bridge
DESCRIPTION:Brush up on your bridge skills with friends. Must have previous bridge experience.
URL:https://wayneseniorcenter.org/event/refresher-bridge-37/
END:VEVENT
BEGIN:VEVENT
DTSTART;TZID=UTC:20250714T100000
DTEND;TZID=UTC:20250714T120000
DTSTAMP:20260422T225725
CREATED:20250627T175444Z
LAST-MODIFIED:20250627T175444Z
UID:15556-1752487200-1752494400@wayneseniorcenter.org
SUMMARY:WSC Quilters
DESCRIPTION:WSC quiliting club. All skill levels Welcome. Come by or RSVP by calling the center – (610) 688-6246
URL:https://wayneseniorcenter.org/event/wsc-quilters-37/
END:VEVENT
BEGIN:VEVENT
DTSTART;TZID=UTC:20250714T110000
DTEND;TZID=UTC:20250714T120000
DTSTAMP:20260422T225725
CREATED:20250627T175200Z
LAST-MODIFIED:20250627T175200Z
UID:15533-1752490800-1752494400@wayneseniorcenter.org
SUMMARY:Soul Line Dancing
DESCRIPTION:Kenny James will get you moving and grooving in a fun\, easy to learn dance class. No experience necessary – all can join. $3 members / $6 non-members.
URL:https://wayneseniorcenter.org/event/soul-line-dancing-49/
END:VEVENT
BEGIN:VEVENT
DTSTART;TZID=UTC:20250715T090000
DTEND;TZID=UTC:20250715T110000
DTSTAMP:20260422T225725
CREATED:20250627T172858Z
LAST-MODIFIED:20250627T172858Z
UID:15473-1752570000-1752577200@wayneseniorcenter.org
SUMMARY:Tech Tuesday
DESCRIPTION:Stop by during this time with your tech questions with our Digital Navigator\, Francis.
URL:https://wayneseniorcenter.org/event/tech-tuesday-24/
END:VEVENT
END:VCALENDAR