BEGIN:VCALENDAR
VERSION:2.0
PRODID:-//Wayne Senior Center - ECPv6.15.20//NONSGML v1.0//EN
CALSCALE:GREGORIAN
METHOD:PUBLISH
X-ORIGINAL-URL:https://wayneseniorcenter.org
X-WR-CALDESC:Events for Wayne Senior Center
REFRESH-INTERVAL;VALUE=DURATION:PT1H
X-Robots-Tag:noindex
X-PUBLISHED-TTL:PT1H
BEGIN:VTIMEZONE
TZID:UTC
BEGIN:STANDARD
TZOFFSETFROM:+0000
TZOFFSETTO:+0000
TZNAME:UTC
DTSTART:20240101T000000
END:STANDARD
END:VTIMEZONE
BEGIN:VEVENT
DTSTART;TZID=UTC:20250122T110000
DTEND;TZID=UTC:20250122T120000
DTSTAMP:20260421T222634
CREATED:20241217T203309Z
LAST-MODIFIED:20241217T203309Z
UID:14627-1737543600-1737547200@wayneseniorcenter.org
SUMMARY:Soul Line Dancing
DESCRIPTION:Kenny James will get you moving and grooving in a fun\, easy to learn dance class. No experience necessary – all can join. $3 members / $6 non-members.
URL:https://wayneseniorcenter.org/event/soul-line-dancing-3/
END:VEVENT
BEGIN:VEVENT
DTSTART;TZID=UTC:20250122T123000
DTEND;TZID=UTC:20250122T133000
DTSTAMP:20260421T222634
CREATED:20241217T203111Z
LAST-MODIFIED:20241217T203111Z
UID:14626-1737549000-1737552600@wayneseniorcenter.org
SUMMARY:Silver Sneakers Classic
DESCRIPTION:Focus on strengthening muscles and increasing range of motion using light weights\, stretch bands\, and exercise balls.
URL:https://wayneseniorcenter.org/event/silver-sneakers-classic-25/
END:VEVENT
BEGIN:VEVENT
DTSTART;TZID=UTC:20250122T123000
DTEND;TZID=UTC:20250122T133000
DTSTAMP:20260421T222634
CREATED:20241217T203310Z
LAST-MODIFIED:20241217T203310Z
UID:14629-1737549000-1737552600@wayneseniorcenter.org
SUMMARY:Fooling with Ukes
DESCRIPTION:Dust off your ukes and join Barbara Van Clief (Barley) for a few practice sessions. Learn to play various popular songs with a group of individuals who share your passion for music!
URL:https://wayneseniorcenter.org/event/fooling-with-ukes-9/
END:VEVENT
BEGIN:VEVENT
DTSTART;TZID=UTC:20250123T090000
DTEND;TZID=UTC:20250123T110000
DTSTAMP:20260421T222634
CREATED:20241217T203312Z
LAST-MODIFIED:20241217T203312Z
UID:14630-1737622800-1737630000@wayneseniorcenter.org
SUMMARY:Blood Pressure Screenings
DESCRIPTION:Are you trying to keep track of your blood pressure readings? Have questions about a medication or just need a listening ear? Stop by and speak 1:1 with a nurse.
URL:https://wayneseniorcenter.org/event/blood-pressure-screenings-8/
END:VEVENT
BEGIN:VEVENT
DTSTART;TZID=UTC:20250123T100000
DTEND;TZID=UTC:20250123T110000
DTSTAMP:20260421T222634
CREATED:20241217T203856Z
LAST-MODIFIED:20241219T204007Z
UID:14633-1737626400-1737630000@wayneseniorcenter.org
SUMMARY:Pom-Pom Coasters Craft
DESCRIPTION:This craft uses pom-poms and circular wooden pieces to make some colorful\, cozy coasters. A perfect craft to brighten up the winter months!
URL:https://wayneseniorcenter.org/event/pom-pom-coasters-craft/
END:VEVENT
BEGIN:VEVENT
DTSTART;TZID=UTC:20250123T110000
DTEND;TZID=UTC:20250123T120000
DTSTAMP:20260421T222634
CREATED:20241217T203856Z
LAST-MODIFIED:20241217T203856Z
UID:14632-1737630000-1737633600@wayneseniorcenter.org
SUMMARY:Sit\, Move\, Stretch
DESCRIPTION:This class offers seated or standing: cardio movement\, strengthening\, deep breathing\, and stretching. In-Person fees – free for WSC members\, $3 for non-members.
URL:https://wayneseniorcenter.org/event/sit-move-stretch-27/
END:VEVENT
BEGIN:VEVENT
DTSTART;TZID=UTC:20250123T120000
DTEND;TZID=UTC:20250123T130000
DTSTAMP:20260421T222634
CREATED:20241217T203857Z
LAST-MODIFIED:20250109T135232Z
UID:14634-1737633600-1737637200@wayneseniorcenter.org
SUMMARY:January Birthday Lunch
DESCRIPTION:Celebrate this month’s birthdays with WSC friends and a special treat!
URL:https://wayneseniorcenter.org/event/january-birthday-lunch-table-magic/
END:VEVENT
BEGIN:VEVENT
DTSTART;TZID=UTC:20250123T130000
DTEND;TZID=UTC:20250123T150000
DTSTAMP:20260421T222634
CREATED:20241217T203312Z
LAST-MODIFIED:20241217T203312Z
UID:14631-1737637200-1737644400@wayneseniorcenter.org
SUMMARY:Cards and Games: Open Play
DESCRIPTION:Join us for an afternoon playing games of your choice- Poker\, gin rummy\, pinochle\, mahjong etc. Meet a new friend and start a game of your own. Mahjong teachers/leaders feel free to bring your game set!
URL:https://wayneseniorcenter.org/event/cards-and-games-open-play-15/
END:VEVENT
BEGIN:VEVENT
DTSTART;TZID=UTC:20250124T093000
DTEND;TZID=UTC:20250124T103000
DTSTAMP:20260421T222634
CREATED:20241217T203859Z
LAST-MODIFIED:20241217T203859Z
UID:14636-1737711000-1737714600@wayneseniorcenter.org
SUMMARY:Senior Circuit
DESCRIPTION:Join us for a dynamic strength-building\, full-body workout utilizing bands\, weights\, and balls as we cycle through various stations.
URL:https://wayneseniorcenter.org/event/senior-circuit-14/
END:VEVENT
BEGIN:VEVENT
DTSTART;TZID=UTC:20250124T103000
DTEND;TZID=UTC:20250124T113000
DTSTAMP:20260421T222634
CREATED:20241217T203858Z
LAST-MODIFIED:20241217T203858Z
UID:14635-1737714600-1737718200@wayneseniorcenter.org
SUMMARY:Chair Yoga
DESCRIPTION:A well-rounded class that will help with balance\, strengthening\, and relaxation. Have a sturdy chair available. All abilities welcome. In-Person fees – $3 for WSC members\, $6 for non-members.
URL:https://wayneseniorcenter.org/event/chair-yoga-15/
END:VEVENT
BEGIN:VEVENT
DTSTART;TZID=UTC:20250127T100000
DTEND;TZID=UTC:20250127T110000
DTSTAMP:20260421T222634
CREATED:20241217T203910Z
LAST-MODIFIED:20241217T203910Z
UID:14638-1737972000-1737975600@wayneseniorcenter.org
SUMMARY:Silver Sneakers Classic
DESCRIPTION:Focus on strengthening muscles and increasing range of motion using light weights\, stretch bands\, and exercise balls.
URL:https://wayneseniorcenter.org/event/silver-sneakers-classic-26/
END:VEVENT
BEGIN:VEVENT
DTSTART;TZID=UTC:20250127T100000
DTEND;TZID=UTC:20250127T120000
DTSTAMP:20260421T222634
CREATED:20241217T203910Z
LAST-MODIFIED:20241217T203910Z
UID:14637-1737972000-1737979200@wayneseniorcenter.org
SUMMARY:Refresher Bridge
DESCRIPTION:Brush up on your bridge skills with Lawrie Stetson and Dave Heron. Must have previous bridge experience.
URL:https://wayneseniorcenter.org/event/refresher-bridge-15/
END:VEVENT
BEGIN:VEVENT
DTSTART;TZID=UTC:20250127T100000
DTEND;TZID=UTC:20250127T120000
DTSTAMP:20260421T222634
CREATED:20241217T203912Z
LAST-MODIFIED:20241217T203912Z
UID:14640-1737972000-1737979200@wayneseniorcenter.org
SUMMARY:WSC Quilters
DESCRIPTION:WSC quiliting club. All skill levels Welcome. Come by or RSVP by calling the center – (610) 688-6246
URL:https://wayneseniorcenter.org/event/wsc-quilters-15/
END:VEVENT
BEGIN:VEVENT
DTSTART;TZID=UTC:20250127T110000
DTEND;TZID=UTC:20250127T120000
DTSTAMP:20260421T222634
CREATED:20241217T204327Z
LAST-MODIFIED:20241217T204327Z
UID:14660-1737975600-1737979200@wayneseniorcenter.org
SUMMARY:Soul Line Dancing
DESCRIPTION:Kenny James will get you moving and grooving in a fun\, easy to learn dance class. No experience necessary – all can join. $3 members / $6 non-members.
URL:https://wayneseniorcenter.org/event/soul-line-dancing-6/
END:VEVENT
BEGIN:VEVENT
DTSTART;TZID=UTC:20250127T123000
DTEND;TZID=UTC:20250127T133000
DTSTAMP:20260421T222634
CREATED:20241217T203911Z
LAST-MODIFIED:20241217T203911Z
UID:14639-1737981000-1737984600@wayneseniorcenter.org
SUMMARY:Tai Chi
DESCRIPTION:Tai Chi is a gentle form of exercise involving a series of graceful movements performed in a slow\, focused manner and accompanied by deep breathing. Excellent for strengthening balance and promoting stress reduction. In-Person fees – $5 for WSC members\, $10 for non-members.
URL:https://wayneseniorcenter.org/event/tai-chi-28/
END:VEVENT
BEGIN:VEVENT
DTSTART;TZID=UTC:20250128T090000
DTEND;TZID=UTC:20250128T110000
DTSTAMP:20260421T222634
CREATED:20241217T203926Z
LAST-MODIFIED:20241217T203926Z
UID:14644-1738054800-1738062000@wayneseniorcenter.org
SUMMARY:Tech Tuesday
DESCRIPTION:Stop by during this time with your tech questions or email Francis at francis@wayneseniorcenter.org to make an appointment. Some Tuesdays will feature a workshop on a certain topic starting at 10am.
URL:https://wayneseniorcenter.org/event/tech-tuesday-13/
END:VEVENT
BEGIN:VEVENT
DTSTART;TZID=UTC:20250128T093000
DTEND;TZID=UTC:20250128T103000
DTSTAMP:20260421T222634
CREATED:20241217T203913Z
LAST-MODIFIED:20241217T203913Z
UID:14641-1738056600-1738060200@wayneseniorcenter.org
SUMMARY:Brain Fit
DESCRIPTION:Join Andrea as we exercise our brain with fun word puzzles and brain teasers!
URL:https://wayneseniorcenter.org/event/brain-fit-13/
END:VEVENT
BEGIN:VEVENT
DTSTART;TZID=UTC:20250128T100000
DTEND;TZID=UTC:20250128T110000
DTSTAMP:20260421T222634
CREATED:20241219T204618Z
LAST-MODIFIED:20241219T204618Z
UID:14702-1738058400-1738062000@wayneseniorcenter.org
SUMMARY:Nutrition with Danielle Burke
DESCRIPTION:Join us for an informative nutrition talk hosted by Danielle Burke RD LDN.
URL:https://wayneseniorcenter.org/event/nutrition-with-danielle-burke-2/
END:VEVENT
BEGIN:VEVENT
DTSTART;TZID=UTC:20250128T110000
DTEND;TZID=UTC:20250128T120000
DTSTAMP:20260421T222634
CREATED:20241217T203925Z
LAST-MODIFIED:20241217T203925Z
UID:14643-1738062000-1738065600@wayneseniorcenter.org
SUMMARY:Sit\, Move\, Stretch
DESCRIPTION:This class offers seated or standing: cardio movement\, strengthening\, deep breathing\, and stretching. In-Person fees – free for WSC members\, $3 for non-members.
URL:https://wayneseniorcenter.org/event/sit-move-stretch-28/
END:VEVENT
BEGIN:VEVENT
DTSTART;TZID=UTC:20250128T123000
DTEND;TZID=UTC:20250128T133000
DTSTAMP:20260421T222634
CREATED:20241217T203925Z
LAST-MODIFIED:20241217T203925Z
UID:14642-1738067400-1738071000@wayneseniorcenter.org
SUMMARY:Mindfulness
DESCRIPTION:Practicing mindfulness provides countless benefits to our overall well-being. Join instructor Liz for an hour of virtual mindfulness.
URL:https://wayneseniorcenter.org/event/mindfulness-15/
END:VEVENT
BEGIN:VEVENT
DTSTART;TZID=UTC:20250129T100000
DTEND;TZID=UTC:20250129T110000
DTSTAMP:20260421T222634
CREATED:20241217T203927Z
LAST-MODIFIED:20241219T204402Z
UID:14645-1738144800-1738148400@wayneseniorcenter.org
SUMMARY:Coffee Talk with Radnor Police Chaplain
DESCRIPTION:Enjoy coffee\, pastries\, and meaningful discussion with a visiting Radnor Police Chaplain.
URL:https://wayneseniorcenter.org/event/coffee-talk-with-radnor-police-chaplain-4/
END:VEVENT
BEGIN:VEVENT
DTSTART;TZID=UTC:20250129T120000
DTEND;TZID=UTC:20250129T130000
DTSTAMP:20260421T222634
CREATED:20241217T203940Z
LAST-MODIFIED:20241219T203849Z
UID:14648-1738152000-1738155600@wayneseniorcenter.org
SUMMARY:Chinese New Year Luncheon
DESCRIPTION:Celebrate the beginning of a New Year on the traditional lunisolar Chinese calendar. This delicious lunch is catered by Margaret Kuo’s Kitchen. $10 members\, $20 non-members. RSVP and pay by January 22nd.
URL:https://wayneseniorcenter.org/event/chinese-new-year-luncheon/
END:VEVENT
BEGIN:VEVENT
DTSTART;TZID=UTC:20250129T123000
DTEND;TZID=UTC:20250129T133000
DTSTAMP:20260421T222634
CREATED:20241217T203927Z
LAST-MODIFIED:20241217T203927Z
UID:14646-1738153800-1738157400@wayneseniorcenter.org
SUMMARY:Silver Sneakers Classic
DESCRIPTION:Focus on strengthening muscles and increasing range of motion using light weights\, stretch bands\, and exercise balls.
URL:https://wayneseniorcenter.org/event/silver-sneakers-classic-27/
END:VEVENT
BEGIN:VEVENT
DTSTART;TZID=UTC:20250129T123000
DTEND;TZID=UTC:20250129T133000
DTSTAMP:20260421T222634
CREATED:20241217T203940Z
LAST-MODIFIED:20241217T203940Z
UID:14647-1738153800-1738157400@wayneseniorcenter.org
SUMMARY:Fooling with Ukes
DESCRIPTION:Dust off your ukes and join Barbara Van Clief (Barley) for a few practice sessions. Learn to play various popular songs with a group of individuals who share your passion for music!
URL:https://wayneseniorcenter.org/event/fooling-with-ukes-10/
END:VEVENT
BEGIN:VEVENT
DTSTART;TZID=UTC:20250130T100000
DTEND;TZID=UTC:20250130T110000
DTSTAMP:20260421T222634
CREATED:20241217T203941Z
LAST-MODIFIED:20241219T204247Z
UID:14649-1738231200-1738234800@wayneseniorcenter.org
SUMMARY:Cardio Drumming with Andrea
DESCRIPTION:Join Andrea once a month for a fun\, rhythmic\, seated exercise class that gets you moving and grooving. Each month will have a fun theme\, this month is the 80s! $3 for members\, $6 non-members
URL:https://wayneseniorcenter.org/event/cardio-drumming-with-andrea-3/
END:VEVENT
BEGIN:VEVENT
DTSTART;TZID=UTC:20250130T110000
DTEND;TZID=UTC:20250130T120000
DTSTAMP:20260421T222634
CREATED:20241217T203955Z
LAST-MODIFIED:20241217T203955Z
UID:14652-1738234800-1738238400@wayneseniorcenter.org
SUMMARY:Sit\, Move\, Stretch
DESCRIPTION:This class offers seated or standing: cardio movement\, strengthening\, deep breathing\, and stretching. In-Person fees – free for WSC members\, $3 for non-members.
URL:https://wayneseniorcenter.org/event/sit-move-stretch-29/
END:VEVENT
BEGIN:VEVENT
DTSTART;TZID=UTC:20250130T120000
DTEND;TZID=UTC:20250130T130000
DTSTAMP:20260421T222634
CREATED:20241217T203955Z
LAST-MODIFIED:20241217T203955Z
UID:14653-1738238400-1738242000@wayneseniorcenter.org
SUMMARY:The Men's Group
DESCRIPTION:Catch up with friends over lunch and discuss topics related to men’s lives – hobbies\, family stories\, retirement\, career reflections\, mental & physical health\, or whatever else is on your mind. Call to reserve a Center lunch\, bring your own\, or just stop by to chat.
URL:https://wayneseniorcenter.org/event/the-mens-group-7/
END:VEVENT
BEGIN:VEVENT
DTSTART;TZID=UTC:20250130T123000
DTEND;TZID=UTC:20250130T140000
DTSTAMP:20260421T222634
CREATED:20241217T203942Z
LAST-MODIFIED:20241219T203107Z
UID:14651-1738240200-1738245600@wayneseniorcenter.org
SUMMARY:Popcorn and a Movie: Juror #2
DESCRIPTION:Join us for a viewing of the film\, Juror #2 (2024). A juror for a high-profile murder trial finds himself struggling with a serious moral dilemma that could influence the verdict and potentially convict or free the accused killer.
URL:https://wayneseniorcenter.org/event/popcorn-and-a-movie-juror-2/
END:VEVENT
BEGIN:VEVENT
DTSTART;TZID=UTC:20250130T130000
DTEND;TZID=UTC:20250130T150000
DTSTAMP:20260421T222634
CREATED:20241217T203942Z
LAST-MODIFIED:20241217T203942Z
UID:14650-1738242000-1738249200@wayneseniorcenter.org
SUMMARY:Cards and Games: Open Play
DESCRIPTION:Join us for an afternoon playing games of your choice- Poker\, gin rummy\, pinochle\, mahjong etc. Meet a new friend and start a game of your own. Mahjong teachers/leaders feel free to bring your game set!
URL:https://wayneseniorcenter.org/event/cards-and-games-open-play-16/
END:VEVENT
BEGIN:VEVENT
DTSTART;TZID=UTC:20250131T093000
DTEND;TZID=UTC:20250131T103000
DTSTAMP:20260421T222634
CREATED:20241217T203957Z
LAST-MODIFIED:20241217T203957Z
UID:14655-1738315800-1738319400@wayneseniorcenter.org
SUMMARY:Senior Circuit
DESCRIPTION:Join us for a dynamic strength-building\, full-body workout utilizing bands\, weights\, and balls as we cycle through various stations.
URL:https://wayneseniorcenter.org/event/senior-circuit-15/
END:VEVENT
END:VCALENDAR