BEGIN:VCALENDAR
VERSION:2.0
PRODID:-//Wayne Senior Center - ECPv6.15.20//NONSGML v1.0//EN
CALSCALE:GREGORIAN
METHOD:PUBLISH
X-ORIGINAL-URL:https://wayneseniorcenter.org
X-WR-CALDESC:Events for Wayne Senior Center
REFRESH-INTERVAL;VALUE=DURATION:PT1H
X-Robots-Tag:noindex
X-PUBLISHED-TTL:PT1H
BEGIN:VTIMEZONE
TZID:UTC
BEGIN:STANDARD
TZOFFSETFROM:+0000
TZOFFSETTO:+0000
TZNAME:UTC
DTSTART:20230101T000000
END:STANDARD
END:VTIMEZONE
BEGIN:VEVENT
DTSTART;TZID=UTC:20240220T110000
DTEND;TZID=UTC:20240220T120000
DTSTAMP:20260422T001130
CREATED:20240126T221233Z
LAST-MODIFIED:20240126T221233Z
UID:13081-1708426800-1708430400@wayneseniorcenter.org
SUMMARY:Sit\, Move\, Stretch (In Center and Virtual)
DESCRIPTION:This class offers seated or standing: cardio movement\, strengthening\, deep breathing\, and stretching. In-Person fees – free for WSC members\, $3 for non-members.
URL:https://wayneseniorcenter.org/event/sit-move-stretch-in-center-and-virtual-18/
END:VEVENT
BEGIN:VEVENT
DTSTART;TZID=UTC:20240220T123000
DTEND;TZID=UTC:20240220T130000
DTSTAMP:20260422T001130
CREATED:20240126T221233Z
LAST-MODIFIED:20240126T221233Z
UID:13080-1708432200-1708434000@wayneseniorcenter.org
SUMMARY:Mindfulness (In Center)
DESCRIPTION:Practicing mindfulness provides countless benefits to our overall well-being. Join instructor Liz for an hour of virtual mindfulness.
URL:https://wayneseniorcenter.org/event/mindfulness-in-center-12/
END:VEVENT
BEGIN:VEVENT
DTSTART;TZID=UTC:20240221T100000
DTEND;TZID=UTC:20240221T110000
DTSTAMP:20260422T001130
CREATED:20240126T221234Z
LAST-MODIFIED:20240126T221234Z
UID:13084-1708509600-1708513200@wayneseniorcenter.org
SUMMARY:Drums Alive (In Center)
DESCRIPTION:Join us for a fun\, rhythmic\, seated exercise class that gets you moving and grooving!
URL:https://wayneseniorcenter.org/event/drums-alive-in-center-14/
END:VEVENT
BEGIN:VEVENT
DTSTART;TZID=UTC:20240221T100000
DTEND;TZID=UTC:20240221T110000
DTSTAMP:20260422T001130
CREATED:20240126T221434Z
LAST-MODIFIED:20240126T221434Z
UID:13087-1708509600-1708513200@wayneseniorcenter.org
SUMMARY:Strength and Cardio (Virtual)
DESCRIPTION:Move\, stretch\, and tone both seated and standing along with instructor Cathi from home. All abilities welcome!
URL:https://wayneseniorcenter.org/event/strength-and-cardio-virtual-20/
END:VEVENT
BEGIN:VEVENT
DTSTART;TZID=UTC:20240221T110000
DTEND;TZID=UTC:20240221T120000
DTSTAMP:20260422T001130
CREATED:20240126T221434Z
LAST-MODIFIED:20240126T221434Z
UID:13088-1708513200-1708516800@wayneseniorcenter.org
SUMMARY:Tai Chi (In Center and Virtual)
DESCRIPTION:Tai Chi is a gentle form of exercise involving a series of graceful movements performed in a slow\, focused manner and accompanied by deep breathing. Excellent for strengthening balance and promoting stress reduction. In-Person fees – $5 for WSC members\, $10 for non-members.
URL:https://wayneseniorcenter.org/event/tai-chi-in-center-and-virtual-20/
END:VEVENT
BEGIN:VEVENT
DTSTART;TZID=UTC:20240221T123000
DTEND;TZID=UTC:20240221T133000
DTSTAMP:20260422T001130
CREATED:20240126T221434Z
LAST-MODIFIED:20240126T221434Z
UID:13085-1708518600-1708522200@wayneseniorcenter.org
SUMMARY:Fool Around with Ukes (In Center)
DESCRIPTION:Dust off your ukes and join Barbara Van Clief (Barley) for a few practice sessions. Learn to play various popular songs with a group of individuals who share your passion for music!
URL:https://wayneseniorcenter.org/event/fool-around-with-ukes-in-center-4/
END:VEVENT
BEGIN:VEVENT
DTSTART;TZID=UTC:20240221T150000
DTEND;TZID=UTC:20240221T160000
DTSTAMP:20260422T001130
CREATED:20240126T221434Z
LAST-MODIFIED:20240126T221434Z
UID:13086-1708527600-1708531200@wayneseniorcenter.org
SUMMARY:Memoir Writing (Virtual)
DESCRIPTION:Join Sara Wenger\, MFA for a memoir writing workshop. Sara will share memoir excerpts as well as writing exercises to help you write your unique life experiences so they can be passed on to children\, grandchildren\, friends and others. No prior writing experience is necessary! The class is appropriate for both novice and seasoned writers
URL:https://wayneseniorcenter.org/event/memoir-writing-virtual-5/
END:VEVENT
BEGIN:VEVENT
DTSTART;TZID=UTC:20240222T093000
DTEND;TZID=UTC:20240222T103000
DTSTAMP:20260422T001130
CREATED:20240126T221634Z
LAST-MODIFIED:20240126T221634Z
UID:13092-1708594200-1708597800@wayneseniorcenter.org
SUMMARY:Zumba Gold (In Center)
DESCRIPTION:Keep your body moving\, enjoy lively music\, and have fun dancing your cares away. $3 members / $6 non-members
URL:https://wayneseniorcenter.org/event/zumba-gold-in-center-19/
END:VEVENT
BEGIN:VEVENT
DTSTART;TZID=UTC:20240222T101500
DTEND;TZID=UTC:20240222T110000
DTSTAMP:20260422T001130
CREATED:20240126T221635Z
LAST-MODIFIED:20240126T221635Z
UID:13093-1708596900-1708599600@wayneseniorcenter.org
SUMMARY:Healthy Measures Cooking Demo: Amazing Low Sodium Soups! (In Center)
DESCRIPTION:Say goodbye to boring soups! In this fun and interactive cooking class you will learn the soup recipes to create delicious\, healthy soups with simple pantry ingredients! Presented by Healthy Measures.
URL:https://wayneseniorcenter.org/event/healthy-measures-cooking-demo-amazing-low-sodium-soups-in-center/
END:VEVENT
BEGIN:VEVENT
DTSTART;TZID=UTC:20240222T110000
DTEND;TZID=UTC:20240222T120000
DTSTAMP:20260422T001130
CREATED:20240126T221634Z
LAST-MODIFIED:20240126T221634Z
UID:13090-1708599600-1708603200@wayneseniorcenter.org
SUMMARY:Sit\, Move\, Stretch (In Center)
DESCRIPTION:Gentle Movement\, stretching\, and relaxation. Free for WSC members\, $3 for non-members. RSVP by calling the center – (610) 688-6246
URL:https://wayneseniorcenter.org/event/sit-move-stretch-in-center-19/
END:VEVENT
BEGIN:VEVENT
DTSTART;TZID=UTC:20240222T120000
DTEND;TZID=UTC:20240222T130000
DTSTAMP:20260422T001130
CREATED:20240126T221634Z
LAST-MODIFIED:20240126T221634Z
UID:13091-1708603200-1708606800@wayneseniorcenter.org
SUMMARY:The Men's Group (In Center)
DESCRIPTION:From family stories\, thoughts on retirement\, to the news and a good joke\, come enjoy the company of other men! This men’s only meeting is an opportunity to chat about whatever is on your mind. You may enjoy the Center lunch or bring your own if you wish. Drinks and dessert will be provided.
URL:https://wayneseniorcenter.org/event/the-mens-group-in-center-5/
END:VEVENT
BEGIN:VEVENT
DTSTART;TZID=UTC:20240222T130000
DTEND;TZID=UTC:20240222T150000
DTSTAMP:20260422T001130
CREATED:20240126T221434Z
LAST-MODIFIED:20240126T221434Z
UID:13089-1708606800-1708614000@wayneseniorcenter.org
SUMMARY:Cards and Games: Open Play (In Center)
DESCRIPTION:Join us for an afternoon playing games of your choice- Poker\, gin rummy\, pinochle\, mahjong etc. Meet a new friend and start a game of your own. Mahjong teachers/leaders feel free to bring your game set!
URL:https://wayneseniorcenter.org/event/cards-and-games-open-play-in-center-19/
END:VEVENT
BEGIN:VEVENT
DTSTART;TZID=UTC:20240223T103000
DTEND;TZID=UTC:20240223T113000
DTSTAMP:20260422T001130
CREATED:20240126T221635Z
LAST-MODIFIED:20240126T221635Z
UID:13094-1708684200-1708687800@wayneseniorcenter.org
SUMMARY:Chair Yoga (In Person and Virtual)
DESCRIPTION:A well-rounded class that will help with balance\, strengthening\, and relaxation. Have a sturdy chair available. All abilities welcome. In-Person fees – $3 for WSC members\, $6 for non-members.
URL:https://wayneseniorcenter.org/event/chair-yoga-in-person-and-virtual-15/
END:VEVENT
BEGIN:VEVENT
DTSTART;TZID=UTC:20240226T100000
DTEND;TZID=UTC:20240226T120000
DTSTAMP:20260422T001130
CREATED:20240126T221834Z
LAST-MODIFIED:20240126T221834Z
UID:13095-1708941600-1708948800@wayneseniorcenter.org
SUMMARY:Refresher Bridge (In Center)
DESCRIPTION:Brush up on your bridge skills with Lawrie Stetson and Dave Heron. Must have previous bridge experience.
URL:https://wayneseniorcenter.org/event/refresher-bridge-in-center-18/
END:VEVENT
BEGIN:VEVENT
DTSTART;TZID=UTC:20240226T100000
DTEND;TZID=UTC:20240226T120000
DTSTAMP:20260422T001130
CREATED:20240126T221835Z
LAST-MODIFIED:20240126T221835Z
UID:13097-1708941600-1708948800@wayneseniorcenter.org
SUMMARY:WSC Quilters (In Center)
DESCRIPTION:WSC quiliting club. All skill levels Welcome. Come by or RSVP by calling the center – (610) 688-6246
URL:https://wayneseniorcenter.org/event/wsc-quilters-in-center-18/
END:VEVENT
BEGIN:VEVENT
DTSTART;TZID=UTC:20240226T123000
DTEND;TZID=UTC:20240226T133000
DTSTAMP:20260422T001130
CREATED:20240126T221835Z
LAST-MODIFIED:20240126T221835Z
UID:13098-1708950600-1708954200@wayneseniorcenter.org
SUMMARY:Silver Singles: Dating Over 50 (In Center)
DESCRIPTION:Join Destinie as she explored the top-rated dating sites for singles over the age of 50. During this program you will learn how to navigate the Silver Singles dating app\, learn tips on how to date online safely\, and how the Wayne Senior Center can help facilitate your pursuit of maintaining healthy relationships.
URL:https://wayneseniorcenter.org/event/silver-singles-dating-over-50-in-center/
END:VEVENT
BEGIN:VEVENT
DTSTART;TZID=UTC:20240226T130000
DTEND;TZID=UTC:20240226T140000
DTSTAMP:20260422T001130
CREATED:20240126T221834Z
LAST-MODIFIED:20240126T221834Z
UID:13096-1708952400-1708956000@wayneseniorcenter.org
SUMMARY:Strength and Balance (Virtual)
DESCRIPTION:Move\, stretch\, and improve your balance\, both seated and standing\, along with instructor Cathi from home. All abilities welcome!
URL:https://wayneseniorcenter.org/event/strength-and-balance-virtual-18/
END:VEVENT
BEGIN:VEVENT
DTSTART;TZID=UTC:20240227T090000
DTEND;TZID=UTC:20240227T110000
DTSTAMP:20260422T001130
CREATED:20240126T221944Z
LAST-MODIFIED:20240126T221944Z
UID:13102-1709024400-1709031600@wayneseniorcenter.org
SUMMARY:Tech Tuesday (In Center)
DESCRIPTION:Tuesdays from 11am – 1pm stop in to chat Technology. Stop by between programs\, after grabbing some lunch\, or whenever is convenient for you. Bring specific questions about your device or come in to explore Wayne Senior Center iPads in a no-pressure environment. Or\, come by to share recent accomplishments or knowledge you’d like to share with others\, or just stop in to say hi and learn something new. Stop by during this time or email Francis at francis@wayneseniorcenter.org to make an appointment.
URL:https://wayneseniorcenter.org/event/tech-tuesday-in-center-19/
END:VEVENT
BEGIN:VEVENT
DTSTART;TZID=UTC:20240227T110000
DTEND;TZID=UTC:20240227T120000
DTSTAMP:20260422T001130
CREATED:20240126T221944Z
LAST-MODIFIED:20240126T221944Z
UID:13101-1709031600-1709035200@wayneseniorcenter.org
SUMMARY:Sit\, Move\, Stretch (In Center and Virtual)
DESCRIPTION:This class offers seated or standing: cardio movement\, strengthening\, deep breathing\, and stretching. In-Person fees – free for WSC members\, $3 for non-members.
URL:https://wayneseniorcenter.org/event/sit-move-stretch-in-center-and-virtual-19/
END:VEVENT
BEGIN:VEVENT
DTSTART;TZID=UTC:20240227T120000
DTEND;TZID=UTC:20240227T130000
DTSTAMP:20260422T001130
CREATED:20240126T221835Z
LAST-MODIFIED:20240126T221835Z
UID:13099-1709035200-1709038800@wayneseniorcenter.org
SUMMARY:Let's Do Lunch! - Fan Favorites (In Center)
DESCRIPTION:Let’s do lunch together in the Center! Continuing with the principles of the Blue Zone\, we enjoy the bounty of the season this month with roasted soups\, roasted and toasted salads (featuring a different great grain each week)\, and a sweet treat from The Blue Zone Cookbook. Enjoy an additional healthy crafter option from our very own kitchen. The menu will change weekly. $5 for members\, $8 for non-members. Call for more information and to reserve a meal\, limited servings available – (610)688-6246
URL:https://wayneseniorcenter.org/event/lets-do-lunch-fan-favorites-in-center-2/
END:VEVENT
BEGIN:VEVENT
DTSTART;TZID=UTC:20240227T123000
DTEND;TZID=UTC:20240227T130000
DTSTAMP:20260422T001130
CREATED:20240126T221944Z
LAST-MODIFIED:20240126T221944Z
UID:13100-1709037000-1709038800@wayneseniorcenter.org
SUMMARY:Mindfulness (In Center)
DESCRIPTION:Practicing mindfulness provides countless benefits to our overall well-being. Join instructor Liz for an hour of virtual mindfulness.
URL:https://wayneseniorcenter.org/event/mindfulness-in-center-13/
END:VEVENT
BEGIN:VEVENT
DTSTART;TZID=UTC:20240228T100000
DTEND;TZID=UTC:20240228T110000
DTSTAMP:20260422T001130
CREATED:20240126T221945Z
LAST-MODIFIED:20240126T221945Z
UID:13103-1709114400-1709118000@wayneseniorcenter.org
SUMMARY:Coffee with Chaplains (In Center)
DESCRIPTION:Enjoy coffee\, pastries\, and meaningful discussion with a visiting Radnor Police Chaplain.
URL:https://wayneseniorcenter.org/event/coffee-with-chaplains-in-center-5/
END:VEVENT
BEGIN:VEVENT
DTSTART;TZID=UTC:20240228T100000
DTEND;TZID=UTC:20240228T110000
DTSTAMP:20260422T001130
CREATED:20240126T222000Z
LAST-MODIFIED:20240126T222000Z
UID:13106-1709114400-1709118000@wayneseniorcenter.org
SUMMARY:Strength and Cardio (Virtual)
DESCRIPTION:Move\, stretch\, and tone both seated and standing along with instructor Cathi from home. All abilities welcome!
URL:https://wayneseniorcenter.org/event/strength-and-cardio-virtual-21/
END:VEVENT
BEGIN:VEVENT
DTSTART;TZID=UTC:20240228T110000
DTEND;TZID=UTC:20240228T120000
DTSTAMP:20260422T001130
CREATED:20240126T221945Z
LAST-MODIFIED:20240126T221945Z
UID:13104-1709118000-1709121600@wayneseniorcenter.org
SUMMARY:Pageturners Bookclub (In Center)
DESCRIPTION:Book club returns! This month’s selection is “The Art Thief” by Michael Finkel. Enjoy lively book conversation with a Radnor Memorial Library librarian. All are welcome! Call for more info – (610)688-6246
URL:https://wayneseniorcenter.org/event/pageturners-bookclub-in-center-5/
END:VEVENT
BEGIN:VEVENT
DTSTART;TZID=UTC:20240228T110000
DTEND;TZID=UTC:20240228T120000
DTSTAMP:20260422T001130
CREATED:20240126T222000Z
LAST-MODIFIED:20240126T222000Z
UID:13107-1709118000-1709121600@wayneseniorcenter.org
SUMMARY:Tai Chi (In Center and Virtual)
DESCRIPTION:Tai Chi is a gentle form of exercise involving a series of graceful movements performed in a slow\, focused manner and accompanied by deep breathing. Excellent for strengthening balance and promoting stress reduction. In-Person fees – $5 for WSC members\, $10 for non-members.
URL:https://wayneseniorcenter.org/event/tai-chi-in-center-and-virtual-21/
END:VEVENT
BEGIN:VEVENT
DTSTART;TZID=UTC:20240228T120000
DTEND;TZID=UTC:20240228T140000
DTSTAMP:20260422T001130
CREATED:20240126T221959Z
LAST-MODIFIED:20240126T222853Z
UID:13105-1709121600-1709128800@wayneseniorcenter.org
SUMMARY:Pizza and a Movie: Maestro (In Center)
DESCRIPTION:Join us for a viewing of the film\, Maestro (2023)\, a biographical drama film that focuses on the relationship between American composer Leonard Bernstein and his wife Felicia Montealegre. $3 for WSC members\, $6 for non-members.
URL:https://wayneseniorcenter.org/event/pizza-and-a-movie-maestro-in-center/
END:VEVENT
BEGIN:VEVENT
DTSTART;TZID=UTC:20240229T093000
DTEND;TZID=UTC:20240229T103000
DTSTAMP:20260422T001130
CREATED:20240126T222201Z
LAST-MODIFIED:20240126T222201Z
UID:13111-1709199000-1709202600@wayneseniorcenter.org
SUMMARY:Zumba Gold (In Center)
DESCRIPTION:Keep your body moving\, enjoy lively music\, and have fun dancing your cares away. $3 members / $6 non-members
URL:https://wayneseniorcenter.org/event/zumba-gold-in-center-20/
END:VEVENT
BEGIN:VEVENT
DTSTART;TZID=UTC:20240229T101500
DTEND;TZID=UTC:20240229T110000
DTSTAMP:20260422T001130
CREATED:20240126T222201Z
LAST-MODIFIED:20240126T222201Z
UID:13112-1709201700-1709204400@wayneseniorcenter.org
SUMMARY:Healthy Measures Cooking Demo: Cooking for One! (In Center)
DESCRIPTION:When you have spent decades cooking for a household of growing children it can be challenging to scale back your cooking and recipes for yourself. The problem is worse when you’re on a fixed budget and there just isn’t money to waste. Cooking for one IS doable though\, you just have to know how to plan and make a few adjustments! Presented by Healthy Measures.
URL:https://wayneseniorcenter.org/event/healthy-measures-cooking-demo-cooking-for-one-in-center/
END:VEVENT
BEGIN:VEVENT
DTSTART;TZID=UTC:20240229T110000
DTEND;TZID=UTC:20240229T120000
DTSTAMP:20260422T001130
CREATED:20240126T222200Z
LAST-MODIFIED:20240126T222200Z
UID:13110-1709204400-1709208000@wayneseniorcenter.org
SUMMARY:Sit\, Move\, Stretch (In Center)
DESCRIPTION:Gentle Movement\, stretching\, and relaxation. Free for WSC members\, $3 for non-members. RSVP by calling the center – (610) 688-6246
URL:https://wayneseniorcenter.org/event/sit-move-stretch-in-center-20/
END:VEVENT
BEGIN:VEVENT
DTSTART;TZID=UTC:20240229T120000
DTEND;TZID=UTC:20240229T130000
DTSTAMP:20260422T001130
CREATED:20240126T222000Z
LAST-MODIFIED:20240126T222000Z
UID:13109-1709208000-1709211600@wayneseniorcenter.org
SUMMARY:February Birthday Lunch! (In Center)
DESCRIPTION:Join us to celebrate members who have birthdays this month! We will exchange cards\, sing songs\, and eat cake!
URL:https://wayneseniorcenter.org/event/february-birthday-lunch-in-center/
END:VEVENT
END:VCALENDAR