BEGIN:VCALENDAR
VERSION:2.0
PRODID:-//Wayne Senior Center - ECPv6.15.20//NONSGML v1.0//EN
CALSCALE:GREGORIAN
METHOD:PUBLISH
X-WR-CALNAME:Wayne Senior Center
X-ORIGINAL-URL:https://wayneseniorcenter.org
X-WR-CALDESC:Events for Wayne Senior Center
REFRESH-INTERVAL;VALUE=DURATION:PT1H
X-Robots-Tag:noindex
X-PUBLISHED-TTL:PT1H
BEGIN:VTIMEZONE
TZID:UTC
BEGIN:STANDARD
TZOFFSETFROM:+0000
TZOFFSETTO:+0000
TZNAME:UTC
DTSTART:20230101T000000
END:STANDARD
END:VTIMEZONE
BEGIN:VEVENT
DTSTART;TZID=UTC:20240408T100000
DTEND;TZID=UTC:20240408T120000
DTSTAMP:20260422T035444
CREATED:20240326T182407Z
LAST-MODIFIED:20240326T182407Z
UID:13370-1712570400-1712577600@wayneseniorcenter.org
SUMMARY:WSC Quilters (In Center)
DESCRIPTION:WSC quiliting club. All skill levels Welcome. Come by or RSVP by calling the center – (610) 688-6246
URL:https://wayneseniorcenter.org/event/wsc-quilters-in-center-24/
END:VEVENT
BEGIN:VEVENT
DTSTART;TZID=UTC:20240408T110000
DTEND;TZID=UTC:20240408T120000
DTSTAMP:20260422T035444
CREATED:20240326T182420Z
LAST-MODIFIED:20240417T131803Z
UID:13371-1712574000-1712577600@wayneseniorcenter.org
SUMMARY:Soul Line Dance (In Center)
DESCRIPTION:Kenny James will get you moving and grooving in a fun\, easy to learn dance class. No experience necessary – all can join. $3 members / $6 non-members.
URL:https://wayneseniorcenter.org/event/soul-line-dance-in-center-2/
END:VEVENT
BEGIN:VEVENT
DTSTART;TZID=UTC:20240408T130000
DTEND;TZID=UTC:20240408T140000
DTSTAMP:20260422T035444
CREATED:20240326T182406Z
LAST-MODIFIED:20240326T182406Z
UID:13369-1712581200-1712584800@wayneseniorcenter.org
SUMMARY:Strength and Balance (Virtual)
DESCRIPTION:Move\, stretch\, and improve your balance\, both seated and standing\, along with instructor Cathi from home. All abilities welcome!
URL:https://wayneseniorcenter.org/event/strength-and-balance-virtual-24/
END:VEVENT
BEGIN:VEVENT
DTSTART;TZID=UTC:20240408T130000
DTEND;TZID=UTC:20240408T150000
DTSTAMP:20260422T035444
CREATED:20240326T182405Z
LAST-MODIFIED:20240326T184659Z
UID:13366-1712581200-1712588400@wayneseniorcenter.org
SUMMARY:Classic Movie Matinee: Steel Magnolias (1989)  (In Center)
DESCRIPTION:Join us for a viewing of the film\, Steel Magnolias (1989)\, a comedy-drama film starring Sally Field\, Dolly Parton\, Shirley MacLaine\, Daryl Hannah\, Olympia Dukakis\, and Julia Roberts.
URL:https://wayneseniorcenter.org/event/classic-movie-matinee-steel-magnolias-1989-in-center/
END:VEVENT
BEGIN:VEVENT
DTSTART;TZID=UTC:20240408T140000
DTEND;TZID=UTC:20240408T150000
DTSTAMP:20260422T035444
CREATED:20240326T182406Z
LAST-MODIFIED:20240326T182406Z
UID:13368-1712584800-1712588400@wayneseniorcenter.org
SUMMARY:Seasons: Grief and Loss Group (In Center)
DESCRIPTION:Join others in a safe space to listen\, share\, and heal in conversation about losses you have experienced. We will learn how grief can affect our everyday life and ways to manage the range of feelings and symptoms.
URL:https://wayneseniorcenter.org/event/seasons-grief-and-loss-group-in-center-9/
END:VEVENT
BEGIN:VEVENT
DTSTART;TZID=UTC:20240409T090000
DTEND;TZID=UTC:20240409T110000
DTSTAMP:20260422T035444
CREATED:20240326T182422Z
LAST-MODIFIED:20240326T182422Z
UID:13375-1712653200-1712660400@wayneseniorcenter.org
SUMMARY:Tech Tuesday (In Center)
DESCRIPTION:Tuesdays from 11am – 1pm stop in to chat Technology. Stop by between programs\, after grabbing some lunch\, or whenever is convenient for you. Bring specific questions about your device or come in to explore Wayne Senior Center iPads in a no-pressure environment. Or\, come by to share recent accomplishments or knowledge you’d like to share with others\, or just stop in to say hi and learn something new. Stop by during this time or email Francis at francis@wayneseniorcenter.org to make an appointment.
URL:https://wayneseniorcenter.org/event/tech-tuesday-in-center-25/
END:VEVENT
BEGIN:VEVENT
DTSTART;TZID=UTC:20240409T110000
DTEND;TZID=UTC:20240409T120000
DTSTAMP:20260422T035444
CREATED:20240326T182421Z
LAST-MODIFIED:20240326T182421Z
UID:13374-1712660400-1712664000@wayneseniorcenter.org
SUMMARY:Sit\, Move\, Stretch (In Center and Virtual)
DESCRIPTION:This class offers seated or standing: cardio movement\, strengthening\, deep breathing\, and stretching. In-Person fees – free for WSC members\, $3 for non-members.
URL:https://wayneseniorcenter.org/event/sit-move-stretch-in-center-and-virtual-25/
END:VEVENT
BEGIN:VEVENT
DTSTART;TZID=UTC:20240409T120000
DTEND;TZID=UTC:20240409T130000
DTSTAMP:20260422T035444
CREATED:20240326T182421Z
LAST-MODIFIED:20240326T182421Z
UID:13372-1712664000-1712667600@wayneseniorcenter.org
SUMMARY:Let's Do Brunch! (In Center)
DESCRIPTION:Join us for brunch – we’ll be offering tasy brunch options that we know you’ll love! Please see the menu in the newsletter for details on each meal. $5 members / $8 non-members. RSVP required\, in-center dining only.
URL:https://wayneseniorcenter.org/event/lets-do-brunch-in-center-2/
END:VEVENT
BEGIN:VEVENT
DTSTART;TZID=UTC:20240409T123000
DTEND;TZID=UTC:20240409T130000
DTSTAMP:20260422T035444
CREATED:20240326T182421Z
LAST-MODIFIED:20240326T182421Z
UID:13373-1712665800-1712667600@wayneseniorcenter.org
SUMMARY:Mindfulness (In Center)
DESCRIPTION:Practicing mindfulness provides countless benefits to our overall well-being. Join instructor Liz for an hour of virtual mindfulness.
URL:https://wayneseniorcenter.org/event/mindfulness-in-center-18/
END:VEVENT
BEGIN:VEVENT
DTSTART;TZID=UTC:20240410T100000
DTEND;TZID=UTC:20240410T110000
DTSTAMP:20260422T035444
CREATED:20240326T182435Z
LAST-MODIFIED:20240326T182435Z
UID:13376-1712743200-1712746800@wayneseniorcenter.org
SUMMARY:Drums Alive (In Center)
DESCRIPTION:Join us for a fun\, rhythmic\, seated exercise class that gets you moving and grooving!
URL:https://wayneseniorcenter.org/event/drums-alive-in-center-19/
END:VEVENT
BEGIN:VEVENT
DTSTART;TZID=UTC:20240410T100000
DTEND;TZID=UTC:20240410T110000
DTSTAMP:20260422T035444
CREATED:20240326T182436Z
LAST-MODIFIED:20240326T182436Z
UID:13378-1712743200-1712746800@wayneseniorcenter.org
SUMMARY:Strength and Cardio (Virtual)
DESCRIPTION:Move\, stretch\, and tone both seated and standing along with instructor Cathi from home. All abilities welcome!
URL:https://wayneseniorcenter.org/event/strength-and-cardio-virtual-27/
END:VEVENT
BEGIN:VEVENT
DTSTART;TZID=UTC:20240410T110000
DTEND;TZID=UTC:20240410T120000
DTSTAMP:20260422T035444
CREATED:20240326T182436Z
LAST-MODIFIED:20240326T182436Z
UID:13379-1712746800-1712750400@wayneseniorcenter.org
SUMMARY:Tai Chi (In Center and Virtual)
DESCRIPTION:Tai Chi is a gentle form of exercise involving a series of graceful movements performed in a slow\, focused manner and accompanied by deep breathing. Excellent for strengthening balance and promoting stress reduction. In-Person fees – $5 for WSC members\, $10 for non-members.
URL:https://wayneseniorcenter.org/event/tai-chi-in-center-and-virtual-27/
END:VEVENT
BEGIN:VEVENT
DTSTART;TZID=UTC:20240410T123000
DTEND;TZID=UTC:20240410T133000
DTSTAMP:20260422T035444
CREATED:20240326T182436Z
LAST-MODIFIED:20240326T182436Z
UID:13377-1712752200-1712755800@wayneseniorcenter.org
SUMMARY:Fooling with Ukes (In Center)
DESCRIPTION:Dust off your ukes and join Barbara Van Clief (Barley) for a few practice sessions. Learn to play various popular songs with a group of individuals who share your passion for music!
URL:https://wayneseniorcenter.org/event/fooling-with-ukes-in-center/
END:VEVENT
BEGIN:VEVENT
DTSTART;TZID=UTC:20240411T093000
DTEND;TZID=UTC:20240411T103000
DTSTAMP:20260422T035444
CREATED:20240326T182452Z
LAST-MODIFIED:20240326T182452Z
UID:13384-1712827800-1712831400@wayneseniorcenter.org
SUMMARY:Zumba Gold (In Center)
DESCRIPTION:Keep your body moving\, enjoy lively music\, and have fun dancing your cares away. $3 members / $6 non-members
URL:https://wayneseniorcenter.org/event/zumba-gold-in-center-26/
END:VEVENT
BEGIN:VEVENT
DTSTART;TZID=UTC:20240411T110000
DTEND;TZID=UTC:20240411T120000
DTSTAMP:20260422T035444
CREATED:20240326T182451Z
LAST-MODIFIED:20240326T182451Z
UID:13381-1712833200-1712836800@wayneseniorcenter.org
SUMMARY:Sit\, Move\, Stretch (In Center)
DESCRIPTION:Gentle Movement\, stretching\, and relaxation. Free for WSC members\, $3 for non-members. RSVP by calling the center – (610) 688-6246
URL:https://wayneseniorcenter.org/event/sit-move-stretch-in-center-25/
END:VEVENT
BEGIN:VEVENT
DTSTART;TZID=UTC:20240411T120000
DTEND;TZID=UTC:20240411T130000
DTSTAMP:20260422T035444
CREATED:20240326T182451Z
LAST-MODIFIED:20240326T182451Z
UID:13383-1712836800-1712840400@wayneseniorcenter.org
SUMMARY:The Men's Group (In Center)
DESCRIPTION:From family stories\, thoughts on retirement\, to the news and a good joke\, come enjoy the company of other men! This men’s only meeting is an opportunity to chat about whatever is on your mind. You may enjoy the Center lunch or bring your own if you wish. Drinks and dessert will be provided.
URL:https://wayneseniorcenter.org/event/the-mens-group-in-center-7/
END:VEVENT
BEGIN:VEVENT
DTSTART;TZID=UTC:20240411T121500
DTEND;TZID=UTC:20240411T130000
DTSTAMP:20260422T035444
CREATED:20240326T182452Z
LAST-MODIFIED:20240326T182452Z
UID:13385-1712837700-1712840400@wayneseniorcenter.org
SUMMARY:Shipley Kindergarten Visit (In Center)
DESCRIPTION:Kindergarteners from Shipley will visit the center to mingle with folks during lunch!
URL:https://wayneseniorcenter.org/event/shipley-kindergarten-visit-in-center/
END:VEVENT
BEGIN:VEVENT
DTSTART;TZID=UTC:20240411T123000
DTEND;TZID=UTC:20240411T133000
DTSTAMP:20260422T035444
CREATED:20240326T182451Z
LAST-MODIFIED:20240326T182451Z
UID:13382-1712838600-1712842200@wayneseniorcenter.org
SUMMARY:Tai Chi (In Center)
DESCRIPTION:New Time / Additional Class – Tai Chi is a gentle form of exercise involving a series of graceful movements performed in a slow\, focused manner and accompanied by deep breathing. Excellent for strengthening balance and promoting stress reduction. In-Person fees – $5 for WSC members\, $10 for non-members.
URL:https://wayneseniorcenter.org/event/tai-chi-in-center-2/
END:VEVENT
BEGIN:VEVENT
DTSTART;TZID=UTC:20240411T130000
DTEND;TZID=UTC:20240411T150000
DTSTAMP:20260422T035444
CREATED:20240326T182437Z
LAST-MODIFIED:20240326T182437Z
UID:13380-1712840400-1712847600@wayneseniorcenter.org
SUMMARY:Cards and Games: Open Play (In Center)
DESCRIPTION:Join us for an afternoon playing games of your choice- Poker\, gin rummy\, pinochle\, mahjong etc. Meet a new friend and start a game of your own. Mahjong teachers/leaders feel free to bring your game set!
URL:https://wayneseniorcenter.org/event/cards-and-games-open-play-in-center-26/
END:VEVENT
BEGIN:VEVENT
DTSTART;TZID=UTC:20240412T103000
DTEND;TZID=UTC:20240412T113000
DTSTAMP:20260422T035444
CREATED:20240326T182506Z
LAST-MODIFIED:20240326T182506Z
UID:13386-1712917800-1712921400@wayneseniorcenter.org
SUMMARY:Chair Yoga (In Person and Virtual)
DESCRIPTION:A well-rounded class that will help with balance\, strengthening\, and relaxation. Have a sturdy chair available. All abilities welcome. In-Person fees – $3 for WSC members\, $6 for non-members.
URL:https://wayneseniorcenter.org/event/chair-yoga-in-person-and-virtual-21/
END:VEVENT
BEGIN:VEVENT
DTSTART;TZID=UTC:20240415T100000
DTEND;TZID=UTC:20240415T120000
DTSTAMP:20260422T035444
CREATED:20240326T182506Z
LAST-MODIFIED:20240326T182506Z
UID:13387-1713175200-1713182400@wayneseniorcenter.org
SUMMARY:Refresher Bridge (In Center)
DESCRIPTION:Brush up on your bridge skills with Lawrie Stetson and Dave Heron. Must have previous bridge experience.
URL:https://wayneseniorcenter.org/event/refresher-bridge-in-center-25/
END:VEVENT
BEGIN:VEVENT
DTSTART;TZID=UTC:20240415T100000
DTEND;TZID=UTC:20240415T120000
DTSTAMP:20260422T035444
CREATED:20240326T182507Z
LAST-MODIFIED:20240326T182507Z
UID:13389-1713175200-1713182400@wayneseniorcenter.org
SUMMARY:WSC Quilters (In Center)
DESCRIPTION:WSC quiliting club. All skill levels Welcome. Come by or RSVP by calling the center – (610) 688-6246
URL:https://wayneseniorcenter.org/event/wsc-quilters-in-center-25/
END:VEVENT
BEGIN:VEVENT
DTSTART;TZID=UTC:20240415T110000
DTEND;TZID=UTC:20240415T120000
DTSTAMP:20260422T035444
CREATED:20240326T182507Z
LAST-MODIFIED:20240417T131809Z
UID:13390-1713178800-1713182400@wayneseniorcenter.org
SUMMARY:Soul Line Dance (In Center)
DESCRIPTION:Kenny James will get you moving and grooving in a fun\, easy to learn dance class. No experience necessary – all can join. $3 members / $6 non-members.
URL:https://wayneseniorcenter.org/event/soul-line-dance-in-center-3/
END:VEVENT
BEGIN:VEVENT
DTSTART;TZID=UTC:20240415T130000
DTEND;TZID=UTC:20240415T140000
DTSTAMP:20260422T035444
CREATED:20240326T182506Z
LAST-MODIFIED:20240326T182506Z
UID:13388-1713186000-1713189600@wayneseniorcenter.org
SUMMARY:Strength and Balance (Virtual)
DESCRIPTION:Move\, stretch\, and improve your balance\, both seated and standing\, along with instructor Cathi from home. All abilities welcome!
URL:https://wayneseniorcenter.org/event/strength-and-balance-virtual-25/
END:VEVENT
BEGIN:VEVENT
DTSTART;TZID=UTC:20240415T140000
DTEND;TZID=UTC:20240415T150000
DTSTAMP:20260422T035444
CREATED:20240326T182521Z
LAST-MODIFIED:20240326T182521Z
UID:13391-1713189600-1713193200@wayneseniorcenter.org
SUMMARY:Expressing Writing (Virtual)
DESCRIPTION:To celebrate National Poetry Month\, Sara Wenger will lead a special poetry program.
URL:https://wayneseniorcenter.org/event/expressing-writing-virtual/
END:VEVENT
BEGIN:VEVENT
DTSTART;TZID=UTC:20240416T090000
DTEND;TZID=UTC:20240416T110000
DTSTAMP:20260422T035444
CREATED:20240326T182522Z
LAST-MODIFIED:20240326T182522Z
UID:13395-1713258000-1713265200@wayneseniorcenter.org
SUMMARY:Tech Tuesday (In Center)
DESCRIPTION:Tuesdays from 11am – 1pm stop in to chat Technology. Stop by between programs\, after grabbing some lunch\, or whenever is convenient for you. Bring specific questions about your device or come in to explore Wayne Senior Center iPads in a no-pressure environment. Or\, come by to share recent accomplishments or knowledge you’d like to share with others\, or just stop in to say hi and learn something new. Stop by during this time or email Francis at francis@wayneseniorcenter.org to make an appointment.
URL:https://wayneseniorcenter.org/event/tech-tuesday-in-center-26/
END:VEVENT
BEGIN:VEVENT
DTSTART;TZID=UTC:20240416T100000
DTEND;TZID=UTC:20240416T110000
DTSTAMP:20260422T035444
CREATED:20240326T182722Z
LAST-MODIFIED:20240326T184641Z
UID:13396-1713261600-1713265200@wayneseniorcenter.org
SUMMARY:Smart Phone Tips: Emergency SOS (In Center)
DESCRIPTION:iPhone and Android both include features that allow you to quickly call for help in an emergency. Learn how to set your emergency contacts and explore the settings and features that your phone offers for emergency situations. Any type of phone is welcome – iPhone\, Android\, flip phone\, etc.
URL:https://wayneseniorcenter.org/event/smart-phone-tips-emergency-sos-in-center-2/
END:VEVENT
BEGIN:VEVENT
DTSTART;TZID=UTC:20240416T110000
DTEND;TZID=UTC:20240416T120000
DTSTAMP:20260422T035444
CREATED:20240326T182521Z
LAST-MODIFIED:20240326T182521Z
UID:13394-1713265200-1713268800@wayneseniorcenter.org
SUMMARY:Sit\, Move\, Stretch (In Center and Virtual)
DESCRIPTION:This class offers seated or standing: cardio movement\, strengthening\, deep breathing\, and stretching. In-Person fees – free for WSC members\, $3 for non-members.
URL:https://wayneseniorcenter.org/event/sit-move-stretch-in-center-and-virtual-26/
END:VEVENT
BEGIN:VEVENT
DTSTART;TZID=UTC:20240416T120000
DTEND;TZID=UTC:20240416T130000
DTSTAMP:20260422T035444
CREATED:20240326T182521Z
LAST-MODIFIED:20240326T182521Z
UID:13392-1713268800-1713272400@wayneseniorcenter.org
SUMMARY:Let's Do Brunch! (In Center)
DESCRIPTION:Join us for brunch – we’ll be offering tasy brunch options that we know you’ll love! Please see the menu in the newsletter for details on each meal. $5 members / $8 non-members. RSVP required\, in-center dining only.
URL:https://wayneseniorcenter.org/event/lets-do-brunch-in-center-3/
END:VEVENT
BEGIN:VEVENT
DTSTART;TZID=UTC:20240416T123000
DTEND;TZID=UTC:20240416T130000
DTSTAMP:20260422T035444
CREATED:20240326T182521Z
LAST-MODIFIED:20240326T182521Z
UID:13393-1713270600-1713272400@wayneseniorcenter.org
SUMMARY:Mindfulness (In Center)
DESCRIPTION:Practicing mindfulness provides countless benefits to our overall well-being. Join instructor Liz for an hour of virtual mindfulness.
URL:https://wayneseniorcenter.org/event/mindfulness-in-center-19/
END:VEVENT
END:VCALENDAR